Back to Multiple platform build/check report for BioC 3.13
ABCDEFGHIJKLMNO[P]QRSTUVWXYZ

This page was generated on 2021-09-20 15:05:24 -0400 (Mon, 20 Sep 2021).

BUILD results for psygenet2r on tokay2

To the developers/maintainers of the psygenet2r package:
- Please allow up to 24 hours (and sometimes 48 hours) for your latest push to git@git.bioconductor.org:packages/psygenet2r.git to
reflect on this report. See How and When does the builder pull? When will my changes propagate? here for more information.
- Make sure to use the following settings in order to reproduce any error or warning you see on this page.

raw results

Package 1456/2041HostnameOS / ArchINSTALLBUILDCHECKBUILD BIN
psygenet2r 1.24.0  (landing page)
Alba Gutierrez-Sacristan
Snapshot Date: 2021-09-19 04:50:10 -0400 (Sun, 19 Sep 2021)
git_url: https://git.bioconductor.org/packages/psygenet2r
git_branch: RELEASE_3_13
git_last_commit: 7a013f8
git_last_commit_date: 2021-05-19 12:18:38 -0400 (Wed, 19 May 2021)
nebbiolo1Linux (Ubuntu 20.04.2 LTS) / x86_64  OK    OK    OK  UNNEEDED, same version is already published
tokay2Windows Server 2012 R2 Standard / x64  OK    OK    OK    OK  UNNEEDED, same version is already published
machv2macOS 10.14.6 Mojave / x86_64  OK    OK    OK    OK  UNNEEDED, same version is already published

Summary

Package: psygenet2r
Version: 1.24.0
Command: chmod a+r psygenet2r -R && C:\Users\biocbuild\bbs-3.13-bioc\R\bin\R.exe CMD build --keep-empty-dirs --no-resave-data psygenet2r
StartedAt: 2021-09-19 16:34:47 -0400 (Sun, 19 Sep 2021)
EndedAt: 2021-09-19 16:43:14 -0400 (Sun, 19 Sep 2021)
EllapsedTime: 507.2 seconds
RetCode: 0
Status:   OK  
PackageFile: psygenet2r_1.24.0.tar.gz
PackageFileSize: 1.457 MiB

Command output

##############################################################################
##############################################################################
###
### Running command:
###
###   chmod a+r psygenet2r -R && C:\Users\biocbuild\bbs-3.13-bioc\R\bin\R.exe CMD build --keep-empty-dirs --no-resave-data psygenet2r
###
##############################################################################
##############################################################################


* checking for file 'psygenet2r/DESCRIPTION' ... OK
* preparing 'psygenet2r':
* checking DESCRIPTION meta-information ... OK
* installing the package to build vignettes
* creating vignettes ... OK
* checking for LF line-endings in source and make files and shell scripts
* checking for empty or unneeded directories
* building 'psygenet2r_1.24.0.tar.gz'