Back to Multiple platform build/check report for BioC 3.12
ABCDEFGHIJKLMNO[P]QRSTUVWXYZ

Multiple platform build/check report for BioC 3.12

All results for package pram

This page was generated on 2021-05-05 12:09:07 -0400 (Wed, 05 May 2021).

Package 1376/1974HostnameOS / ArchINSTALLBUILDCHECKBUILD BIN
pram 1.6.0  (landing page)
Peng Liu
Snapshot Date: 2021-05-04 14:50:13 -0400 (Tue, 04 May 2021)
URL: https://git.bioconductor.org/packages/pram
Branch: RELEASE_3_12
Last Commit: 2a91c54
Last Changed Date: 2020-10-27 11:43:36 -0400 (Tue, 27 Oct 2020)
malbec1Linux (Ubuntu 18.04.5 LTS) / x86_64  OK    OK    OK  UNNEEDED, same version exists in internal repository
tokay1Windows Server 2012 R2 Standard / x64  OK    OK    OK    OK  UNNEEDED, same version exists in internal repository
merida1macOS 10.14.6 Mojave / x86_64  OK    OK    OK    OK  UNNEEDED, same version exists in internal repository