Back to Multiple platform build/check report for BioC 3.13
ABCDEFGHIJKLMNO[P]QRSTUVWXYZ

This page was generated on 2021-07-21 15:05:32 -0400 (Wed, 21 Jul 2021).

INSTALL results for ppiStats on tokay2

To the developers/maintainers of the ppiStats package:
- Please allow up to 24 hours (and sometimes 48 hours) for your latest push to git@git.bioconductor.org:packages/ppiStats.git to
reflect on this report. See How and When does the builder pull? When will my changes propagate? here for more information.
- Make sure to use the following settings in order to reproduce any error or warning you see on this page.

raw results

Package 1421/2041HostnameOS / ArchINSTALLBUILDCHECKBUILD BIN
ppiStats 1.58.0  (landing page)
Bioconductor Package Maintainer
Snapshot Date: 2021-07-20 04:50:13 -0400 (Tue, 20 Jul 2021)
URL: https://git.bioconductor.org/packages/ppiStats
Branch: RELEASE_3_13
Last Commit: 0d9ffa4
Last Changed Date: 2021-05-19 11:38:18 -0400 (Wed, 19 May 2021)
nebbiolo1Linux (Ubuntu 20.04.2 LTS) / x86_64  OK    OK    OK  UNNEEDED, same version is already published
tokay2Windows Server 2012 R2 Standard / x64  OK    OK    OK    OK  UNNEEDED, same version is already published
machv2macOS 10.14.6 Mojave / x86_64  OK    OK    OK    OK  UNNEEDED, same version is already published

Summary

Package: ppiStats
Version: 1.58.0
Command: C:\cygwin\bin\curl.exe -O http://155.52.207.165/BBS/3.13/bioc/src/contrib/ppiStats_1.58.0.tar.gz && rm -rf ppiStats.buildbin-libdir && mkdir ppiStats.buildbin-libdir && C:\Users\biocbuild\bbs-3.13-bioc\R\bin\R.exe CMD INSTALL --merge-multiarch --build --library=ppiStats.buildbin-libdir ppiStats_1.58.0.tar.gz && C:\Users\biocbuild\bbs-3.13-bioc\R\bin\R.exe CMD INSTALL ppiStats_1.58.0.zip && rm ppiStats_1.58.0.tar.gz ppiStats_1.58.0.zip
StartedAt: 2021-07-20 09:50:32 -0400 (Tue, 20 Jul 2021)
EndedAt: 2021-07-20 09:51:19 -0400 (Tue, 20 Jul 2021)
EllapsedTime: 46.8 seconds
RetCode: 0
Status:   OK  

Command output

##############################################################################
##############################################################################
###
### Running command:
###
###   C:\cygwin\bin\curl.exe -O http://155.52.207.165/BBS/3.13/bioc/src/contrib/ppiStats_1.58.0.tar.gz && rm -rf ppiStats.buildbin-libdir && mkdir ppiStats.buildbin-libdir && C:\Users\biocbuild\bbs-3.13-bioc\R\bin\R.exe CMD INSTALL --merge-multiarch --build --library=ppiStats.buildbin-libdir ppiStats_1.58.0.tar.gz && C:\Users\biocbuild\bbs-3.13-bioc\R\bin\R.exe CMD INSTALL ppiStats_1.58.0.zip && rm ppiStats_1.58.0.tar.gz ppiStats_1.58.0.zip
###
##############################################################################
##############################################################################


  % Total    % Received % Xferd  Average Speed   Time    Time     Time  Current
                                 Dload  Upload   Total   Spent    Left  Speed

  0     0    0     0    0     0      0      0 --:--:-- --:--:-- --:--:--     0
100 1013k  100 1013k    0     0  2514k      0 --:--:-- --:--:-- --:--:-- 2521k

install for i386

* installing *source* package 'ppiStats' ...
** using staged installation
** R
** inst
** byte-compile and prepare package for lazy loading
** help
*** installing help indices
  converting help for package 'ppiStats'
    finding HTML links ... done
    assessSymmetry                          html  
    bpMatrix                                html  
    calcInOutDegStats                       html  
    createSummaryTables                     html  
    degreeEstimates                         html  
    estErrProbMethodOfMoments               html  
    estimateCCMErrorRates                   html  
    estimatePPIErrorRates                   html  
    findAdjacent                            html  
    genBPGraph                              html  
    hgParams                                html  
    hgTests                                 html  
    idProteinErrorType                      html  
    idProteinType                           html  
    inOutScatterCharts                      html  
    nullDistDoublyTestedEdges               html  
    separateExptBySize                      html  
    twPERM                                  html  
    viabilityCharts                         html  
** building package indices
** installing vignettes
** testing if installed package can be loaded from temporary location
** testing if installed package can be loaded from final location
** testing if installed package keeps a record of temporary installation path

install for x64

* installing *source* package 'ppiStats' ...
** testing if installed package can be loaded
* MD5 sums
packaged installation of 'ppiStats' as ppiStats_1.58.0.zip
* DONE (ppiStats)
* installing to library 'C:/Users/biocbuild/bbs-3.13-bioc/R/library'
package 'ppiStats' successfully unpacked and MD5 sums checked