Back to Multiple platform build/check report for BioC 3.13
ABCDEFGHIJKLMNO[P]QRSTUVWXYZ

All results for package ppiStats

This page was generated on 2021-06-14 14:04:35 -0400 (Mon, 14 Jun 2021).

Package 1421/2041HostnameOS / ArchINSTALLBUILDCHECKBUILD BIN
ppiStats 1.58.0  (landing page)
Bioconductor Package Maintainer
Snapshot Date: 2021-06-13 06:50:09 -0400 (Sun, 13 Jun 2021)
URL: https://git.bioconductor.org/packages/ppiStats
Branch: RELEASE_3_13
Last Commit: 0d9ffa4
Last Changed Date: 2021-05-19 11:38:18 -0400 (Wed, 19 May 2021)
nebbiolo1Linux (Ubuntu 20.04.2 LTS) / x86_64  OK    OK    OK  UNNEEDED, same version is already published
tokay2Windows Server 2012 R2 Standard / x64  OK    OK    OK    OK  UNNEEDED, same version is already published
machv2macOS 10.14.6 Mojave / x86_64  OK    OK    OK    OK  UNNEEDED, same version is already published

Results for Bioconductor software packages that depend directly on package ppiStats

QUICK STATSOS / ArchINSTALLBUILDCHECKBUILD BIN
nebbiolo1Linux (Ubuntu 20.04.2 LTS) / x86_64
010
010
0000
tokay2Windows Server 2012 R2 Standard / x64
010
010
0000
000
machv2macOS 10.14.6 Mojave / x86_64
010
010
0000
000
Package 1/1HostnameOS / ArchINSTALLBUILDCHECKBUILD BIN
PCpheno 1.54.0  (landing page)
Nolwenn Le Meur
Last Commit: a344578
Last Changed Date: 2021-05-19 11:40:08 -0400
nebbiolo1Linux (Ubuntu 20.04.2 LTS) / x86_64  ERROR    ERROR  skipped
tokay2Windows Server 2012 R2 Standard / x64  ERROR    ERROR  skippedskipped
machv2macOS 10.14.6 Mojave / x86_64  ERROR    ERROR  skippedskipped