Back to Multiple platform build/check report for BioC 3.13
ABCDEFGHIJKLMNO[P]QRSTUVWXYZ

This page was generated on 2021-09-15 15:06:11 -0400 (Wed, 15 Sep 2021).

BUILD results for pogos on machv2

To the developers/maintainers of the pogos package:
- Please allow up to 24 hours (and sometimes 48 hours) for your latest push to git@git.bioconductor.org:packages/pogos.git to
reflect on this report. See How and When does the builder pull? When will my changes propagate? here for more information.
- Make sure to use the following settings in order to reproduce any error or warning you see on this page.

raw results

Package 1411/2041HostnameOS / ArchINSTALLBUILDCHECKBUILD BIN
pogos 1.12.2  (landing page)
VJ Carey
Snapshot Date: 2021-09-14 04:50:06 -0400 (Tue, 14 Sep 2021)
git_url: https://git.bioconductor.org/packages/pogos
git_branch: RELEASE_3_13
git_last_commit: 2735342
git_last_commit_date: 2021-08-29 09:34:59 -0400 (Sun, 29 Aug 2021)
nebbiolo1Linux (Ubuntu 20.04.2 LTS) / x86_64  OK    OK    OK  UNNEEDED, same version is already published
tokay2Windows Server 2012 R2 Standard / x64  OK    ERROR  skippedskipped
machv2macOS 10.14.6 Mojave / x86_64  OK    OK    OK    OK  UNNEEDED, same version is already published

Summary

Package: pogos
Version: 1.12.2
Command: /Library/Frameworks/R.framework/Versions/Current/Resources/bin/R CMD build --keep-empty-dirs --no-resave-data pogos
StartedAt: 2021-09-14 13:56:59 -0400 (Tue, 14 Sep 2021)
EndedAt: 2021-09-14 13:58:18 -0400 (Tue, 14 Sep 2021)
EllapsedTime: 78.7 seconds
RetCode: 0
Status:   OK  
PackageFile: pogos_1.12.2.tar.gz
PackageFileSize: 1.187 MiB

Command output

##############################################################################
##############################################################################
###
### Running command:
###
###   /Library/Frameworks/R.framework/Versions/Current/Resources/bin/R CMD build --keep-empty-dirs --no-resave-data pogos
###
##############################################################################
##############################################################################


* checking for file ‘pogos/DESCRIPTION’ ... OK
* preparing ‘pogos’:
* checking DESCRIPTION meta-information ... OK
* installing the package to build vignettes
* creating vignettes ... OK
* checking for LF line-endings in source and make files and shell scripts
* checking for empty or unneeded directories
* building ‘pogos_1.12.2.tar.gz’