Back to Multiple platform build/check report for BioC 3.13
ABCDEFGHIJKLMNO[P]QRSTUVWXYZ

This page was generated on 2021-07-30 15:06:04 -0400 (Fri, 30 Jul 2021).

BUILD BIN results for pkgDepTools on tokay2

To the developers/maintainers of the pkgDepTools package:
- Please allow up to 24 hours (and sometimes 48 hours) for your latest push to git@git.bioconductor.org:packages/pkgDepTools.git to
reflect on this report. See How and When does the builder pull? When will my changes propagate? here for more information.
- Make sure to use the following settings in order to reproduce any error or warning you see on this page.

raw results

Package 1398/2041HostnameOS / ArchINSTALLBUILDCHECKBUILD BIN
pkgDepTools 1.58.0  (landing page)
Bioconductor Package Maintainer
Snapshot Date: 2021-07-29 04:50:02 -0400 (Thu, 29 Jul 2021)
URL: https://git.bioconductor.org/packages/pkgDepTools
Branch: RELEASE_3_13
Last Commit: 706a7e5
Last Changed Date: 2021-05-19 11:38:05 -0400 (Wed, 19 May 2021)
nebbiolo1Linux (Ubuntu 20.04.2 LTS) / x86_64  OK    OK    OK  UNNEEDED, same version is already published
tokay2Windows Server 2012 R2 Standard / x64  OK    OK    OK    OK  UNNEEDED, same version is already published
machv2macOS 10.14.6 Mojave / x86_64  OK    OK    OK    OK  UNNEEDED, same version is already published

Summary

Package: pkgDepTools
Version: 1.58.0
Command: rm -rf pkgDepTools.buildbin-libdir && mkdir pkgDepTools.buildbin-libdir && C:\Users\biocbuild\bbs-3.13-bioc\R\bin\R.exe CMD INSTALL --merge-multiarch --build --library=pkgDepTools.buildbin-libdir pkgDepTools_1.58.0.tar.gz
StartedAt: 2021-07-30 10:56:59 -0400 (Fri, 30 Jul 2021)
EndedAt: 2021-07-30 10:57:49 -0400 (Fri, 30 Jul 2021)
EllapsedTime: 50.5 seconds
RetCode: 0
Status:   OK  
PackageFile: pkgDepTools_1.58.0.zip
PackageFileSize: 218.7 KiB

Command output

##############################################################################
##############################################################################
###
### Running command:
###
###   rm -rf pkgDepTools.buildbin-libdir && mkdir pkgDepTools.buildbin-libdir && C:\Users\biocbuild\bbs-3.13-bioc\R\bin\R.exe CMD INSTALL --merge-multiarch --build --library=pkgDepTools.buildbin-libdir pkgDepTools_1.58.0.tar.gz
###
##############################################################################
##############################################################################



install for i386

* installing *source* package 'pkgDepTools' ...
** using staged installation
** R
** inst
** byte-compile and prepare package for lazy loading
** help
*** installing help indices
  converting help for package 'pkgDepTools'
    finding HTML links ... done
    basicInstallOrder                       html  
    cleanPkgField                           html  
    getDownloadSize                         html  
    getInstallOrder                         html  
    makeDepGraph                            html  
    makePkgUrl                              html  
    parseContentLength                      html  
    pkgDepTools-package                     html  
** building package indices
** installing vignettes
** testing if installed package can be loaded from temporary location
** testing if installed package can be loaded from final location
** testing if installed package keeps a record of temporary installation path

install for x64

* installing *source* package 'pkgDepTools' ...
** testing if installed package can be loaded
* MD5 sums
packaged installation of 'pkgDepTools' as pkgDepTools_1.58.0.zip
* DONE (pkgDepTools)