Back to Multiple platform build/check report for BioC 3.13
ABCDEFGHIJKLMNO[P]QRSTUVWXYZ

This page was generated on 2021-07-30 15:06:34 -0400 (Fri, 30 Jul 2021).

INSTALL results for pkgDepTools on machv2

To the developers/maintainers of the pkgDepTools package:
- Please allow up to 24 hours (and sometimes 48 hours) for your latest push to git@git.bioconductor.org:packages/pkgDepTools.git to
reflect on this report. See How and When does the builder pull? When will my changes propagate? here for more information.
- Make sure to use the following settings in order to reproduce any error or warning you see on this page.

raw results

Package 1398/2041HostnameOS / ArchINSTALLBUILDCHECKBUILD BIN
pkgDepTools 1.58.0  (landing page)
Bioconductor Package Maintainer
Snapshot Date: 2021-07-29 04:50:02 -0400 (Thu, 29 Jul 2021)
URL: https://git.bioconductor.org/packages/pkgDepTools
Branch: RELEASE_3_13
Last Commit: 706a7e5
Last Changed Date: 2021-05-19 11:38:05 -0400 (Wed, 19 May 2021)
nebbiolo1Linux (Ubuntu 20.04.2 LTS) / x86_64  OK    OK    OK  UNNEEDED, same version is already published
tokay2Windows Server 2012 R2 Standard / x64  OK    OK    OK    OK  UNNEEDED, same version is already published
machv2macOS 10.14.6 Mojave / x86_64  OK    OK    OK    OK  UNNEEDED, same version is already published

Summary

Package: pkgDepTools
Version: 1.58.0
Command: /Library/Frameworks/R.framework/Versions/Current/Resources/bin/R CMD INSTALL pkgDepTools
StartedAt: 2021-07-29 08:23:57 -0400 (Thu, 29 Jul 2021)
EndedAt: 2021-07-29 08:24:37 -0400 (Thu, 29 Jul 2021)
EllapsedTime: 40.1 seconds
RetCode: 0
Status:   OK  

Command output

##############################################################################
##############################################################################
###
### Running command:
###
###   /Library/Frameworks/R.framework/Versions/Current/Resources/bin/R CMD INSTALL pkgDepTools
###
##############################################################################
##############################################################################


* installing to library ‘/Library/Frameworks/R.framework/Versions/4.1/Resources/library’
* installing *source* package ‘pkgDepTools’ ...
** using staged installation
** R
** byte-compile and prepare package for lazy loading
** help
*** installing help indices
** building package indices
** installing vignettes
** testing if installed package can be loaded from temporary location
** testing if installed package can be loaded from final location
** testing if installed package keeps a record of temporary installation path
* DONE (pkgDepTools)