Index of /checkResults/release/bioc-LATEST/phenoTest/raw-results/nebbiolo1

[ICO]NameLast modifiedSizeDescription

[DIR]Parent Directory  -  
[TXT]buildsrc-out.txt10-Jul-2024 06:39 877  
[   ]buildsrc-summary.dcf10-Jul-2024 06:39 423  
[TXT]checksrc-out.txt10-Jul-2024 06:39 25K 
[   ]checksrc-summary.dcf10-Jul-2024 06:39 422  
[TXT]install-out.txt10-Jul-2024 06:39 966  
[   ]install-summary.dcf10-Jul-2024 06:39 263