Back to Multiple platform build/check report for BioC 3.13
ABCDEFGHIJKLMNO[P]QRSTUVWXYZ

This page was generated on 2021-09-17 15:06:47 -0400 (Fri, 17 Sep 2021).

BUILD BIN results for peakPantheR on machv2

To the developers/maintainers of the peakPantheR package:
- Please allow up to 24 hours (and sometimes 48 hours) for your latest push to git@git.bioconductor.org:packages/peakPantheR.git to
reflect on this report. See How and When does the builder pull? When will my changes propagate? here for more information.
- Make sure to use the following settings in order to reproduce any error or warning you see on this page.

raw results

Package 1366/2041HostnameOS / ArchINSTALLBUILDCHECKBUILD BIN
peakPantheR 1.6.1  (landing page)
Arnaud Wolfer
Snapshot Date: 2021-09-16 04:50:11 -0400 (Thu, 16 Sep 2021)
git_url: https://git.bioconductor.org/packages/peakPantheR
git_branch: RELEASE_3_13
git_last_commit: 3308eac
git_last_commit_date: 2021-06-23 16:02:41 -0400 (Wed, 23 Jun 2021)
nebbiolo1Linux (Ubuntu 20.04.2 LTS) / x86_64  OK    OK    OK  UNNEEDED, same version is already published
tokay2Windows Server 2012 R2 Standard / x64  OK    OK    OK    OK  UNNEEDED, same version is already published
machv2macOS 10.14.6 Mojave / x86_64  OK    OK    OK    OK  UNNEEDED, same version is already published

Summary

Package: peakPantheR
Version: 1.6.1
Command: rm -rf peakPantheR.buildbin-libdir && mkdir peakPantheR.buildbin-libdir && /Users/biocbuild/BBS/utils/build-universal.sh peakPantheR_1.6.1.tar.gz /Library/Frameworks/R.framework/Versions/Current/Resources/bin/R peakPantheR.buildbin-libdir
StartedAt: 2021-09-17 03:34:19 -0400 (Fri, 17 Sep 2021)
EndedAt: 2021-09-17 03:35:31 -0400 (Fri, 17 Sep 2021)
EllapsedTime: 72.0 seconds
RetCode: 0
Status:   OK  
PackageFile: peakPantheR_1.6.1.tgz
PackageFileSize: 4.238 MiB

Command output

##############################################################################
##############################################################################
###
### Running command:
###
###   rm -rf peakPantheR.buildbin-libdir && mkdir peakPantheR.buildbin-libdir && /Users/biocbuild/BBS/utils/build-universal.sh peakPantheR_1.6.1.tar.gz /Library/Frameworks/R.framework/Versions/Current/Resources/bin/R peakPantheR.buildbin-libdir
###
##############################################################################
##############################################################################


>>>>>>> 
>>>>>>> INSTALLATION WITH 'R CMD INSTALL --preclean --no-multiarch --library=peakPantheR.buildbin-libdir peakPantheR_1.6.1.tar.gz'
>>>>>>> 

* installing *source* package ‘peakPantheR’ ...
** using staged installation
** R
** inst
** byte-compile and prepare package for lazy loading
** help
*** installing help indices
*** copying figures
** building package indices
** installing vignettes
** testing if installed package can be loaded from temporary location
** testing if installed package can be loaded from final location
** testing if installed package keeps a record of temporary installation path
* DONE (peakPantheR)