Back to Multiple platform build/check report for BioC 3.13
ABCDEFGHIJKLMNO[P]QRSTUVWXYZ

This page was generated on 2021-09-17 15:06:16 -0400 (Fri, 17 Sep 2021).

INSTALL results for pcaExplorer on tokay2

To the developers/maintainers of the pcaExplorer package:
- Please allow up to 24 hours (and sometimes 48 hours) for your latest push to git@git.bioconductor.org:packages/pcaExplorer.git to
reflect on this report. See How and When does the builder pull? When will my changes propagate? here for more information.
- Make sure to use the following settings in order to reproduce any error or warning you see on this page.

raw results

Package 1356/2041HostnameOS / ArchINSTALLBUILDCHECKBUILD BIN
pcaExplorer 2.18.0  (landing page)
Federico Marini
Snapshot Date: 2021-09-16 04:50:11 -0400 (Thu, 16 Sep 2021)
git_url: https://git.bioconductor.org/packages/pcaExplorer
git_branch: RELEASE_3_13
git_last_commit: 724482a
git_last_commit_date: 2021-05-19 12:19:46 -0400 (Wed, 19 May 2021)
nebbiolo1Linux (Ubuntu 20.04.2 LTS) / x86_64  OK    OK    OK  UNNEEDED, same version is already published
tokay2Windows Server 2012 R2 Standard / x64  OK    OK    OK    OK  UNNEEDED, same version is already published
machv2macOS 10.14.6 Mojave / x86_64  OK    OK    OK    OK  UNNEEDED, same version is already published

Summary

Package: pcaExplorer
Version: 2.18.0
Command: C:\cygwin\bin\curl.exe -O http://155.52.207.165/BBS/3.13/bioc/src/contrib/pcaExplorer_2.18.0.tar.gz && rm -rf pcaExplorer.buildbin-libdir && mkdir pcaExplorer.buildbin-libdir && C:\Users\biocbuild\bbs-3.13-bioc\R\bin\R.exe CMD INSTALL --merge-multiarch --build --library=pcaExplorer.buildbin-libdir pcaExplorer_2.18.0.tar.gz && C:\Users\biocbuild\bbs-3.13-bioc\R\bin\R.exe CMD INSTALL pcaExplorer_2.18.0.zip && rm pcaExplorer_2.18.0.tar.gz pcaExplorer_2.18.0.zip
StartedAt: 2021-09-16 11:00:48 -0400 (Thu, 16 Sep 2021)
EndedAt: 2021-09-16 11:02:11 -0400 (Thu, 16 Sep 2021)
EllapsedTime: 82.8 seconds
RetCode: 0
Status:   OK  

Command output

##############################################################################
##############################################################################
###
### Running command:
###
###   C:\cygwin\bin\curl.exe -O http://155.52.207.165/BBS/3.13/bioc/src/contrib/pcaExplorer_2.18.0.tar.gz && rm -rf pcaExplorer.buildbin-libdir && mkdir pcaExplorer.buildbin-libdir && C:\Users\biocbuild\bbs-3.13-bioc\R\bin\R.exe CMD INSTALL --merge-multiarch --build --library=pcaExplorer.buildbin-libdir pcaExplorer_2.18.0.tar.gz && C:\Users\biocbuild\bbs-3.13-bioc\R\bin\R.exe CMD INSTALL pcaExplorer_2.18.0.zip && rm pcaExplorer_2.18.0.tar.gz pcaExplorer_2.18.0.zip
###
##############################################################################
##############################################################################


  % Total    % Received % Xferd  Average Speed   Time    Time     Time  Current
                                 Dload  Upload   Total   Spent    Left  Speed

  0     0    0     0    0     0      0      0 --:--:-- --:--:-- --:--:--     0
  0 22.3M    0 97043    0     0   495k      0  0:00:46 --:--:--  0:00:46  496k
  9 22.3M    9 2172k    0     0  1840k      0  0:00:12  0:00:01  0:00:11 1841k
 22 22.3M   22 5198k    0     0  2385k      0  0:00:09  0:00:02  0:00:07 2385k
 40 22.3M   40 9208k    0     0  2897k      0  0:00:07  0:00:03  0:00:04 2897k
 58 22.3M   58 13.1M    0     0  3246k      0  0:00:07  0:00:04  0:00:03 3246k
 82 22.3M   82 18.4M    0     0  3629k      0  0:00:06  0:00:05  0:00:01 3749k
100 22.3M  100 22.3M    0     0  3854k      0  0:00:05  0:00:05 --:--:-- 4353k

install for i386

* installing *source* package 'pcaExplorer' ...
** using staged installation
** R
** inst
** byte-compile and prepare package for lazy loading
** help
*** installing help indices
  converting help for package 'pcaExplorer'
    finding HTML links ... done
    correlatePCs                            html  
    distro_expr                             html  
    finding level-2 HTML links ... done

    geneprofiler                            html  
    genespca                                html  
    get_annotation                          html  
    get_annotation_orgdb                    html  
    hi_loadings                             html  
    limmaquickpca2go                        html  
    makeExampleDESeqDataSet_multifac        html  
    pair_corr                               html  
    pca2go                                  html  
    pcaExplorer-pkg                         html  
    pcaExplorer                             html  
    pcaplot                                 html  
    pcaplot3d                               html  
    pcascree                                html  
    plotPCcorrs                             html  
    topGOtable                              html  
** building package indices
** installing vignettes
** testing if installed package can be loaded from temporary location
** testing if installed package can be loaded from final location
** testing if installed package keeps a record of temporary installation path

install for x64

* installing *source* package 'pcaExplorer' ...
** testing if installed package can be loaded
* MD5 sums
packaged installation of 'pcaExplorer' as pcaExplorer_2.18.0.zip
* DONE (pcaExplorer)
* installing to library 'C:/Users/biocbuild/bbs-3.13-bioc/R/library'
package 'pcaExplorer' successfully unpacked and MD5 sums checked