Back to Multiple platform build/check report for BioC 3.13
ABCDEFGHIJKLMNO[P]QRSTUVWXYZ

This page was generated on 2021-09-20 15:05:22 -0400 (Mon, 20 Sep 2021).

BUILD BIN results for pcaExplorer on tokay2

To the developers/maintainers of the pcaExplorer package:
- Please allow up to 24 hours (and sometimes 48 hours) for your latest push to git@git.bioconductor.org:packages/pcaExplorer.git to
reflect on this report. See How and When does the builder pull? When will my changes propagate? here for more information.
- Make sure to use the following settings in order to reproduce any error or warning you see on this page.

raw results

Package 1356/2041HostnameOS / ArchINSTALLBUILDCHECKBUILD BIN
pcaExplorer 2.18.0  (landing page)
Federico Marini
Snapshot Date: 2021-09-19 04:50:10 -0400 (Sun, 19 Sep 2021)
git_url: https://git.bioconductor.org/packages/pcaExplorer
git_branch: RELEASE_3_13
git_last_commit: 724482a
git_last_commit_date: 2021-05-19 12:19:46 -0400 (Wed, 19 May 2021)
nebbiolo1Linux (Ubuntu 20.04.2 LTS) / x86_64  OK    OK    OK  UNNEEDED, same version is already published
tokay2Windows Server 2012 R2 Standard / x64  OK    OK    OK    OK  UNNEEDED, same version is already published
machv2macOS 10.14.6 Mojave / x86_64  OK    OK    OK    OK  UNNEEDED, same version is already published

Summary

Package: pcaExplorer
Version: 2.18.0
Command: rm -rf pcaExplorer.buildbin-libdir && mkdir pcaExplorer.buildbin-libdir && C:\Users\biocbuild\bbs-3.13-bioc\R\bin\R.exe CMD INSTALL --merge-multiarch --build --library=pcaExplorer.buildbin-libdir pcaExplorer_2.18.0.tar.gz
StartedAt: 2021-09-20 10:26:48 -0400 (Mon, 20 Sep 2021)
EndedAt: 2021-09-20 10:28:08 -0400 (Mon, 20 Sep 2021)
EllapsedTime: 79.7 seconds
RetCode: 0
Status:   OK  
PackageFile: pcaExplorer_2.18.0.zip
PackageFileSize: 12.13 MiB

Command output

##############################################################################
##############################################################################
###
### Running command:
###
###   rm -rf pcaExplorer.buildbin-libdir && mkdir pcaExplorer.buildbin-libdir && C:\Users\biocbuild\bbs-3.13-bioc\R\bin\R.exe CMD INSTALL --merge-multiarch --build --library=pcaExplorer.buildbin-libdir pcaExplorer_2.18.0.tar.gz
###
##############################################################################
##############################################################################



install for i386

* installing *source* package 'pcaExplorer' ...
** using staged installation
** R
** inst
** byte-compile and prepare package for lazy loading
** help
*** installing help indices
  converting help for package 'pcaExplorer'
    finding HTML links ... done
    correlatePCs                            html  
    distro_expr                             html  
    finding level-2 HTML links ... done

    geneprofiler                            html  
    genespca                                html  
    get_annotation                          html  
    get_annotation_orgdb                    html  
    hi_loadings                             html  
    limmaquickpca2go                        html  
    makeExampleDESeqDataSet_multifac        html  
    pair_corr                               html  
    pca2go                                  html  
    pcaExplorer-pkg                         html  
    pcaExplorer                             html  
    pcaplot                                 html  
    pcaplot3d                               html  
    pcascree                                html  
    plotPCcorrs                             html  
    topGOtable                              html  
** building package indices
** installing vignettes
** testing if installed package can be loaded from temporary location
** testing if installed package can be loaded from final location
** testing if installed package keeps a record of temporary installation path

install for x64

* installing *source* package 'pcaExplorer' ...
** testing if installed package can be loaded
* MD5 sums
packaged installation of 'pcaExplorer' as pcaExplorer_2.18.0.zip
* DONE (pcaExplorer)