Back to Multiple platform build/check report for BioC 3.13
ABCDEFGHIJKLMNO[P]QRSTUVWXYZ

This page was generated on 2021-09-20 15:04:56 -0400 (Mon, 20 Sep 2021).

CHECK results for pcaExplorer on nebbiolo1

To the developers/maintainers of the pcaExplorer package:
- Please allow up to 24 hours (and sometimes 48 hours) for your latest push to git@git.bioconductor.org:packages/pcaExplorer.git to
reflect on this report. See How and When does the builder pull? When will my changes propagate? here for more information.
- Make sure to use the following settings in order to reproduce any error or warning you see on this page.

raw results

Package 1356/2041HostnameOS / ArchINSTALLBUILDCHECKBUILD BIN
pcaExplorer 2.18.0  (landing page)
Federico Marini
Snapshot Date: 2021-09-19 04:50:10 -0400 (Sun, 19 Sep 2021)
git_url: https://git.bioconductor.org/packages/pcaExplorer
git_branch: RELEASE_3_13
git_last_commit: 724482a
git_last_commit_date: 2021-05-19 12:19:46 -0400 (Wed, 19 May 2021)
nebbiolo1Linux (Ubuntu 20.04.2 LTS) / x86_64  OK    OK    OK  UNNEEDED, same version is already published
tokay2Windows Server 2012 R2 Standard / x64  OK    OK    OK    OK  UNNEEDED, same version is already published
machv2macOS 10.14.6 Mojave / x86_64  OK    OK    OK    OK  UNNEEDED, same version is already published

Summary

Package: pcaExplorer
Version: 2.18.0
Command: /home/biocbuild/bbs-3.13-bioc/R/bin/R CMD check --install=check:pcaExplorer.install-out.txt --library=/home/biocbuild/bbs-3.13-bioc/R/library --no-vignettes --timings pcaExplorer_2.18.0.tar.gz
StartedAt: 2021-09-19 10:54:35 -0400 (Sun, 19 Sep 2021)
EndedAt: 2021-09-19 11:01:45 -0400 (Sun, 19 Sep 2021)
EllapsedTime: 430.6 seconds
RetCode: 0
Status:   OK  
CheckDir: pcaExplorer.Rcheck
Warnings: 0

Command output

##############################################################################
##############################################################################
###
### Running command:
###
###   /home/biocbuild/bbs-3.13-bioc/R/bin/R CMD check --install=check:pcaExplorer.install-out.txt --library=/home/biocbuild/bbs-3.13-bioc/R/library --no-vignettes --timings pcaExplorer_2.18.0.tar.gz
###
##############################################################################
##############################################################################


* using log directory ‘/home/biocbuild/bbs-3.13-bioc/meat/pcaExplorer.Rcheck’
* using R version 4.1.1 (2021-08-10)
* using platform: x86_64-pc-linux-gnu (64-bit)
* using session charset: UTF-8
* using option ‘--no-vignettes’
* checking for file ‘pcaExplorer/DESCRIPTION’ ... OK
* checking extension type ... Package
* this is package ‘pcaExplorer’ version ‘2.18.0’
* package encoding: UTF-8
* checking package namespace information ... OK
* checking package dependencies ... OK
* checking if this is a source package ... OK
* checking if there is a namespace ... OK
* checking for hidden files and directories ... OK
* checking for portable file names ... OK
* checking for sufficient/correct file permissions ... OK
* checking whether package ‘pcaExplorer’ can be installed ... OK
* checking installed package size ... OK
* checking package directory ... OK
* checking ‘build’ directory ... OK
* checking DESCRIPTION meta-information ... OK
* checking top-level files ... OK
* checking for left-over files ... OK
* checking index information ... OK
* checking package subdirectories ... OK
* checking R files for non-ASCII characters ... OK
* checking R files for syntax errors ... OK
* checking whether the package can be loaded ... OK
* checking whether the package can be loaded with stated dependencies ... OK
* checking whether the package can be unloaded cleanly ... OK
* checking whether the namespace can be loaded with stated dependencies ... OK
* checking whether the namespace can be unloaded cleanly ... OK
* checking dependencies in R code ... OK
* checking S3 generic/method consistency ... OK
* checking replacement functions ... OK
* checking foreign function calls ... OK
* checking R code for possible problems ... NOTE
pcaExplorer: no visible binding for '<<-' assignment to
  ‘pcaexplorer_env’
pcaExplorer : <anonymous>: no visible binding for global variable
  ‘airway’
pcaExplorer : <anonymous>: no visible binding for global variable
  ‘pcaexplorer_env’
Undefined global functions or variables:
  airway pcaexplorer_env
* checking Rd files ... OK
* checking Rd metadata ... OK
* checking Rd cross-references ... OK
* checking for missing documentation entries ... OK
* checking for code/documentation mismatches ... OK
* checking Rd \usage sections ... OK
* checking Rd contents ... OK
* checking for unstated dependencies in examples ... OK
* checking files in ‘vignettes’ ... OK
* checking examples ... OK
* checking for unstated dependencies in ‘tests’ ... OK
* checking tests ...
  Running ‘testthat.R’
 OK
* checking for unstated dependencies in vignettes ... OK
* checking package vignettes in ‘inst/doc’ ... OK
* checking running R code from vignettes ... SKIPPED
* checking re-building of vignette outputs ... SKIPPED
* checking PDF version of manual ... OK
* DONE

Status: 1 NOTE
See
  ‘/home/biocbuild/bbs-3.13-bioc/meat/pcaExplorer.Rcheck/00check.log’
for details.



Installation output

pcaExplorer.Rcheck/00install.out

##############################################################################
##############################################################################
###
### Running command:
###
###   /home/biocbuild/bbs-3.13-bioc/R/bin/R CMD INSTALL pcaExplorer
###
##############################################################################
##############################################################################


* installing to library ‘/home/biocbuild/bbs-3.13-bioc/R/library’
* installing *source* package ‘pcaExplorer’ ...
** using staged installation
** R
** inst
** byte-compile and prepare package for lazy loading
** help
*** installing help indices
** building package indices
** installing vignettes
** testing if installed package can be loaded from temporary location
** testing if installed package can be loaded from final location
** testing if installed package keeps a record of temporary installation path
* DONE (pcaExplorer)

Tests output

pcaExplorer.Rcheck/tests/testthat.Rout


R version 4.1.1 (2021-08-10) -- "Kick Things"
Copyright (C) 2021 The R Foundation for Statistical Computing
Platform: x86_64-pc-linux-gnu (64-bit)

R is free software and comes with ABSOLUTELY NO WARRANTY.
You are welcome to redistribute it under certain conditions.
Type 'license()' or 'licence()' for distribution details.

R is a collaborative project with many contributors.
Type 'contributors()' for more information and
'citation()' on how to cite R or R packages in publications.

Type 'demo()' for some demos, 'help()' for on-line help, or
'help.start()' for an HTML browser interface to help.
Type 'q()' to quit R.

> library(testthat)
> library(pcaExplorer)

Welcome to pcaExplorer v2.18.0

If you use pcaExplorer in your work, please cite:

Federico Marini, Harald Binder
pcaExplorer: an R/Bioconductor package for interacting with RNA-seq principal components
BMC Bioinformatics, 2019 - https://doi.org/10.1186/s12859-019-2879-1

> 
> test_check("pcaExplorer")
[ FAIL 0 | WARN 1 | SKIP 0 | PASS 17 ]
> 
> proc.time()
   user  system elapsed 
 63.456   1.563  65.021 

Example timings

pcaExplorer.Rcheck/pcaExplorer-Ex.timings

nameusersystemelapsed
correlatePCs2.9690.1123.082
distro_expr2.9010.0402.941
geneprofiler3.5550.0243.579
genespca2.7160.0282.745
get_annotation2.4940.1042.599
get_annotation_orgdb3.0470.0563.103
hi_loadings2.7720.0322.805
limmaquickpca2go3.0110.0803.091
makeExampleDESeqDataSet_multifac0.5330.0200.552
pair_corr1.8970.0561.953
pca2go1.9220.0551.982
pcaExplorer1.9950.0602.055
pcaplot2.8780.0402.919
pcaplot3d2.5960.0322.634
pcascree2.7860.0202.807
plotPCcorrs2.6230.0362.658
topGOtable1.7330.0441.777