Back to Multiple platform build/check report for BioC 3.13
ABCDEFGHIJKLMNO[P]QRSTUVWXYZ

This page was generated on 2021-07-21 15:05:59 -0400 (Wed, 21 Jul 2021).

BUILD results for pathview on machv2

To the developers/maintainers of the pathview package:
- Please allow up to 24 hours (and sometimes 48 hours) for your latest push to git@git.bioconductor.org:packages/pathview.git to
reflect on this report. See How and When does the builder pull? When will my changes propagate? here for more information.
- Make sure to use the following settings in order to reproduce any error or warning you see on this page.

raw results

Package 1353/2041HostnameOS / ArchINSTALLBUILDCHECKBUILD BIN
pathview 1.32.0  (landing page)
Weijun Luo
Snapshot Date: 2021-07-20 04:50:13 -0400 (Tue, 20 Jul 2021)
URL: https://git.bioconductor.org/packages/pathview
Branch: RELEASE_3_13
Last Commit: ec7e0e1
Last Changed Date: 2021-05-19 11:58:02 -0400 (Wed, 19 May 2021)
nebbiolo1Linux (Ubuntu 20.04.2 LTS) / x86_64  OK    OK    WARNINGS  UNNEEDED, same version is already published
tokay2Windows Server 2012 R2 Standard / x64  OK    OK    WARNINGS    OK  UNNEEDED, same version is already published
machv2macOS 10.14.6 Mojave / x86_64  OK    OK    WARNINGS    OK  UNNEEDED, same version is already published

Summary

Package: pathview
Version: 1.32.0
Command: /Library/Frameworks/R.framework/Versions/Current/Resources/bin/R CMD build --keep-empty-dirs --no-resave-data pathview
StartedAt: 2021-07-20 13:32:43 -0400 (Tue, 20 Jul 2021)
EndedAt: 2021-07-20 13:34:58 -0400 (Tue, 20 Jul 2021)
EllapsedTime: 134.7 seconds
RetCode: 0
Status:   OK  
PackageFile: pathview_1.32.0.tar.gz
PackageFileSize: 2.157 MiB

Command output

##############################################################################
##############################################################################
###
### Running command:
###
###   /Library/Frameworks/R.framework/Versions/Current/Resources/bin/R CMD build --keep-empty-dirs --no-resave-data pathview
###
##############################################################################
##############################################################################


* checking for file ‘pathview/DESCRIPTION’ ... OK
* preparing ‘pathview’:
* checking DESCRIPTION meta-information ... OK
* installing the package to build vignettes
* creating vignettes ... OK
* checking for LF line-endings in source and make files and shell scripts
* checking for empty or unneeded directories
  NB: this package now depends on R (>= 3.5.0)
  WARNING: Added dependency on R >= 3.5.0 because serialized objects in
  serialize/load version 3 cannot be read in older versions of R.
  File(s) containing such objects:
    ‘pathview/data/korg.rda’
* building ‘pathview_1.32.0.tar.gz’