Back to Multiple platform build/check report for BioC 3.12
ABCDEFGHIJKLMNO[P]QRSTUVWXYZ

BUILD report for pathprint on tokay1

This page was generated on 2021-05-05 12:12:42 -0400 (Wed, 05 May 2021).

To the developers/maintainers of the pathprint package:
Please make sure to use the following settings in order to reproduce any error or warning you see on this page.
Package 1306/1974HostnameOS / ArchINSTALLBUILDCHECKBUILD BIN
pathprint 1.20.0  (landing page)
Sokratis Kariotis
Snapshot Date: 2021-05-04 14:50:13 -0400 (Tue, 04 May 2021)
URL: https://git.bioconductor.org/packages/pathprint
Branch: RELEASE_3_12
Last Commit: c7e4ddd
Last Changed Date: 2020-10-27 11:22:19 -0400 (Tue, 27 Oct 2020)
malbec1Linux (Ubuntu 18.04.5 LTS) / x86_64  OK    OK    ERROR  
tokay1Windows Server 2012 R2 Standard / x64  OK    OK    ERROR    OK  
merida1macOS 10.14.6 Mojave / x86_64  OK    OK    ERROR    OK  

Summary

Package: pathprint
Version: 1.20.0
Command: chmod a+r pathprint -R && C:\Users\biocbuild\bbs-3.12-bioc\R\bin\R.exe CMD build --keep-empty-dirs --no-resave-data pathprint
StartedAt: 2021-05-04 22:34:57 -0400 (Tue, 04 May 2021)
EndedAt: 2021-05-04 22:36:01 -0400 (Tue, 04 May 2021)
EllapsedTime: 63.9 seconds
RetCode: 0
Status:   OK   
PackageFile: pathprint_1.20.0.tar.gz
PackageFileSize: 1.109 MiB

Command output

##############################################################################
##############################################################################
###
### Running command:
###
###   chmod a+r pathprint -R && C:\Users\biocbuild\bbs-3.12-bioc\R\bin\R.exe CMD build --keep-empty-dirs --no-resave-data pathprint
###
##############################################################################
##############################################################################


* checking for file 'pathprint/DESCRIPTION' ... OK
* preparing 'pathprint':
* checking DESCRIPTION meta-information ... OK
* installing the package to build vignettes
* creating vignettes ... OK
* checking for LF line-endings in source and make files and shell scripts
* checking for empty or unneeded directories
* looking to see if a 'data/datalist' file should be added
* building 'pathprint_1.20.0.tar.gz'