Back to Multiple platform build/check report for BioC 3.13
ABCDEFGHIJKLMNO[P]QRSTUVWXYZ

This page was generated on 2021-07-21 15:05:31 -0400 (Wed, 21 Jul 2021).

CHECK results for pathRender on tokay2

To the developers/maintainers of the pathRender package:
- Please allow up to 24 hours (and sometimes 48 hours) for your latest push to git@git.bioconductor.org:packages/pathRender.git to
reflect on this report. See How and When does the builder pull? When will my changes propagate? here for more information.
- Make sure to use the following settings in order to reproduce any error or warning you see on this page.

raw results

Package 1351/2041HostnameOS / ArchINSTALLBUILDCHECKBUILD BIN
pathRender 1.60.0  (landing page)
Vince Carey
Snapshot Date: 2021-07-20 04:50:13 -0400 (Tue, 20 Jul 2021)
URL: https://git.bioconductor.org/packages/pathRender
Branch: RELEASE_3_13
Last Commit: a976baf
Last Changed Date: 2021-05-19 11:36:44 -0400 (Wed, 19 May 2021)
nebbiolo1Linux (Ubuntu 20.04.2 LTS) / x86_64  OK    OK    OK  UNNEEDED, same version is already published
tokay2Windows Server 2012 R2 Standard / x64  OK    OK    OK    OK  UNNEEDED, same version is already published
machv2macOS 10.14.6 Mojave / x86_64  OK    OK    OK    OK  UNNEEDED, same version is already published

Summary

Package: pathRender
Version: 1.60.0
Command: C:\Users\biocbuild\bbs-3.13-bioc\R\bin\R.exe CMD check --force-multiarch --install=check:pathRender.install-out.txt --library=C:\Users\biocbuild\bbs-3.13-bioc\R\library --no-vignettes --timings pathRender_1.60.0.tar.gz
StartedAt: 2021-07-21 04:04:32 -0400 (Wed, 21 Jul 2021)
EndedAt: 2021-07-21 04:07:07 -0400 (Wed, 21 Jul 2021)
EllapsedTime: 155.2 seconds
RetCode: 0
Status:   OK  
CheckDir: pathRender.Rcheck
Warnings: 0

Command output

##############################################################################
##############################################################################
###
### Running command:
###
###   C:\Users\biocbuild\bbs-3.13-bioc\R\bin\R.exe CMD check --force-multiarch --install=check:pathRender.install-out.txt --library=C:\Users\biocbuild\bbs-3.13-bioc\R\library --no-vignettes --timings pathRender_1.60.0.tar.gz
###
##############################################################################
##############################################################################


* using log directory 'C:/Users/biocbuild/bbs-3.13-bioc/meat/pathRender.Rcheck'
* using R version 4.1.0 (2021-05-18)
* using platform: x86_64-w64-mingw32 (64-bit)
* using session charset: ISO8859-1
* using option '--no-vignettes'
* checking for file 'pathRender/DESCRIPTION' ... OK
* this is package 'pathRender' version '1.60.0'
* checking package namespace information ... OK
* checking package dependencies ... NOTE
Depends: includes the non-default packages:
  'graph', 'Rgraphviz', 'RColorBrewer', 'cMAP', 'AnnotationDbi',
  'stats4'
Adding so many packages to the search path is excessive and importing
selectively is preferable.
* checking if this is a source package ... OK
* checking if there is a namespace ... OK
* checking for hidden files and directories ... OK
* checking for portable file names ... OK
* checking whether package 'pathRender' can be installed ... OK
* checking installed package size ... OK
* checking package directory ... OK
* checking 'build' directory ... OK
* checking DESCRIPTION meta-information ... OK
* checking top-level files ... OK
* checking for left-over files ... OK
* checking index information ... OK
* checking package subdirectories ... OK
* checking R files for non-ASCII characters ... OK
* checking R files for syntax errors ... OK
* loading checks for arch 'i386'
** checking whether the package can be loaded ... OK
** checking whether the package can be loaded with stated dependencies ... OK
** checking whether the package can be unloaded cleanly ... OK
** checking whether the namespace can be loaded with stated dependencies ... OK
** checking whether the namespace can be unloaded cleanly ... OK
* loading checks for arch 'x64'
** checking whether the package can be loaded ... OK
** checking whether the package can be loaded with stated dependencies ... OK
** checking whether the package can be unloaded cleanly ... OK
** checking whether the namespace can be loaded with stated dependencies ... OK
** checking whether the namespace can be unloaded cleanly ... OK
* checking dependencies in R code ... OK
* checking S3 generic/method consistency ... OK
* checking replacement functions ... OK
* checking foreign function calls ... OK
* checking R code for possible problems ... NOTE
graphcMAP: no visible binding for global variable 'cMAPKEGGPATHWAY'
graphcMAP: no visible binding for global variable 'cMAPCARTAPATHWAY'
graphcMAP: no visible binding for global variable 'cMAPKEGGINTERACTION'
graphcMAP: no visible binding for global variable 'cMAPKEGGMOLECULE'
graphcMAP: no visible binding for global variable
  'cMAPCARTAINTERACTION'
graphcMAP: no visible binding for global variable 'cMAPCARTAMOLECULE'
plotExGraph: no visible global function definition for
  'colorRampPalette'
plotExGraph: no visible global function definition for 'exprs'
quantizeByRow : <anonymous>: no visible global function definition for
  'quantile'
quantizeByRow: no visible global function definition for 'featureNames'
quantizeByRow: no visible global function definition for 'exprs<-'
quantizeByRow: no visible global function definition for 'exprs'
quantizeByRow: no visible global function definition for
  'featureNames<-'
reduceES: no visible global function definition for 'na.omit'
reduceES: no visible global function definition for 'featureData<-'
reduceES: no visible global function definition for 'exprs'
reduceES: no visible global function definition for 'phenoData'
rendercMAPPathway: no visible binding for global variable
  'cMAPKEGGPATHWAY'
rendercMAPPathway: no visible binding for global variable
  'cMAPCARTAPATHWAY'
rendercMAPPathway: no visible binding for global variable
  'cMAPKEGGINTERACTION'
rendercMAPPathway: no visible binding for global variable
  'cMAPKEGGMOLECULE'
rendercMAPPathway: no visible binding for global variable
  'cMAPCARTAINTERACTION'
rendercMAPPathway: no visible binding for global variable
  'cMAPCARTAMOLECULE'
plot,coloredGraph-ANY: no visible global function definition for
  'palette'
Undefined global functions or variables:
  cMAPCARTAINTERACTION cMAPCARTAMOLECULE cMAPCARTAPATHWAY
  cMAPKEGGINTERACTION cMAPKEGGMOLECULE cMAPKEGGPATHWAY colorRampPalette
  exprs exprs<- featureData<- featureNames featureNames<- na.omit
  palette phenoData quantile
Consider adding
  importFrom("grDevices", "colorRampPalette", "palette")
  importFrom("stats", "na.omit", "quantile")
to your NAMESPACE file.
* checking Rd files ... OK
* checking Rd metadata ... OK
* checking Rd cross-references ... OK
* checking for missing documentation entries ... OK
* checking for code/documentation mismatches ... OK
* checking Rd \usage sections ... OK
* checking Rd contents ... OK
* checking for unstated dependencies in examples ... OK
* checking files in 'vignettes' ... OK
* checking examples ...
** running examples for arch 'i386' ... OK
** running examples for arch 'x64' ... OK
* checking for unstated dependencies in vignettes ... OK
* checking package vignettes in 'inst/doc' ... OK
* checking running R code from vignettes ... SKIPPED
* checking re-building of vignette outputs ... SKIPPED
* checking PDF version of manual ... OK
* DONE

Status: 2 NOTEs
See
  'C:/Users/biocbuild/bbs-3.13-bioc/meat/pathRender.Rcheck/00check.log'
for details.



Installation output

pathRender.Rcheck/00install.out

##############################################################################
##############################################################################
###
### Running command:
###
###   C:\cygwin\bin\curl.exe -O http://155.52.207.165/BBS/3.13/bioc/src/contrib/pathRender_1.60.0.tar.gz && rm -rf pathRender.buildbin-libdir && mkdir pathRender.buildbin-libdir && C:\Users\biocbuild\bbs-3.13-bioc\R\bin\R.exe CMD INSTALL --merge-multiarch --build --library=pathRender.buildbin-libdir pathRender_1.60.0.tar.gz && C:\Users\biocbuild\bbs-3.13-bioc\R\bin\R.exe CMD INSTALL pathRender_1.60.0.zip && rm pathRender_1.60.0.tar.gz pathRender_1.60.0.zip
###
##############################################################################
##############################################################################


  % Total    % Received % Xferd  Average Speed   Time    Time     Time  Current
                                 Dload  Upload   Total   Spent    Left  Speed

  0     0    0     0    0     0      0      0 --:--:-- --:--:-- --:--:--     0
100 11712  100 11712    0     0   211k      0 --:--:-- --:--:-- --:--:--  215k

install for i386

* installing *source* package 'pathRender' ...
** using staged installation
** R
** inst
** byte-compile and prepare package for lazy loading
** help
*** installing help indices
  converting help for package 'pathRender'
    finding HTML links ... done
    colorNodes                              html  
    coloredGraph-class                      html  
    graphcMAP                               html  
    plotExGraph                             html  
    pwayGraph-class                         html  
    reduceES                                html  
    rendercMAP                              html  
** building package indices
** installing vignettes
** testing if installed package can be loaded from temporary location
** testing if installed package can be loaded from final location
** testing if installed package keeps a record of temporary installation path

install for x64

* installing *source* package 'pathRender' ...
** testing if installed package can be loaded
* MD5 sums
packaged installation of 'pathRender' as pathRender_1.60.0.zip
* DONE (pathRender)
* installing to library 'C:/Users/biocbuild/bbs-3.13-bioc/R/library'
package 'pathRender' successfully unpacked and MD5 sums checked

Tests output


Example timings

pathRender.Rcheck/examples_i386/pathRender-Ex.timings

nameusersystemelapsed
colorNodes0.320.040.83
coloredGraph-class0.140.000.14
graphcMAP0.580.020.67
plotExGraph2.390.142.53
pwayGraph-class0.050.000.05
reduceES1.720.051.76
rendercMAP0.310.000.32

pathRender.Rcheck/examples_x64/pathRender-Ex.timings

nameusersystemelapsed
colorNodes0.250.000.25
coloredGraph-class0.110.000.11
graphcMAP0.280.000.28
plotExGraph1.890.112.00
pwayGraph-class0.050.000.04
reduceES1.560.031.60
rendercMAP0.310.000.31