Back to Multiple platform build/check report for BioC 3.13
ABCDEFGHIJKLMNO[P]QRSTUVWXYZ

This page was generated on 2021-07-30 15:06:33 -0400 (Fri, 30 Jul 2021).

BUILD BIN results for pathRender on machv2

To the developers/maintainers of the pathRender package:
- Please allow up to 24 hours (and sometimes 48 hours) for your latest push to git@git.bioconductor.org:packages/pathRender.git to
reflect on this report. See How and When does the builder pull? When will my changes propagate? here for more information.
- Make sure to use the following settings in order to reproduce any error or warning you see on this page.

raw results

Package 1351/2041HostnameOS / ArchINSTALLBUILDCHECKBUILD BIN
pathRender 1.60.0  (landing page)
Vince Carey
Snapshot Date: 2021-07-29 04:50:02 -0400 (Thu, 29 Jul 2021)
URL: https://git.bioconductor.org/packages/pathRender
Branch: RELEASE_3_13
Last Commit: a976baf
Last Changed Date: 2021-05-19 11:36:44 -0400 (Wed, 19 May 2021)
nebbiolo1Linux (Ubuntu 20.04.2 LTS) / x86_64  OK    OK    OK  UNNEEDED, same version is already published
tokay2Windows Server 2012 R2 Standard / x64  OK    OK    OK    OK  UNNEEDED, same version is already published
machv2macOS 10.14.6 Mojave / x86_64  OK    OK    OK    OK  UNNEEDED, same version is already published

Summary

Package: pathRender
Version: 1.60.0
Command: rm -rf pathRender.buildbin-libdir && mkdir pathRender.buildbin-libdir && /Users/biocbuild/BBS/utils/build-universal.sh pathRender_1.60.0.tar.gz /Library/Frameworks/R.framework/Versions/Current/Resources/bin/R pathRender.buildbin-libdir
StartedAt: 2021-07-30 02:46:02 -0400 (Fri, 30 Jul 2021)
EndedAt: 2021-07-30 02:46:52 -0400 (Fri, 30 Jul 2021)
EllapsedTime: 50.3 seconds
RetCode: 0
Status:   OK  
PackageFile: pathRender_1.60.0.tgz
PackageFileSize: 251 KiB

Command output

##############################################################################
##############################################################################
###
### Running command:
###
###   rm -rf pathRender.buildbin-libdir && mkdir pathRender.buildbin-libdir && /Users/biocbuild/BBS/utils/build-universal.sh pathRender_1.60.0.tar.gz /Library/Frameworks/R.framework/Versions/Current/Resources/bin/R pathRender.buildbin-libdir
###
##############################################################################
##############################################################################


>>>>>>> 
>>>>>>> INSTALLATION WITH 'R CMD INSTALL --preclean --no-multiarch --library=pathRender.buildbin-libdir pathRender_1.60.0.tar.gz'
>>>>>>> 

* installing *source* package ‘pathRender’ ...
** using staged installation
** R
** inst
** byte-compile and prepare package for lazy loading
** help
*** installing help indices
** building package indices
** installing vignettes
** testing if installed package can be loaded from temporary location
** testing if installed package can be loaded from final location
** testing if installed package keeps a record of temporary installation path
* DONE (pathRender)