Back to Multiple platform build/check report for BioC 3.13
ABCDEFGHIJKLMN[O]PQRSTUVWXYZ

This page was generated on 2021-07-23 15:06:13 -0400 (Fri, 23 Jul 2021).

BUILD BIN results for oposSOM on tokay2

To the developers/maintainers of the oposSOM package:
- Please allow up to 24 hours (and sometimes 48 hours) for your latest push to git@git.bioconductor.org:packages/oposSOM.git to
reflect on this report. See How and When does the builder pull? When will my changes propagate? here for more information.
- Make sure to use the following settings in order to reproduce any error or warning you see on this page.

raw results

Package 1316/2041HostnameOS / ArchINSTALLBUILDCHECKBUILD BIN
oposSOM 2.10.0  (landing page)
Henry Loeffler-Wirth
Snapshot Date: 2021-07-22 04:50:13 -0400 (Thu, 22 Jul 2021)
URL: https://git.bioconductor.org/packages/oposSOM
Branch: RELEASE_3_13
Last Commit: 8a2b436
Last Changed Date: 2021-05-19 12:05:49 -0400 (Wed, 19 May 2021)
nebbiolo1Linux (Ubuntu 20.04.2 LTS) / x86_64  OK    OK    WARNINGS  UNNEEDED, same version is already published
tokay2Windows Server 2012 R2 Standard / x64  OK    OK    WARNINGS    OK  UNNEEDED, same version is already published
machv2macOS 10.14.6 Mojave / x86_64  OK    OK    WARNINGS    OK  UNNEEDED, same version is already published

Summary

Package: oposSOM
Version: 2.10.0
Command: rm -rf oposSOM.buildbin-libdir && mkdir oposSOM.buildbin-libdir && C:\Users\biocbuild\bbs-3.13-bioc\R\bin\R.exe CMD INSTALL --merge-multiarch --build --library=oposSOM.buildbin-libdir oposSOM_2.10.0.tar.gz
StartedAt: 2021-07-23 10:51:52 -0400 (Fri, 23 Jul 2021)
EndedAt: 2021-07-23 10:53:33 -0400 (Fri, 23 Jul 2021)
EllapsedTime: 100.5 seconds
RetCode: 0
Status:   OK  
PackageFile: oposSOM_2.10.0.zip
PackageFileSize: 13.98 MiB

Command output

##############################################################################
##############################################################################
###
### Running command:
###
###   rm -rf oposSOM.buildbin-libdir && mkdir oposSOM.buildbin-libdir && C:\Users\biocbuild\bbs-3.13-bioc\R\bin\R.exe CMD INSTALL --merge-multiarch --build --library=oposSOM.buildbin-libdir oposSOM_2.10.0.tar.gz
###
##############################################################################
##############################################################################



install for i386

* installing *source* package 'oposSOM' ...
** using staged installation
** libs
"C:/rtools40/mingw32/bin/"g++  -std=gnu++11 -I"C:/Users/BIOCBU~1/BBS-3~1.13-/R/include" -DNDEBUG  -I'C:/Users/biocbuild/bbs-3.13-bioc/R/library/RcppParallel/include' -I'C:/Users/biocbuild/bbs-3.13-bioc/R/library/Rcpp/include'   -I"C:/extsoft/include"  -DRCPP_PARALLEL_USE_TBB=1   -O2 -Wall  -mfpmath=sse -msse2 -mstackrealign  -c DeltaMatrix.cpp -o DeltaMatrix.o
"C:/rtools40/mingw32/bin/"g++  -std=gnu++11 -I"C:/Users/BIOCBU~1/BBS-3~1.13-/R/include" -DNDEBUG  -I'C:/Users/biocbuild/bbs-3.13-bioc/R/library/RcppParallel/include' -I'C:/Users/biocbuild/bbs-3.13-bioc/R/library/Rcpp/include'   -I"C:/extsoft/include"  -DRCPP_PARALLEL_USE_TBB=1   -O2 -Wall  -mfpmath=sse -msse2 -mstackrealign  -c DistanceCalculator.cpp -o DistanceCalculator.o
"C:/rtools40/mingw32/bin/"g++  -std=gnu++11 -I"C:/Users/BIOCBU~1/BBS-3~1.13-/R/include" -DNDEBUG  -I'C:/Users/biocbuild/bbs-3.13-bioc/R/library/RcppParallel/include' -I'C:/Users/biocbuild/bbs-3.13-bioc/R/library/Rcpp/include'   -I"C:/extsoft/include"  -DRCPP_PARALLEL_USE_TBB=1   -O2 -Wall  -mfpmath=sse -msse2 -mstackrealign  -c NeighborhoodMatrix.cpp -o NeighborhoodMatrix.o
"C:/rtools40/mingw32/bin/"g++  -std=gnu++11 -I"C:/Users/BIOCBU~1/BBS-3~1.13-/R/include" -DNDEBUG  -I'C:/Users/biocbuild/bbs-3.13-bioc/R/library/RcppParallel/include' -I'C:/Users/biocbuild/bbs-3.13-bioc/R/library/Rcpp/include'   -I"C:/extsoft/include"  -DRCPP_PARALLEL_USE_TBB=1   -O2 -Wall  -mfpmath=sse -msse2 -mstackrealign  -c RcppExports.cpp -o RcppExports.o
C:/rtools40/mingw32/bin/g++ -shared -s -static-libgcc -o oposSOM.dll tmp.def DeltaMatrix.o DistanceCalculator.o NeighborhoodMatrix.o RcppExports.o -LC:/Users/biocbuild/bbs-3.13-bioc/R/library/RcppParallel/lib/i386 -ltbb -ltbbmalloc -LC:/extsoft/lib/i386 -LC:/extsoft/lib -LC:/Users/BIOCBU~1/BBS-3~1.13-/R/bin/i386 -lR
installing to C:/Users/biocbuild/bbs-3.13-bioc/meat/oposSOM.buildbin-libdir/00LOCK-oposSOM/00new/oposSOM/libs/i386
** R
** data
** inst
** byte-compile and prepare package for lazy loading
** help
*** installing help indices
  converting help for package 'oposSOM'
    finding HTML links ... done
    oposSOM-package                         html  
    opossom.genesets                        html  
    opossom.new                             html  
    opossom.run                             html  
    opossom.tissues                         html  
** building package indices
** installing vignettes
** testing if installed package can be loaded from temporary location
** testing if installed package can be loaded from final location
** testing if installed package keeps a record of temporary installation path

install for x64

* installing *source* package 'oposSOM' ...
** libs
"C:/rtools40/mingw64/bin/"g++  -std=gnu++11 -I"C:/Users/BIOCBU~1/BBS-3~1.13-/R/include" -DNDEBUG  -I'C:/Users/biocbuild/bbs-3.13-bioc/R/library/RcppParallel/include' -I'C:/Users/biocbuild/bbs-3.13-bioc/R/library/Rcpp/include'   -I"C:/extsoft/include"  -DRCPP_PARALLEL_USE_TBB=1   -O2 -Wall  -mfpmath=sse -msse2 -mstackrealign  -c DeltaMatrix.cpp -o DeltaMatrix.o
"C:/rtools40/mingw64/bin/"g++  -std=gnu++11 -I"C:/Users/BIOCBU~1/BBS-3~1.13-/R/include" -DNDEBUG  -I'C:/Users/biocbuild/bbs-3.13-bioc/R/library/RcppParallel/include' -I'C:/Users/biocbuild/bbs-3.13-bioc/R/library/Rcpp/include'   -I"C:/extsoft/include"  -DRCPP_PARALLEL_USE_TBB=1   -O2 -Wall  -mfpmath=sse -msse2 -mstackrealign  -c DistanceCalculator.cpp -o DistanceCalculator.o
"C:/rtools40/mingw64/bin/"g++  -std=gnu++11 -I"C:/Users/BIOCBU~1/BBS-3~1.13-/R/include" -DNDEBUG  -I'C:/Users/biocbuild/bbs-3.13-bioc/R/library/RcppParallel/include' -I'C:/Users/biocbuild/bbs-3.13-bioc/R/library/Rcpp/include'   -I"C:/extsoft/include"  -DRCPP_PARALLEL_USE_TBB=1   -O2 -Wall  -mfpmath=sse -msse2 -mstackrealign  -c NeighborhoodMatrix.cpp -o NeighborhoodMatrix.o
"C:/rtools40/mingw64/bin/"g++  -std=gnu++11 -I"C:/Users/BIOCBU~1/BBS-3~1.13-/R/include" -DNDEBUG  -I'C:/Users/biocbuild/bbs-3.13-bioc/R/library/RcppParallel/include' -I'C:/Users/biocbuild/bbs-3.13-bioc/R/library/Rcpp/include'   -I"C:/extsoft/include"  -DRCPP_PARALLEL_USE_TBB=1   -O2 -Wall  -mfpmath=sse -msse2 -mstackrealign  -c RcppExports.cpp -o RcppExports.o
C:/rtools40/mingw64/bin/g++ -shared -s -static-libgcc -o oposSOM.dll tmp.def DeltaMatrix.o DistanceCalculator.o NeighborhoodMatrix.o RcppExports.o -LC:/Users/biocbuild/bbs-3.13-bioc/R/library/RcppParallel/lib/x64 -ltbb -ltbbmalloc -LC:/extsoft/lib/x64 -LC:/extsoft/lib -LC:/Users/BIOCBU~1/BBS-3~1.13-/R/bin/x64 -lR
installing to C:/Users/biocbuild/bbs-3.13-bioc/meat/oposSOM.buildbin-libdir/oposSOM/libs/x64
** testing if installed package can be loaded
* MD5 sums
packaged installation of 'oposSOM' as oposSOM_2.10.0.zip
* DONE (oposSOM)