Index of /checkResults/release/bioc-LATEST/oposSOM/raw-results/nebbiolo1

[ICO]NameLast modifiedSizeDescription

[DIR]Parent Directory  -  
[TXT]buildsrc-out.txt16-Oct-2021 04:05 899  
[   ]buildsrc-summary.dcf16-Oct-2021 04:05 417  
[TXT]checksrc-out.txt16-Oct-2021 04:05 10K 
[   ]checksrc-summary.dcf16-Oct-2021 04:05 430  
[TXT]install-out.txt16-Oct-2021 04:05 2.4K 
[   ]install-summary.dcf16-Oct-2021 04:05 259