Index of /checkResults/release/bioc-LATEST/oposSOM/raw-results/machv2

[ICO]NameLast modifiedSizeDescription

[DIR]Parent Directory  -  
[TXT]buildbin-out.txt16-Oct-2021 04:06 3.8K 
[   ]buildbin-summary.dcf16-Oct-2021 04:06 547  
[TXT]buildsrc-out.txt16-Oct-2021 04:06 926  
[   ]buildsrc-summary.dcf16-Oct-2021 04:06 443  
[TXT]checksrc-out.txt16-Oct-2021 04:06 11K 
[   ]checksrc-summary.dcf16-Oct-2021 04:06 484  
[TXT]install-out.txt16-Oct-2021 04:06 3.0K 
[   ]install-summary.dcf16-Oct-2021 04:06 286