Back to Multiple platform build/check report for BioC 3.13
ABCDEFGHIJKLMN[O]PQRSTUVWXYZ

This page was generated on 2021-07-21 15:05:59 -0400 (Wed, 21 Jul 2021).

BUILD results for openCyto on machv2

To the developers/maintainers of the openCyto package:
- Please allow up to 24 hours (and sometimes 48 hours) for your latest push to git@git.bioconductor.org:packages/openCyto.git to
reflect on this report. See How and When does the builder pull? When will my changes propagate? here for more information.
- Make sure to use the following settings in order to reproduce any error or warning you see on this page.

raw results

Package 1312/2041HostnameOS / ArchINSTALLBUILDCHECKBUILD BIN
openCyto 2.4.0  (landing page)
Mike Jiang ,Jake Wagner
Snapshot Date: 2021-07-20 04:50:13 -0400 (Tue, 20 Jul 2021)
URL: https://git.bioconductor.org/packages/openCyto
Branch: RELEASE_3_13
Last Commit: 458a40d
Last Changed Date: 2021-05-19 12:01:23 -0400 (Wed, 19 May 2021)
nebbiolo1Linux (Ubuntu 20.04.2 LTS) / x86_64  OK    OK    OK  UNNEEDED, same version is already published
tokay2Windows Server 2012 R2 Standard / x64  OK    OK    OK    OK  UNNEEDED, same version is already published
machv2macOS 10.14.6 Mojave / x86_64  OK    OK    OK    OK  UNNEEDED, same version is already published

Summary

Package: openCyto
Version: 2.4.0
Command: /Library/Frameworks/R.framework/Versions/Current/Resources/bin/R CMD build --keep-empty-dirs --no-resave-data openCyto
StartedAt: 2021-07-20 13:24:11 -0400 (Tue, 20 Jul 2021)
EndedAt: 2021-07-20 13:26:57 -0400 (Tue, 20 Jul 2021)
EllapsedTime: 166.3 seconds
RetCode: 0
Status:   OK  
PackageFile: openCyto_2.4.0.tar.gz
PackageFileSize: 1.492 MiB

Command output

##############################################################################
##############################################################################
###
### Running command:
###
###   /Library/Frameworks/R.framework/Versions/Current/Resources/bin/R CMD build --keep-empty-dirs --no-resave-data openCyto
###
##############################################################################
##############################################################################


* checking for file ‘openCyto/DESCRIPTION’ ... OK
* preparing ‘openCyto’:
* checking DESCRIPTION meta-information ... OK
* cleaning src
* installing the package to build vignettes
* creating vignettes ... OK
* cleaning src
* checking for LF line-endings in source and make files and shell scripts
* checking for empty or unneeded directories
  NB: this package now depends on R (>= 3.5.0)
  WARNING: Added dependency on R >= 3.5.0 because serialized objects in
  serialize/load version 3 cannot be read in older versions of R.
  File(s) containing such objects:
    ‘openCyto/tests/testthat/expectResults.rds’
* building ‘openCyto_2.4.0.tar.gz’