Back to Multiple platform build/check report for BioC 3.13
ABCDEFGHIJKLMN[O]PQRSTUVWXYZ

This page was generated on 2021-08-02 15:04:54 -0400 (Mon, 02 Aug 2021).

CHECK results for ontoProc on nebbiolo1

To the developers/maintainers of the ontoProc package:
- Please allow up to 24 hours (and sometimes 48 hours) for your latest push to git@git.bioconductor.org:packages/ontoProc.git to
reflect on this report. See How and When does the builder pull? When will my changes propagate? here for more information.
- Make sure to use the following settings in order to reproduce any error or warning you see on this page.

raw results

Package 1311/2041HostnameOS / ArchINSTALLBUILDCHECKBUILD BIN
ontoProc 1.14.0  (landing page)
VJ Carey
Snapshot Date: 2021-08-01 04:50:10 -0400 (Sun, 01 Aug 2021)
URL: https://git.bioconductor.org/packages/ontoProc
Branch: RELEASE_3_13
Last Commit: 2ba1033
Last Changed Date: 2021-05-19 12:31:28 -0400 (Wed, 19 May 2021)
nebbiolo1Linux (Ubuntu 20.04.2 LTS) / x86_64  OK    OK    OK  UNNEEDED, same version is already published
tokay2Windows Server 2012 R2 Standard / x64  OK    OK    OK    OK  UNNEEDED, same version is already published
machv2macOS 10.14.6 Mojave / x86_64  OK    OK    OK    OK  UNNEEDED, same version is already published

Summary

Package: ontoProc
Version: 1.14.0
Command: /home/biocbuild/bbs-3.13-bioc/R/bin/R CMD check --install=check:ontoProc.install-out.txt --library=/home/biocbuild/bbs-3.13-bioc/R/library --no-vignettes --timings ontoProc_1.14.0.tar.gz
StartedAt: 2021-08-01 10:48:30 -0400 (Sun, 01 Aug 2021)
EndedAt: 2021-08-01 10:52:11 -0400 (Sun, 01 Aug 2021)
EllapsedTime: 220.7 seconds
RetCode: 0
Status:   OK  
CheckDir: ontoProc.Rcheck
Warnings: 0

Command output

##############################################################################
##############################################################################
###
### Running command:
###
###   /home/biocbuild/bbs-3.13-bioc/R/bin/R CMD check --install=check:ontoProc.install-out.txt --library=/home/biocbuild/bbs-3.13-bioc/R/library --no-vignettes --timings ontoProc_1.14.0.tar.gz
###
##############################################################################
##############################################################################


* using log directory ‘/home/biocbuild/bbs-3.13-bioc/meat/ontoProc.Rcheck’
* using R version 4.1.0 (2021-05-18)
* using platform: x86_64-pc-linux-gnu (64-bit)
* using session charset: UTF-8
* using option ‘--no-vignettes’
* checking for file ‘ontoProc/DESCRIPTION’ ... OK
* this is package ‘ontoProc’ version ‘1.14.0’
* package encoding: UTF-8
* checking package namespace information ... OK
* checking package dependencies ... OK
* checking if this is a source package ... OK
* checking if there is a namespace ... OK
* checking for hidden files and directories ... OK
* checking for portable file names ... OK
* checking for sufficient/correct file permissions ... OK
* checking whether package ‘ontoProc’ can be installed ... OK
* checking installed package size ... NOTE
  installed size is 40.0Mb
  sub-directories of 1Mb or more:
    app       1.6Mb
    data      1.9Mb
    ontoRda  36.0Mb
* checking package directory ... OK
* checking ‘build’ directory ... OK
* checking DESCRIPTION meta-information ... OK
* checking top-level files ... OK
* checking for left-over files ... OK
* checking index information ... OK
* checking package subdirectories ... OK
* checking R files for non-ASCII characters ... OK
* checking R files for syntax errors ... OK
* checking whether the package can be loaded ... OK
* checking whether the package can be loaded with stated dependencies ... OK
* checking whether the package can be unloaded cleanly ... OK
* checking whether the namespace can be loaded with stated dependencies ... OK
* checking whether the namespace can be unloaded cleanly ... OK
* checking dependencies in R code ... OK
* checking S3 generic/method consistency ... OK
* checking replacement functions ... OK
* checking foreign function calls ... OK
* checking R code for possible problems ... NOTE
CLfeat : prupdate: no visible binding for global variable ‘PRID’
CLfeat : prupdate: no visible binding for global variable ‘SYMBOL’
bind_formal_tags: no visible global function definition for ‘colData’
bind_formal_tags: no visible global function definition for ‘colData<-’
common_classes: no visible global function definition for ‘colData’
connect_classes: no visible global function definition for ‘colData’
ctmarks: no visible binding for '<<-' assignment to ‘pr’
ctmarks: no visible binding for '<<-' assignment to ‘go’
ctmarks : server: no visible binding for global variable ‘text’
ldfToTerm: no visible binding for global variable ‘PROSYM’
subset_descendants: no visible global function definition for ‘colData’
sym2CellOnto: no visible binding for global variable ‘SYMBOL’
Undefined global functions or variables:
  PRID PROSYM SYMBOL colData colData<- text
Consider adding
  importFrom("graphics", "text")
to your NAMESPACE file.
* checking Rd files ... OK
* checking Rd metadata ... OK
* checking Rd cross-references ... OK
* checking for missing documentation entries ... OK
* checking for code/documentation mismatches ... OK
* checking Rd \usage sections ... OK
* checking Rd contents ... OK
* checking for unstated dependencies in examples ... OK
* checking contents of ‘data’ directory ... OK
* checking data for non-ASCII characters ... NOTE
  Note: found 162 marked UTF-8 strings
* checking LazyData ... OK
* checking data for ASCII and uncompressed saves ... OK
* checking files in ‘vignettes’ ... OK
* checking examples ... OK
Examples with CPU (user + system) or elapsed time > 5s
                    user system elapsed
common_classes    20.816  2.179  24.389
CLfeats           14.809  0.528  15.346
fastGrep          11.538  0.101  11.638
getLeavesFromTerm  7.451  0.084   7.535
sym2CellOnto       6.053  0.036   6.089
getCellOnto        5.017  0.100   5.119
* checking for unstated dependencies in ‘tests’ ... OK
* checking tests ...
  Running ‘test.R’
 OK
* checking for unstated dependencies in vignettes ... OK
* checking package vignettes in ‘inst/doc’ ... OK
* checking running R code from vignettes ... SKIPPED
* checking re-building of vignette outputs ... SKIPPED
* checking PDF version of manual ... OK
* DONE

Status: 3 NOTEs
See
  ‘/home/biocbuild/bbs-3.13-bioc/meat/ontoProc.Rcheck/00check.log’
for details.



Installation output

ontoProc.Rcheck/00install.out

##############################################################################
##############################################################################
###
### Running command:
###
###   /home/biocbuild/bbs-3.13-bioc/R/bin/R CMD INSTALL ontoProc
###
##############################################################################
##############################################################################


* installing to library ‘/home/biocbuild/bbs-3.13-bioc/R/library’
* installing *source* package ‘ontoProc’ ...
** using staged installation
** R
** data
*** moving datasets to lazyload DB
** inst
** byte-compile and prepare package for lazy loading
** help
*** installing help indices
** building package indices
** installing vignettes
** testing if installed package can be loaded from temporary location
** testing if installed package can be loaded from final location
** testing if installed package keeps a record of temporary installation path
* DONE (ontoProc)

Tests output

ontoProc.Rcheck/tests/test.Rout


R version 4.1.0 (2021-05-18) -- "Camp Pontanezen"
Copyright (C) 2021 The R Foundation for Statistical Computing
Platform: x86_64-pc-linux-gnu (64-bit)

R is free software and comes with ABSOLUTELY NO WARRANTY.
You are welcome to redistribute it under certain conditions.
Type 'license()' or 'licence()' for distribution details.

R is a collaborative project with many contributors.
Type 'contributors()' for more information and
'citation()' on how to cite R or R packages in publications.

Type 'demo()' for some demos, 'help()' for on-line help, or
'help.start()' for an HTML browser interface to help.
Type 'q()' to quit R.

> 
> library(ontoProc)
Loading required package: ontologyIndex
> library(testthat)
> 
> test_check("ontoProc")
[ FAIL 0 | WARN 0 | SKIP 0 | PASS 8 ]
> 
> 
> proc.time()
   user  system elapsed 
 20.636   0.940  21.563 

Example timings

ontoProc.Rcheck/ontoProc-Ex.timings

nameusersystemelapsed
CLfeats14.809 0.52815.346
PROSYM0.0020.0000.002
TermSet-class0.2170.0120.229
allGOterms0.0510.0040.054
cellTypeToGO1.3530.0881.442
cleanCLOnames0.6000.0170.618
common_classes20.816 2.17924.389
cyclicSigset0.0050.0010.006
demoApp000
dropStop0.0000.0040.004
fastGrep11.538 0.10111.638
findCommonAncestors2.6050.2442.849
getCellOnto5.0170.1005.119
getLeavesFromTerm7.4510.0847.535
humrna0.0030.0040.006
ldfToTerms0.1410.0160.157
liberalMap3.7190.0603.779
makeSelectInput000
make_graphNEL_from_ontology_plot1.7330.0161.749
mapOneNaive1.7550.0001.755
minicorpus0.0000.0010.001
nomenCheckup0.9070.0060.912
onto_plot21.8560.0201.876
onto_roots0.0000.0000.001
packDesc20190.0000.0020.003
recognizedPredicates0.0000.0000.001
secLevGen0.1890.0040.194
selectFromMap1.7280.0081.736
seur3kTab0.0000.0030.003
siblings_TAG0.5440.0070.551
stopWords0.0010.0000.001
sym2CellOnto6.0530.0366.089