Back to Multiple platform build/check report for BioC 3.13
ABCDEFGHIJKLMN[O]PQRSTUVWXYZ

All results for package oneSENSE

This page was generated on 2021-06-14 14:04:35 -0400 (Mon, 14 Jun 2021).

Package 1309/2041HostnameOS / ArchINSTALLBUILDCHECKBUILD BIN
oneSENSE 1.14.0  (landing page)
Yong Kee Tan
Snapshot Date: 2021-06-13 06:50:09 -0400 (Sun, 13 Jun 2021)
URL: https://git.bioconductor.org/packages/oneSENSE
Branch: RELEASE_3_13
Last Commit: 732f387
Last Changed Date: 2021-05-19 12:28:59 -0400 (Wed, 19 May 2021)
nebbiolo1Linux (Ubuntu 20.04.2 LTS) / x86_64  OK    OK    WARNINGS  UNNEEDED, same version is already published
tokay2Windows Server 2012 R2 Standard / x64  OK    OK    ERROR    OK  
machv2macOS 10.14.6 Mojave / x86_64  OK    OK    WARNINGS    OK  UNNEEDED, same version is already published