Back to Multiple platform build/check report for BioC 3.13
ABCDEFGHIJKLMN[O]PQRSTUVWXYZ

This page was generated on 2021-09-24 15:06:19 -0400 (Fri, 24 Sep 2021).

INSTALL results for omicRexposome on tokay2

To the developers/maintainers of the omicRexposome package:
- Please allow up to 24 hours (and sometimes 48 hours) for your latest push to git@git.bioconductor.org:packages/omicRexposome.git to
reflect on this report. See How and When does the builder pull? When will my changes propagate? here for more information.
- Make sure to use the following settings in order to reproduce any error or warning you see on this page.

raw results

Package 1299/2041HostnameOS / ArchINSTALLBUILDCHECKBUILD BIN
omicRexposome 1.14.0  (landing page)
Xavier EscribĂ  Montagut
Snapshot Date: 2021-09-23 04:50:12 -0400 (Thu, 23 Sep 2021)
git_url: https://git.bioconductor.org/packages/omicRexposome
git_branch: RELEASE_3_13
git_last_commit: f490520
git_last_commit_date: 2021-05-19 12:30:50 -0400 (Wed, 19 May 2021)
nebbiolo1Linux (Ubuntu 20.04.2 LTS) / x86_64  OK    OK    OK  UNNEEDED, same version is already published
tokay2Windows Server 2012 R2 Standard / x64  OK    OK    OK    OK  UNNEEDED, same version is already published
machv2macOS 10.14.6 Mojave / x86_64  OK    OK    OK    OK  UNNEEDED, same version is already published

Summary

Package: omicRexposome
Version: 1.14.0
Command: C:\cygwin\bin\curl.exe -O http://155.52.207.165/BBS/3.13/bioc/src/contrib/omicRexposome_1.14.0.tar.gz && rm -rf omicRexposome.buildbin-libdir && mkdir omicRexposome.buildbin-libdir && C:\Users\biocbuild\bbs-3.13-bioc\R\bin\R.exe CMD INSTALL --merge-multiarch --build --library=omicRexposome.buildbin-libdir omicRexposome_1.14.0.tar.gz && C:\Users\biocbuild\bbs-3.13-bioc\R\bin\R.exe CMD INSTALL omicRexposome_1.14.0.zip && rm omicRexposome_1.14.0.tar.gz omicRexposome_1.14.0.zip
StartedAt: 2021-09-23 09:34:23 -0400 (Thu, 23 Sep 2021)
EndedAt: 2021-09-23 09:35:47 -0400 (Thu, 23 Sep 2021)
EllapsedTime: 84.0 seconds
RetCode: 0
Status:   OK  

Command output

##############################################################################
##############################################################################
###
### Running command:
###
###   C:\cygwin\bin\curl.exe -O http://155.52.207.165/BBS/3.13/bioc/src/contrib/omicRexposome_1.14.0.tar.gz && rm -rf omicRexposome.buildbin-libdir && mkdir omicRexposome.buildbin-libdir && C:\Users\biocbuild\bbs-3.13-bioc\R\bin\R.exe CMD INSTALL --merge-multiarch --build --library=omicRexposome.buildbin-libdir omicRexposome_1.14.0.tar.gz && C:\Users\biocbuild\bbs-3.13-bioc\R\bin\R.exe CMD INSTALL omicRexposome_1.14.0.zip && rm omicRexposome_1.14.0.tar.gz omicRexposome_1.14.0.zip
###
##############################################################################
##############################################################################


  % Total    % Received % Xferd  Average Speed   Time    Time     Time  Current
                                 Dload  Upload   Total   Spent    Left  Speed

  0     0    0     0    0     0      0      0 --:--:-- --:--:-- --:--:--     0
  7 1356k    7 98575    0     0   500k      0  0:00:02 --:--:--  0:00:02  501k
 27 1356k   27  373k    0     0   319k      0  0:00:04  0:00:01  0:00:03  319k
100 1356k  100 1356k    0     0   709k      0  0:00:01  0:00:01 --:--:--  709k

install for i386

* installing *source* package 'omicRexposome' ...
** using staged installation
** R
** data
*** moving datasets to lazyload DB
** inst
** byte-compile and prepare package for lazy loading
** help
*** installing help indices
  converting help for package 'omicRexposome'
    finding HTML links ... done
    add_cls-methods                         html  
    finding level-2 HTML links ... done

    add_exp-methods                         html  
    asr                                     html  
    association-methods                     html  
    crossomics-methods                      html  
    crs                                     html  
    getIntegration-methods                  html  
    mds                                     html  
    omicRexposome                           html  
    plotAssociation-methods                 html  
    plotHits-methods                        html  
    plotIntegration-methods                 html  
    plotLambda-methods                      html  
    snpToContinuous                         html  
    tableHits-methods                       html  
    tableLambda-methods                     html  
** building package indices
** installing vignettes
** testing if installed package can be loaded from temporary location
** testing if installed package can be loaded from final location
** testing if installed package keeps a record of temporary installation path

install for x64

* installing *source* package 'omicRexposome' ...
** testing if installed package can be loaded
* MD5 sums
packaged installation of 'omicRexposome' as omicRexposome_1.14.0.zip
* DONE (omicRexposome)
* installing to library 'C:/Users/biocbuild/bbs-3.13-bioc/R/library'
package 'omicRexposome' successfully unpacked and MD5 sums checked