Back to Multiple platform build/check report for BioC 3.13
ABCDEFGHIJKLMN[O]PQRSTUVWXYZ

This page was generated on 2021-09-24 15:06:50 -0400 (Fri, 24 Sep 2021).

BUILD BIN results for omicRexposome on machv2

To the developers/maintainers of the omicRexposome package:
- Please allow up to 24 hours (and sometimes 48 hours) for your latest push to git@git.bioconductor.org:packages/omicRexposome.git to
reflect on this report. See How and When does the builder pull? When will my changes propagate? here for more information.
- Make sure to use the following settings in order to reproduce any error or warning you see on this page.

raw results

Package 1299/2041HostnameOS / ArchINSTALLBUILDCHECKBUILD BIN
omicRexposome 1.14.0  (landing page)
Xavier Escribà Montagut
Snapshot Date: 2021-09-23 04:50:12 -0400 (Thu, 23 Sep 2021)
git_url: https://git.bioconductor.org/packages/omicRexposome
git_branch: RELEASE_3_13
git_last_commit: f490520
git_last_commit_date: 2021-05-19 12:30:50 -0400 (Wed, 19 May 2021)
nebbiolo1Linux (Ubuntu 20.04.2 LTS) / x86_64  OK    OK    OK  UNNEEDED, same version is already published
tokay2Windows Server 2012 R2 Standard / x64  OK    OK    OK    OK  UNNEEDED, same version is already published
machv2macOS 10.14.6 Mojave / x86_64  OK    OK    OK    OK  UNNEEDED, same version is already published

Summary

Package: omicRexposome
Version: 1.14.0
Command: rm -rf omicRexposome.buildbin-libdir && mkdir omicRexposome.buildbin-libdir && /Users/biocbuild/BBS/utils/build-universal.sh omicRexposome_1.14.0.tar.gz /Library/Frameworks/R.framework/Versions/Current/Resources/bin/R omicRexposome.buildbin-libdir
StartedAt: 2021-09-24 03:00:44 -0400 (Fri, 24 Sep 2021)
EndedAt: 2021-09-24 03:01:50 -0400 (Fri, 24 Sep 2021)
EllapsedTime: 66.2 seconds
RetCode: 0
Status:   OK  
PackageFile: omicRexposome_1.14.0.tgz
PackageFileSize: 2.613 MiB

Command output

##############################################################################
##############################################################################
###
### Running command:
###
###   rm -rf omicRexposome.buildbin-libdir && mkdir omicRexposome.buildbin-libdir && /Users/biocbuild/BBS/utils/build-universal.sh omicRexposome_1.14.0.tar.gz /Library/Frameworks/R.framework/Versions/Current/Resources/bin/R omicRexposome.buildbin-libdir
###
##############################################################################
##############################################################################


>>>>>>> 
>>>>>>> INSTALLATION WITH 'R CMD INSTALL --preclean --no-multiarch --library=omicRexposome.buildbin-libdir omicRexposome_1.14.0.tar.gz'
>>>>>>> 

* installing *source* package ‘omicRexposome’ ...
** using staged installation
** R
** data
*** moving datasets to lazyload DB
** inst
** byte-compile and prepare package for lazy loading
** help
*** installing help indices
** building package indices
** installing vignettes
** testing if installed package can be loaded from temporary location
** testing if installed package can be loaded from final location
** testing if installed package keeps a record of temporary installation path
* DONE (omicRexposome)