Back to Multiple platform build/check report for BioC 3.19:   simplified   long
ABCDEFGHIJKLM[N]OPQRSTUVWXYZ

This page was generated on 2024-07-16 17:42 -0400 (Tue, 16 Jul 2024).

HostnameOSArch (*)R versionInstalled pkgs
nebbiolo1Linux (Ubuntu 22.04.3 LTS)x86_644.4.1 (2024-06-14) -- "Race for Your Life" 4742
palomino7Windows Server 2022 Datacenterx644.4.1 (2024-06-14 ucrt) -- "Race for Your Life" 4484
merida1macOS 12.7.4 Montereyx86_644.4.1 (2024-06-14) -- "Race for Your Life" 4513
kjohnson1macOS 13.6.6 Venturaarm644.4.1 (2024-06-14) -- "Race for Your Life" 4462
Click on any hostname to see more info about the system (e.g. compilers)      (*) as reported by 'uname -p', except on Windows and Mac OS X

Package 1446/2300HostnameOS / ArchINSTALLBUILDCHECKBUILD BIN
nullranges 1.10.0  (landing page)
Michael Love
Snapshot Date: 2024-07-14 14:00 -0400 (Sun, 14 Jul 2024)
git_url: https://git.bioconductor.org/packages/nullranges
git_branch: RELEASE_3_19
git_last_commit: a4c4b75
git_last_commit_date: 2024-04-30 11:38:00 -0400 (Tue, 30 Apr 2024)
nebbiolo1Linux (Ubuntu 22.04.3 LTS) / x86_64  OK    OK    OK  UNNEEDED, same version is already published
palomino7Windows Server 2022 Datacenter / x64  OK    OK    OK    OK  
merida1macOS 12.7.4 Monterey / x86_64  OK    OK    OK    OK  UNNEEDED, same version is already published
kjohnson1macOS 13.6.6 Ventura / arm64  OK    OK    OK    OK  UNNEEDED, same version is already published


CHECK results for nullranges on kjohnson1

To the developers/maintainers of the nullranges package:
- Allow up to 24 hours (and sometimes 48 hours) for your latest push to git@git.bioconductor.org:packages/nullranges.git to reflect on this report. See Troubleshooting Build Report for more information.
- Use the following Renviron settings to reproduce errors and warnings.
- If 'R CMD check' started to fail recently on the Linux builder(s) over a missing dependency, add the missing dependency to 'Suggests:' in your DESCRIPTION file. See Renviron.bioc for more information.

raw results


Summary

Package: nullranges
Version: 1.10.0
Command: /Library/Frameworks/R.framework/Resources/bin/R CMD check --install=check:nullranges.install-out.txt --library=/Library/Frameworks/R.framework/Resources/library --no-vignettes --timings nullranges_1.10.0.tar.gz
StartedAt: 2024-07-16 03:27:39 -0400 (Tue, 16 Jul 2024)
EndedAt: 2024-07-16 03:32:45 -0400 (Tue, 16 Jul 2024)
EllapsedTime: 305.5 seconds
RetCode: 0
Status:   OK  
CheckDir: nullranges.Rcheck
Warnings: 0

Command output

##############################################################################
##############################################################################
###
### Running command:
###
###   /Library/Frameworks/R.framework/Resources/bin/R CMD check --install=check:nullranges.install-out.txt --library=/Library/Frameworks/R.framework/Resources/library --no-vignettes --timings nullranges_1.10.0.tar.gz
###
##############################################################################
##############################################################################


* using log directory ‘/Users/biocbuild/bbs-3.19-bioc/meat/nullranges.Rcheck’
* using R version 4.4.1 (2024-06-14)
* using platform: aarch64-apple-darwin20
* R was compiled by
    Apple clang version 14.0.0 (clang-1400.0.29.202)
    GNU Fortran (GCC) 12.2.0
* running under: macOS Ventura 13.6.6
* using session charset: UTF-8
* using option ‘--no-vignettes’
* checking for file ‘nullranges/DESCRIPTION’ ... OK
* this is package ‘nullranges’ version ‘1.10.0’
* package encoding: UTF-8
* checking package namespace information ... OK
* checking package dependencies ... OK
* checking if this is a source package ... OK
* checking if there is a namespace ... OK
* checking for hidden files and directories ... OK
* checking for portable file names ... OK
* checking for sufficient/correct file permissions ... OK
* checking whether package ‘nullranges’ can be installed ... OK
* checking installed package size ... OK
* checking package directory ... OK
* checking ‘build’ directory ... OK
* checking DESCRIPTION meta-information ... OK
* checking top-level files ... OK
* checking for left-over files ... OK
* checking index information ... OK
* checking package subdirectories ... OK
* checking code files for non-ASCII characters ... OK
* checking R files for syntax errors ... OK
* checking whether the package can be loaded ... OK
* checking whether the package can be loaded with stated dependencies ... OK
* checking whether the package can be unloaded cleanly ... OK
* checking whether the namespace can be loaded with stated dependencies ... OK
* checking whether the namespace can be unloaded cleanly ... OK
* checking dependencies in R code ... OK
* checking S3 generic/method consistency ... OK
* checking replacement functions ... OK
* checking foreign function calls ... OK
* checking R code for possible problems ... OK
* checking Rd files ... NOTE
checkRd: (-1) MatchedDataFrame.Rd:68: Lost braces in \itemize; meant \describe ?
checkRd: (-1) MatchedDataFrame.Rd:69: Lost braces in \itemize; meant \describe ?
checkRd: (-1) MatchedDataFrame.Rd:70: Lost braces in \itemize; meant \describe ?
checkRd: (-1) MatchedDataFrame.Rd:71: Lost braces in \itemize; meant \describe ?
checkRd: (-1) MatchedDataFrame.Rd:72: Lost braces in \itemize; meant \describe ?
checkRd: (-1) MatchedDataFrame.Rd:83: Lost braces in \itemize; meant \describe ?
checkRd: (-1) MatchedDataFrame.Rd:84: Lost braces in \itemize; meant \describe ?
checkRd: (-1) MatchedDataFrame.Rd:85: Lost braces in \itemize; meant \describe ?
checkRd: (-1) MatchedDataFrame.Rd:86: Lost braces in \itemize; meant \describe ?
checkRd: (-1) MatchedGInteractions.Rd:68: Lost braces in \itemize; meant \describe ?
checkRd: (-1) MatchedGInteractions.Rd:69: Lost braces in \itemize; meant \describe ?
checkRd: (-1) MatchedGInteractions.Rd:70: Lost braces in \itemize; meant \describe ?
checkRd: (-1) MatchedGInteractions.Rd:71: Lost braces in \itemize; meant \describe ?
checkRd: (-1) MatchedGInteractions.Rd:72: Lost braces in \itemize; meant \describe ?
checkRd: (-1) MatchedGInteractions.Rd:83: Lost braces in \itemize; meant \describe ?
checkRd: (-1) MatchedGInteractions.Rd:84: Lost braces in \itemize; meant \describe ?
checkRd: (-1) MatchedGInteractions.Rd:85: Lost braces in \itemize; meant \describe ?
checkRd: (-1) MatchedGInteractions.Rd:86: Lost braces in \itemize; meant \describe ?
checkRd: (-1) MatchedGRanges.Rd:70: Lost braces in \itemize; meant \describe ?
checkRd: (-1) MatchedGRanges.Rd:71: Lost braces in \itemize; meant \describe ?
checkRd: (-1) MatchedGRanges.Rd:72: Lost braces in \itemize; meant \describe ?
checkRd: (-1) MatchedGRanges.Rd:73: Lost braces in \itemize; meant \describe ?
checkRd: (-1) MatchedGRanges.Rd:74: Lost braces in \itemize; meant \describe ?
checkRd: (-1) MatchedGRanges.Rd:85: Lost braces in \itemize; meant \describe ?
checkRd: (-1) MatchedGRanges.Rd:86: Lost braces in \itemize; meant \describe ?
checkRd: (-1) MatchedGRanges.Rd:87: Lost braces in \itemize; meant \describe ?
checkRd: (-1) MatchedGRanges.Rd:88: Lost braces in \itemize; meant \describe ?
checkRd: (-1) matchRanges.Rd:67-70: Lost braces in \itemize; meant \describe ?
checkRd: (-1) matchRanges.Rd:71-73: Lost braces in \itemize; meant \describe ?
checkRd: (-1) matchRanges.Rd:74-77: Lost braces in \itemize; meant \describe ?
checkRd: (-1) matchedClass.Rd:37: Lost braces in \itemize; meant \describe ?
checkRd: (-1) matchedClass.Rd:38: Lost braces in \itemize; meant \describe ?
checkRd: (-1) matchedClass.Rd:39: Lost braces in \itemize; meant \describe ?
checkRd: (-1) matchedClass.Rd:40: Lost braces in \itemize; meant \describe ?
checkRd: (-1) matchedClass.Rd:41: Lost braces in \itemize; meant \describe ?
checkRd: (-1) segmentDensity.Rd:28: Lost braces in \itemize; \value handles \item{}{} directly
checkRd: (-1) segmentDensity.Rd:29: Lost braces in \itemize; \value handles \item{}{} directly
* checking Rd metadata ... OK
* checking Rd cross-references ... OK
* checking for missing documentation entries ... OK
* checking for code/documentation mismatches ... OK
* checking Rd \usage sections ... OK
* checking Rd contents ... OK
* checking for unstated dependencies in examples ... OK
* checking files in ‘vignettes’ ... OK
* checking examples ... OK
* checking for unstated dependencies in ‘tests’ ... OK
* checking tests ...
  Running ‘testthat.R’
 OK
* checking for unstated dependencies in vignettes ... OK
* checking package vignettes ... OK
* checking running R code from vignettes ... SKIPPED
* checking re-building of vignette outputs ... SKIPPED
* checking PDF version of manual ... OK
* DONE

Status: 1 NOTE
See
  ‘/Users/biocbuild/bbs-3.19-bioc/meat/nullranges.Rcheck/00check.log’
for details.


Installation output

nullranges.Rcheck/00install.out

##############################################################################
##############################################################################
###
### Running command:
###
###   /Library/Frameworks/R.framework/Resources/bin/R CMD INSTALL nullranges
###
##############################################################################
##############################################################################


* installing to library ‘/Library/Frameworks/R.framework/Versions/4.4-arm64/Resources/library’
* installing *source* package ‘nullranges’ ...
** using staged installation
** R
** inst
** byte-compile and prepare package for lazy loading
** help
*** installing help indices
*** copying figures
** building package indices
** installing vignettes
** testing if installed package can be loaded from temporary location
** testing if installed package can be loaded from final location
** testing if installed package keeps a record of temporary installation path
* DONE (nullranges)

Tests output

nullranges.Rcheck/tests/testthat.Rout


R version 4.4.1 (2024-06-14) -- "Race for Your Life"
Copyright (C) 2024 The R Foundation for Statistical Computing
Platform: aarch64-apple-darwin20

R is free software and comes with ABSOLUTELY NO WARRANTY.
You are welcome to redistribute it under certain conditions.
Type 'license()' or 'licence()' for distribution details.

R is a collaborative project with many contributors.
Type 'contributors()' for more information and
'citation()' on how to cite R or R packages in publications.

Type 'demo()' for some demos, 'help()' for on-line help, or
'help.start()' for an HTML browser interface to help.
Type 'q()' to quit R.

> library(testthat)
> library(nullranges)
> 
> test_check("nullranges")
[ FAIL 0 | WARN 0 | SKIP 0 | PASS 9 ]
> 
> proc.time()
   user  system elapsed 
 18.334   0.695  19.048 

Example timings

nullranges.Rcheck/nullranges-Ex.timings

nameusersystemelapsed
MatchedDataFrame2.3580.0842.441
MatchedGInteractions0.6600.0350.694
MatchedGRanges1.5810.0351.617
bootRanges0.3480.0240.372
combnCov0.0040.0010.004
covariates0.1190.0120.131
focal0.1310.0160.147
indices0.1270.0120.140
makeExampleMatchedDataSet0.6150.0450.660
matchRanges1.2770.1111.387
matched0.1310.0090.139
matchedClass0.1350.0060.141
matchedData0.1220.0050.128
method0.1570.0220.179
oneRegionSegment0.4140.0290.916
overview0.1780.0260.204
plotCovariate4.7410.1294.871
plotPropensity1.5530.0631.619
plotSegment1.7050.0801.787
pool0.1790.0110.191
reduceSegment0.2410.0080.249
segmentDensity0.4990.0130.512
unmatched0.1790.0160.195
withReplacement0.1660.0130.179