Back to Multiple platform build/check report for BioC 3.13
ABCDEFGHIJKLM[N]OPQRSTUVWXYZ

This page was generated on 2021-08-02 15:05:51 -0400 (Mon, 02 Aug 2021).

INSTALL results for netresponse on machv2

To the developers/maintainers of the netresponse package:
- Please allow up to 24 hours (and sometimes 48 hours) for your latest push to git@git.bioconductor.org:packages/netresponse.git to
reflect on this report. See How and When does the builder pull? When will my changes propagate? here for more information.
- Make sure to use the following settings in order to reproduce any error or warning you see on this page.

raw results

Package 1267/2041HostnameOS / ArchINSTALLBUILDCHECKBUILD BIN
netresponse 1.52.0  (landing page)
Leo Lahti
Snapshot Date: 2021-08-01 04:50:10 -0400 (Sun, 01 Aug 2021)
URL: https://git.bioconductor.org/packages/netresponse
Branch: RELEASE_3_13
Last Commit: 1ecd688
Last Changed Date: 2021-05-19 11:46:24 -0400 (Wed, 19 May 2021)
nebbiolo1Linux (Ubuntu 20.04.2 LTS) / x86_64  OK    OK    OK  UNNEEDED, same version is already published
tokay2Windows Server 2012 R2 Standard / x64  OK    OK    OK    OK  UNNEEDED, same version is already published
machv2macOS 10.14.6 Mojave / x86_64  OK    OK    OK    OK  UNNEEDED, same version is already published

Summary

Package: netresponse
Version: 1.52.0
Command: /Library/Frameworks/R.framework/Versions/Current/Resources/bin/R CMD INSTALL netresponse
StartedAt: 2021-08-01 09:05:43 -0400 (Sun, 01 Aug 2021)
EndedAt: 2021-08-01 09:06:22 -0400 (Sun, 01 Aug 2021)
EllapsedTime: 38.8 seconds
RetCode: 0
Status:   OK  

Command output

##############################################################################
##############################################################################
###
### Running command:
###
###   /Library/Frameworks/R.framework/Versions/Current/Resources/bin/R CMD INSTALL netresponse
###
##############################################################################
##############################################################################


* installing to library ‘/Library/Frameworks/R.framework/Versions/4.1/Resources/library’
* installing *source* package ‘netresponse’ ...
** using staged installation
** libs
clang -mmacosx-version-min=10.13 -I"/Library/Frameworks/R.framework/Resources/include" -DNDEBUG   -I/usr/local/include   -fPIC  -Wall -g -O2  -c netresponse.c -o netresponse.o
netresponse.c:264:15: warning: unused variable 'prior_fields' [-Wunused-variable]
  const char *prior_fields[]={"Mumu","S2mu",
              ^
netresponse.c:686:6: warning: variable 'Mumu' is used uninitialized whenever 'if' condition is false [-Wsometimes-uninitialized]
  if(dim1) {
     ^~~~
netresponse.c:713:21: note: uninitialized use occurs here
  vdp_mk_log_lambda(Mumu, S2mu, Mubar, Mutilde, 
                    ^~~~
netresponse.c:686:3: note: remove the 'if' if its condition is always true
  if(dim1) {
  ^~~~~~~~~
netresponse.c:655:15: note: initialize the variable 'Mumu' to silence this warning
  double *Mumu, *S2mu, *Mubar, *Mutilde, 
              ^
               = NULL
netresponse.c:686:6: warning: variable 'S2mu' is used uninitialized whenever 'if' condition is false [-Wsometimes-uninitialized]
  if(dim1) {
     ^~~~
netresponse.c:713:27: note: uninitialized use occurs here
  vdp_mk_log_lambda(Mumu, S2mu, Mubar, Mutilde, 
                          ^~~~
netresponse.c:686:3: note: remove the 'if' if its condition is always true
  if(dim1) {
  ^~~~~~~~~
netresponse.c:655:22: note: initialize the variable 'S2mu' to silence this warning
  double *Mumu, *S2mu, *Mubar, *Mutilde, 
                     ^
                      = NULL
netresponse.c:686:6: warning: variable 'Mubar' is used uninitialized whenever 'if' condition is false [-Wsometimes-uninitialized]
  if(dim1) {
     ^~~~
netresponse.c:713:33: note: uninitialized use occurs here
  vdp_mk_log_lambda(Mumu, S2mu, Mubar, Mutilde, 
                                ^~~~~
netresponse.c:686:3: note: remove the 'if' if its condition is always true
  if(dim1) {
  ^~~~~~~~~
netresponse.c:655:30: note: initialize the variable 'Mubar' to silence this warning
  double *Mumu, *S2mu, *Mubar, *Mutilde, 
                             ^
                              = NULL
netresponse.c:686:6: warning: variable 'Mutilde' is used uninitialized whenever 'if' condition is false [-Wsometimes-uninitialized]
  if(dim1) {
     ^~~~
netresponse.c:713:40: note: uninitialized use occurs here
  vdp_mk_log_lambda(Mumu, S2mu, Mubar, Mutilde, 
                                       ^~~~~~~
netresponse.c:686:3: note: remove the 'if' if its condition is always true
  if(dim1) {
  ^~~~~~~~~
netresponse.c:655:40: note: initialize the variable 'Mutilde' to silence this warning
  double *Mumu, *S2mu, *Mubar, *Mutilde, 
                                       ^
                                        = NULL
netresponse.c:686:6: warning: variable 'AlphaKsi' is used uninitialized whenever 'if' condition is false [-Wsometimes-uninitialized]
  if(dim1) {
     ^~~~
netresponse.c:714:7: note: uninitialized use occurs here
                    AlphaKsi, BetaKsi, KsiAlpha, KsiBeta, 
                    ^~~~~~~~
netresponse.c:686:3: note: remove the 'if' if its condition is always true
  if(dim1) {
  ^~~~~~~~~
netresponse.c:656:14: note: initialize the variable 'AlphaKsi' to silence this warning
    *AlphaKsi, *BetaKsi, *KsiAlpha, *KsiBeta, *U_p, *prior_alpha,
             ^
              = NULL
netresponse.c:686:6: warning: variable 'BetaKsi' is used uninitialized whenever 'if' condition is false [-Wsometimes-uninitialized]
  if(dim1) {
     ^~~~
netresponse.c:714:17: note: uninitialized use occurs here
                    AlphaKsi, BetaKsi, KsiAlpha, KsiBeta, 
                              ^~~~~~~
netresponse.c:686:3: note: remove the 'if' if its condition is always true
  if(dim1) {
  ^~~~~~~~~
netresponse.c:656:24: note: initialize the variable 'BetaKsi' to silence this warning
    *AlphaKsi, *BetaKsi, *KsiAlpha, *KsiBeta, *U_p, *prior_alpha,
                       ^
                        = NULL
netresponse.c:686:6: warning: variable 'KsiAlpha' is used uninitialized whenever 'if' condition is false [-Wsometimes-uninitialized]
  if(dim1) {
     ^~~~
netresponse.c:714:26: note: uninitialized use occurs here
                    AlphaKsi, BetaKsi, KsiAlpha, KsiBeta, 
                                       ^~~~~~~~
netresponse.c:686:3: note: remove the 'if' if its condition is always true
  if(dim1) {
  ^~~~~~~~~
netresponse.c:656:35: note: initialize the variable 'KsiAlpha' to silence this warning
    *AlphaKsi, *BetaKsi, *KsiAlpha, *KsiBeta, *U_p, *prior_alpha,
                                  ^
                                   = NULL
netresponse.c:686:6: warning: variable 'KsiBeta' is used uninitialized whenever 'if' condition is false [-Wsometimes-uninitialized]
  if(dim1) {
     ^~~~
netresponse.c:714:36: note: uninitialized use occurs here
                    AlphaKsi, BetaKsi, KsiAlpha, KsiBeta, 
                                                 ^~~~~~~
netresponse.c:686:3: note: remove the 'if' if its condition is always true
  if(dim1) {
  ^~~~~~~~~
netresponse.c:656:45: note: initialize the variable 'KsiBeta' to silence this warning
    *AlphaKsi, *BetaKsi, *KsiAlpha, *KsiBeta, *U_p, *prior_alpha,
                                            ^
                                             = NULL
netresponse.c:696:6: warning: variable 'U_p' is used uninitialized whenever 'if' condition is false [-Wsometimes-uninitialized]
  if(dim2) {
     ^~~~
netresponse.c:716:7: note: uninitialized use occurs here
                    U_p, U_hat,
                    ^~~
netresponse.c:696:3: note: remove the 'if' if its condition is always true
  if(dim2) {
  ^~~~~~~~~
netresponse.c:656:51: note: initialize the variable 'U_p' to silence this warning
    *AlphaKsi, *BetaKsi, *KsiAlpha, *KsiBeta, *U_p, *prior_alpha,
                                                  ^
                                                   = NULL
netresponse.c:696:6: warning: variable 'U_hat' is used uninitialized whenever 'if' condition is false [-Wsometimes-uninitialized]
  if(dim2) {
     ^~~~
netresponse.c:716:12: note: uninitialized use occurs here
                    U_p, U_hat,
                         ^~~~~
netresponse.c:696:3: note: remove the 'if' if its condition is always true
  if(dim2) {
  ^~~~~~~~~
netresponse.c:661:14: note: initialize the variable 'U_hat' to silence this warning
  SEXP* U_hat;
             ^
              = NULL
11 warnings generated.
clang -mmacosx-version-min=10.13 -dynamiclib -Wl,-headerpad_max_install_names -undefined dynamic_lookup -single_module -multiply_defined suppress -L/Library/Frameworks/R.framework/Resources/lib -L/usr/local/lib -o netresponse.so netresponse.o -F/Library/Frameworks/R.framework/.. -framework R -Wl,-framework -Wl,CoreFoundation
installing to /Library/Frameworks/R.framework/Versions/4.1/Resources/library/00LOCK-netresponse/00new/netresponse/libs
** R
** data
** inst
** byte-compile and prepare package for lazy loading
** help
*** installing help indices
** building package indices
** installing vignettes
** testing if installed package can be loaded from temporary location
** checking absolute paths in shared objects and dynamic libraries
llvm-objdump: '/Library/Frameworks/R.framework/Versions/4.1/Resources/library/00LOCK-netresponse/00new/netresponse/extras/netresponse.so': Object is not a Mach-O file type.
llvm-objdump: '/Library/Frameworks/R.framework/Versions/4.1/Resources/library/00LOCK-netresponse/00new/netresponse/extras/netresponse.so': Object is not a Mach-O file type.
llvm-objdump: '/Library/Frameworks/R.framework/Versions/4.1/Resources/library/00LOCK-netresponse/00new/netresponse/extras/netresponse.so': Object is not a Mach-O file type.
llvm-objdump: '/Library/Frameworks/R.framework/Versions/4.1/Resources/library/00LOCK-netresponse/00new/netresponse/extras/netresponse.so': Object is not a Mach-O file type.
llvm-objdump: '/Library/Frameworks/R.framework/Versions/4.1/Resources/library/00LOCK-netresponse/00new/netresponse/extras/netresponse.so': Object is not a Mach-O file type.
** testing if installed package can be loaded from final location
** testing if installed package keeps a record of temporary installation path
* DONE (netresponse)