Back to Multiple platform build/check report for BioC 3.13
ABCDEFGHIJKLM[N]OPQRSTUVWXYZ

This page was generated on 2021-10-13 15:06:00 -0400 (Wed, 13 Oct 2021).

BUILD BIN results for netSmooth on machv2

To the developers/maintainers of the netSmooth package:
- Please allow up to 24 hours (and sometimes 48 hours) for your latest push to git@git.bioconductor.org:packages/netSmooth.git to
reflect on this report. See How and When does the builder pull? When will my changes propagate? here for more information.
- Make sure to use the following settings in order to reproduce any error or warning you see on this page.

raw results

Package 1269/2041HostnameOS / ArchINSTALLBUILDCHECKBUILD BIN
netSmooth 1.12.0  (landing page)
Jonathan Ronen
Snapshot Date: 2021-10-12 04:50:13 -0400 (Tue, 12 Oct 2021)
git_url: https://git.bioconductor.org/packages/netSmooth
git_branch: RELEASE_3_13
git_last_commit: a9a910f
git_last_commit_date: 2021-05-19 12:35:44 -0400 (Wed, 19 May 2021)
nebbiolo1Linux (Ubuntu 20.04.2 LTS) / x86_64  OK    OK    OK  UNNEEDED, same version is already published
tokay2Windows Server 2012 R2 Standard / x64  OK    OK    OK    OK  UNNEEDED, same version is already published
machv2macOS 10.14.6 Mojave / x86_64  OK    OK    OK    OK  UNNEEDED, same version is already published

Summary

Package: netSmooth
Version: 1.12.0
Command: rm -rf netSmooth.buildbin-libdir && mkdir netSmooth.buildbin-libdir && /Users/biocbuild/BBS/utils/build-universal.sh netSmooth_1.12.0.tar.gz /Library/Frameworks/R.framework/Versions/Current/Resources/bin/R netSmooth.buildbin-libdir
StartedAt: 2021-10-13 03:04:49 -0400 (Wed, 13 Oct 2021)
EndedAt: 2021-10-13 03:05:42 -0400 (Wed, 13 Oct 2021)
EllapsedTime: 53.5 seconds
RetCode: 0
Status:   OK  
PackageFile: netSmooth_1.12.0.tgz
PackageFileSize: 4.44 MiB

Command output

##############################################################################
##############################################################################
###
### Running command:
###
###   rm -rf netSmooth.buildbin-libdir && mkdir netSmooth.buildbin-libdir && /Users/biocbuild/BBS/utils/build-universal.sh netSmooth_1.12.0.tar.gz /Library/Frameworks/R.framework/Versions/Current/Resources/bin/R netSmooth.buildbin-libdir
###
##############################################################################
##############################################################################


>>>>>>> 
>>>>>>> INSTALLATION WITH 'R CMD INSTALL --preclean --no-multiarch --library=netSmooth.buildbin-libdir netSmooth_1.12.0.tar.gz'
>>>>>>> 

* installing *source* package ‘netSmooth’ ...
** using staged installation
** R
** data
*** moving datasets to lazyload DB
** inst
** byte-compile and prepare package for lazy loading
** help
*** installing help indices
** building package indices
** installing vignettes
** testing if installed package can be loaded from temporary location
** testing if installed package can be loaded from final location
** testing if installed package keeps a record of temporary installation path
* DONE (netSmooth)