![]() | Name | Last modified | Size | Description |
---|---|---|---|---|
![]() | Parent Directory | - | ||
![]() | buildsrc-out.txt | 30-Mar-2023 00:05 | 861 | |
![]() | buildsrc-summary.dcf | 30-Mar-2023 00:05 | 413 | |
![]() | checksrc-out.txt | 30-Mar-2023 00:05 | 4.3K | |
![]() | checksrc-summary.dcf | 30-Mar-2023 00:05 | 416 | |
![]() | install-out.txt | 30-Mar-2023 00:05 | 954 | |
![]() | install-summary.dcf | 30-Mar-2023 00:05 | 255 | |