Index of /checkResults/release/bioc-LATEST/netDx/raw-results/machv2

[ICO]NameLast modifiedSizeDescription

[DIR]Parent Directory  -  
[TXT]buildbin-out.txt14-Dec-2021 03:06 1.1K 
[   ]buildbin-summary.dcf14-Dec-2021 03:06 515  
[TXT]buildsrc-out.txt27-Jan-2022 03:08 647  
[   ]buildsrc-summary.dcf27-Jan-2022 03:08 345  
[TXT]checksrc-out.txt14-Dec-2021 03:06 4.5K 
[   ]checksrc-summary.dcf14-Dec-2021 03:06 435  
[TXT]install-out.txt27-Jan-2022 03:08 1.0K 
[   ]install-summary.dcf27-Jan-2022 03:08 264