Index of /checkResults/release/bioc-LATEST/netDx/raw-results

[ICO]NameLast modifiedSizeDescription

[DIR]Parent Directory  -  
[DIR]kjohnson/12-Jul-2022 00:06 -  
[DIR]nebbiolo2/23-Mar-2023 00:05 -  
[   ]info.dcf23-Mar-2023 00:06 271  
[DIR]lconway/23-Mar-2023 00:06 -