Index of /checkResults/release/bioc-LATEST/netDx/raw-results

[ICO]NameLast modifiedSizeDescription

[DIR]Parent Directory  -  
[   ]info.dcf06-Aug-2022 03:20 270  
[DIR]merida1/06-Aug-2022 03:20 -  
[DIR]nebbiolo1/06-Aug-2022 03:19 -