Back to Multiple platform build/check report for BioC 3.13
ABCDEFGHIJKL[M]NOPQRSTUVWXYZ

This page was generated on 2021-09-17 15:06:45 -0400 (Fri, 17 Sep 2021).

BUILD results for mzR on machv2

To the developers/maintainers of the mzR package:
- Please allow up to 24 hours (and sometimes 48 hours) for your latest push to git@git.bioconductor.org:packages/mzR.git to
reflect on this report. See How and When does the builder pull? When will my changes propagate? here for more information.
- Make sure to use the following settings in order to reproduce any error or warning you see on this page.

raw results

Package 1242/2041HostnameOS / ArchINSTALLBUILDCHECKBUILD BIN
mzR 2.26.1  (landing page)
Steffen Neumann
Snapshot Date: 2021-09-16 04:50:11 -0400 (Thu, 16 Sep 2021)
git_url: https://git.bioconductor.org/packages/mzR
git_branch: RELEASE_3_13
git_last_commit: 5a5c15c5
git_last_commit_date: 2021-06-19 00:09:16 -0400 (Sat, 19 Jun 2021)
nebbiolo1Linux (Ubuntu 20.04.2 LTS) / x86_64  OK    OK    WARNINGS  UNNEEDED, same version is already published
tokay2Windows Server 2012 R2 Standard / x64  OK    OK    WARNINGS    OK  UNNEEDED, same version is already published
machv2macOS 10.14.6 Mojave / x86_64  OK    OK    ERROR    OK  

Summary

Package: mzR
Version: 2.26.1
Command: /Library/Frameworks/R.framework/Versions/Current/Resources/bin/R CMD build --keep-empty-dirs --no-resave-data mzR
StartedAt: 2021-09-16 13:30:41 -0400 (Thu, 16 Sep 2021)
EndedAt: 2021-09-16 13:43:29 -0400 (Thu, 16 Sep 2021)
EllapsedTime: 768.6 seconds
RetCode: 0
Status:   OK  
PackageFile: mzR_2.26.1.tar.gz
PackageFileSize: 4.755 MiB

Command output

##############################################################################
##############################################################################
###
### Running command:
###
###   /Library/Frameworks/R.framework/Versions/Current/Resources/bin/R CMD build --keep-empty-dirs --no-resave-data mzR
###
##############################################################################
##############################################################################


* checking for file ‘mzR/DESCRIPTION’ ... OK
* preparing ‘mzR’:
* checking DESCRIPTION meta-information ... OK
* cleaning src
* running ‘cleanup’
* installing the package to build vignettes
* creating vignettes ... OK
* cleaning src
* running ‘cleanup’
* checking for LF line-endings in source and make files and shell scripts
* checking for empty or unneeded directories
* building ‘mzR_2.26.1.tar.gz’