Back to Multiple platform build/check report for BioC 3.13
ABCDEFGHIJKL[M]NOPQRSTUVWXYZ

This page was generated on 2021-08-02 15:04:31 -0400 (Mon, 02 Aug 2021).

All results for package mzR

To the developers/maintainers of the mzR package:
- Please allow up to 24 hours (and sometimes 48 hours) for your latest push to git@git.bioconductor.org:packages/mzR.git to
reflect on this report. See How and When does the builder pull? When will my changes propagate? here for more information.
- Make sure to use the following settings in order to reproduce any error or warning you see on this page.

raw results

Package 1242/2041HostnameOS / ArchINSTALLBUILDCHECKBUILD BIN
mzR 2.26.1  (landing page)
Steffen Neumann
Snapshot Date: 2021-08-01 04:50:10 -0400 (Sun, 01 Aug 2021)
URL: https://git.bioconductor.org/packages/mzR
Branch: RELEASE_3_13
Last Commit: 5a5c15c5
Last Changed Date: 2021-06-19 00:09:16 -0400 (Sat, 19 Jun 2021)
nebbiolo1Linux (Ubuntu 20.04.2 LTS) / x86_64  OK    OK    WARNINGS  UNNEEDED, same version is already published
tokay2Windows Server 2012 R2 Standard / x64  OK    OK    WARNINGS    OK  UNNEEDED, same version is already published
machv2macOS 10.14.6 Mojave / x86_64  OK    OK    WARNINGS    OK  UNNEEDED, same version is already published

Results for Bioconductor software packages that depend directly on package mzR

QUICK STATSOS / ArchINSTALLBUILDCHECKBUILD BIN
nebbiolo1Linux (Ubuntu 20.04.2 LTS) / x86_64
0015
0015
00312
tokay2Windows Server 2012 R2 Standard / x64
0015
0015
00312
0015
machv2macOS 10.14.6 Mojave / x86_64
0114
0114
00311
0014
Package 1/15HostnameOS / ArchINSTALLBUILDCHECKBUILD BIN
adductomicsR 1.8.0  (landing page)
Josie Hayes
Last Commit: 778448c
Last Changed Date: 2021-05-19 12:40:36 -0400
nebbiolo1Linux (Ubuntu 20.04.2 LTS) / x86_64  OK    OK    WARNINGS  UNNEEDED, same version is already published
tokay2Windows Server 2012 R2 Standard / x64  OK    OK    WARNINGS    OK  UNNEEDED, same version is already published
machv2macOS 10.14.6 Mojave / x86_64  OK    OK    WARNINGS    OK  UNNEEDED, same version is already published
Package 2/15HostnameOS / ArchINSTALLBUILDCHECKBUILD BIN
Autotuner 1.6.0  (landing page)
Craig McLean
Last Commit: f373bec
Last Changed Date: 2021-05-19 12:45:03 -0400
nebbiolo1Linux (Ubuntu 20.04.2 LTS) / x86_64  OK    OK    OK  UNNEEDED, same version is already published
tokay2Windows Server 2012 R2 Standard / x64  OK    OK    OK    OK  UNNEEDED, same version is already published
machv2macOS 10.14.6 Mojave / x86_64  OK    OK    OK    OK  UNNEEDED, same version is already published
Package 3/15HostnameOS / ArchINSTALLBUILDCHECKBUILD BIN
CluMSID 1.8.0  (landing page)
Tobias Depke
Last Commit: d3ba495
Last Changed Date: 2021-05-19 12:40:12 -0400
nebbiolo1Linux (Ubuntu 20.04.2 LTS) / x86_64  OK    OK    OK  UNNEEDED, same version is already published
tokay2Windows Server 2012 R2 Standard / x64  OK    OK    OK    OK  UNNEEDED, same version is already published
machv2macOS 10.14.6 Mojave / x86_64  OK    OK    OK    OK  UNNEEDED, same version is already published
Package 4/15HostnameOS / ArchINSTALLBUILDCHECKBUILD BIN
DIAlignR 2.0.0  (landing page)
Shubham Gupta
Last Commit: fe5d1ad
Last Changed Date: 2021-05-19 12:49:08 -0400
nebbiolo1Linux (Ubuntu 20.04.2 LTS) / x86_64  OK    OK    OK  UNNEEDED, same version is already published
tokay2Windows Server 2012 R2 Standard / x64  OK    OK    OK    OK  UNNEEDED, same version is already published
machv2macOS 10.14.6 Mojave / x86_64  OK    OK    OK    OK  UNNEEDED, same version is already published
Package 5/15HostnameOS / ArchINSTALLBUILDCHECKBUILD BIN
MSGFgui 1.26.0  (landing page)
Thomas Lin Pedersen
Last Commit: b956389
Last Changed Date: 2021-05-19 12:08:20 -0400
nebbiolo1Linux (Ubuntu 20.04.2 LTS) / x86_64  OK    OK    OK  UNNEEDED, same version is already published
tokay2Windows Server 2012 R2 Standard / x64  OK    OK    OK    OK  UNNEEDED, same version is already published
machv2macOS 10.14.6 Mojave / x86_64  ERROR    ERROR  skippedskipped
Package 6/15HostnameOS / ArchINSTALLBUILDCHECKBUILD BIN
MSnbase 2.18.0  (landing page)
Laurent Gatto
Last Commit: 8653c08
Last Changed Date: 2021-05-19 11:47:43 -0400
nebbiolo1Linux (Ubuntu 20.04.2 LTS) / x86_64  OK    OK    OK  UNNEEDED, same version is already published
tokay2Windows Server 2012 R2 Standard / x64  OK    OK    OK    OK  UNNEEDED, same version is already published
machv2macOS 10.14.6 Mojave / x86_64  OK    OK    OK    OK  UNNEEDED, same version is already published
Package 7/15HostnameOS / ArchINSTALLBUILDCHECKBUILD BIN
MSnID 1.26.0  (landing page)
Vlad Petyuk
Last Commit: 542b32c
Last Changed Date: 2021-05-19 12:07:42 -0400
nebbiolo1Linux (Ubuntu 20.04.2 LTS) / x86_64  OK    OK    OK  UNNEEDED, same version is already published
tokay2Windows Server 2012 R2 Standard / x64  OK    OK    OK    OK  UNNEEDED, same version is already published
machv2macOS 10.14.6 Mojave / x86_64  OK    OK    OK    OK  UNNEEDED, same version is already published
Package 8/15HostnameOS / ArchINSTALLBUILDCHECKBUILD BIN
msPurity 1.18.0  (landing page)
Thomas N. Lawson
Last Commit: d9cf561
Last Changed Date: 2021-05-19 12:20:39 -0400
nebbiolo1Linux (Ubuntu 20.04.2 LTS) / x86_64  OK    OK    WARNINGS  UNNEEDED, same version is already published
tokay2Windows Server 2012 R2 Standard / x64  OK    OK    WARNINGS    OK  UNNEEDED, same version is already published
machv2macOS 10.14.6 Mojave / x86_64  OK    OK    WARNINGS    OK  UNNEEDED, same version is already published
Package 9/15HostnameOS / ArchINSTALLBUILDCHECKBUILD BIN
peakPantheR 1.6.1  (landing page)
Arnaud Wolfer
Last Commit: 3308eac
Last Changed Date: 2021-06-23 16:02:41 -0400
nebbiolo1Linux (Ubuntu 20.04.2 LTS) / x86_64  OK    OK    OK  UNNEEDED, same version is already published
tokay2Windows Server 2012 R2 Standard / x64  OK    OK    OK    OK  UNNEEDED, same version is already published
machv2macOS 10.14.6 Mojave / x86_64  OK    OK    OK    OK  UNNEEDED, same version is already published
Package 10/15HostnameOS / ArchINSTALLBUILDCHECKBUILD BIN
ProteomicsAnnotationHubData 1.22.0  (landing page)
Laurent Gatto
Last Commit: f070c64
Last Changed Date: 2021-05-19 12:15:31 -0400
nebbiolo1Linux (Ubuntu 20.04.2 LTS) / x86_64  OK    OK    OK  UNNEEDED, same version is already published
tokay2Windows Server 2012 R2 Standard / x64  OK    OK    OK    OK  UNNEEDED, same version is already published
machv2macOS 10.14.6 Mojave / x86_64  OK    OK    OK    OK  UNNEEDED, same version is already published
Package 11/15HostnameOS / ArchINSTALLBUILDCHECKBUILD BIN
RMassBank 3.2.0  (landing page)
RMassBank at Eawag
Last Commit: ba135d3
Last Changed Date: 2021-05-19 11:53:19 -0400
nebbiolo1Linux (Ubuntu 20.04.2 LTS) / x86_64  OK    OK    WARNINGS  UNNEEDED, same version is already published
tokay2Windows Server 2012 R2 Standard / x64  OK    OK    WARNINGS    OK  UNNEEDED, same version is already published
machv2macOS 10.14.6 Mojave / x86_64  OK    OK    WARNINGS    OK  UNNEEDED, same version is already published
Package 12/15HostnameOS / ArchINSTALLBUILDCHECKBUILD BIN
SIMAT 1.24.0  (landing page)
M. R. Nezami Ranjbar
Last Commit: 07b989a
Last Changed Date: 2021-05-19 12:11:54 -0400
nebbiolo1Linux (Ubuntu 20.04.2 LTS) / x86_64  OK    OK    OK  UNNEEDED, same version is already published
tokay2Windows Server 2012 R2 Standard / x64  OK    OK    OK    OK  UNNEEDED, same version is already published
machv2macOS 10.14.6 Mojave / x86_64  OK    OK    OK    OK  UNNEEDED, same version is already published
Package 13/15HostnameOS / ArchINSTALLBUILDCHECKBUILD BIN
topdownr 1.14.0  (landing page)
Sebastian Gibb
Last Commit: 8a127d3
Last Changed Date: 2021-05-19 12:31:23 -0400
nebbiolo1Linux (Ubuntu 20.04.2 LTS) / x86_64  OK    OK    OK  UNNEEDED, same version is already published
tokay2Windows Server 2012 R2 Standard / x64  OK    OK    OK    OK  UNNEEDED, same version is already published
machv2macOS 10.14.6 Mojave / x86_64  OK    OK    OK    OK  UNNEEDED, same version is already published
Package 14/15HostnameOS / ArchINSTALLBUILDCHECKBUILD BIN
xcms 3.14.1  (landing page)
Steffen Neumann
Last Commit: 71f6b4f
Last Changed Date: 2021-07-23 04:33:46 -0400
nebbiolo1Linux (Ubuntu 20.04.2 LTS) / x86_64  OK    OK    OK  UNNEEDED, same version is already published
tokay2Windows Server 2012 R2 Standard / x64  OK    OK    OK    OK  UNNEEDED, same version is already published
machv2macOS 10.14.6 Mojave / x86_64  OK    OK    OK    OK  UNNEEDED, same version is already published
Package 15/15HostnameOS / ArchINSTALLBUILDCHECKBUILD BIN
yamss 1.18.0  (landing page)
Leslie Myint
Last Commit: 6536737
Last Changed Date: 2021-05-19 12:24:17 -0400
nebbiolo1Linux (Ubuntu 20.04.2 LTS) / x86_64  OK    OK    OK  UNNEEDED, same version is already published
tokay2Windows Server 2012 R2 Standard / x64  OK    OK    OK    OK  UNNEEDED, same version is already published
machv2macOS 10.14.6 Mojave / x86_64  OK    OK    OK    OK  UNNEEDED, same version is already published