Back to Multiple platform build/check report for BioC 3.13
ABCDEFGHIJKL[M]NOPQRSTUVWXYZ

This page was generated on 2021-07-30 15:06:01 -0400 (Fri, 30 Jul 2021).

BUILD BIN results for mzID on tokay2

To the developers/maintainers of the mzID package:
- Please allow up to 24 hours (and sometimes 48 hours) for your latest push to git@git.bioconductor.org:packages/mzID.git to
reflect on this report. See How and When does the builder pull? When will my changes propagate? here for more information.
- Make sure to use the following settings in order to reproduce any error or warning you see on this page.

raw results

Package 1241/2041HostnameOS / ArchINSTALLBUILDCHECKBUILD BIN
mzID 1.30.0  (landing page)
Laurent Gatto
Snapshot Date: 2021-07-29 04:50:02 -0400 (Thu, 29 Jul 2021)
URL: https://git.bioconductor.org/packages/mzID
Branch: RELEASE_3_13
Last Commit: 455f98b
Last Changed Date: 2021-05-19 12:00:38 -0400 (Wed, 19 May 2021)
nebbiolo1Linux (Ubuntu 20.04.2 LTS) / x86_64  OK    OK    OK  UNNEEDED, same version is already published
tokay2Windows Server 2012 R2 Standard / x64  OK    OK    OK    OK  UNNEEDED, same version is already published
machv2macOS 10.14.6 Mojave / x86_64  OK    OK    OK    OK  UNNEEDED, same version is already published

Summary

Package: mzID
Version: 1.30.0
Command: rm -rf mzID.buildbin-libdir && mkdir mzID.buildbin-libdir && C:\Users\biocbuild\bbs-3.13-bioc\R\bin\R.exe CMD INSTALL --merge-multiarch --build --library=mzID.buildbin-libdir mzID_1.30.0.tar.gz
StartedAt: 2021-07-30 10:38:56 -0400 (Fri, 30 Jul 2021)
EndedAt: 2021-07-30 10:39:53 -0400 (Fri, 30 Jul 2021)
EllapsedTime: 57.1 seconds
RetCode: 0
Status:   OK  
PackageFile: mzID_1.30.0.zip
PackageFileSize: 858.9 KiB

Command output

##############################################################################
##############################################################################
###
### Running command:
###
###   rm -rf mzID.buildbin-libdir && mkdir mzID.buildbin-libdir && C:\Users\biocbuild\bbs-3.13-bioc\R\bin\R.exe CMD INSTALL --merge-multiarch --build --library=mzID.buildbin-libdir mzID_1.30.0.tar.gz
###
##############################################################################
##############################################################################



install for i386

* installing *source* package 'mzID' ...
** using staged installation
** R
** inst
** byte-compile and prepare package for lazy loading
** help
*** installing help indices
  converting help for package 'mzID'
    finding HTML links ... done
    flatten                                 html  
    increment                               html  
    keyFor                                  html  
    mzID-class                              html  
    mzID-getters                            html  
    mzID-package                            html  
    mzID                                    html  
    mzIDCollection-class                    html  
REDIRECT:topic	 names<-,mzIDCollection,character-method -> mzIDCollection-class.html [ FAIL ]
    mzIDCollection                          html  
    mzIDdatabase-class                      html  
    mzIDdatabase                            html  
    mzIDevidence-class                      html  
    mzIDevidence                            html  
    mzIDparameters-class                    html  
    mzIDparameters                          html  
    mzIDpeptides-class                      html  
    mzIDpeptides                            html  
    mzIDpsm-class                           html  
    mzIDpsm                                 html  
    removeDecoy                             html  
** building package indices
** installing vignettes
** testing if installed package can be loaded from temporary location
** testing if installed package can be loaded from final location
** testing if installed package keeps a record of temporary installation path

install for x64

* installing *source* package 'mzID' ...
** testing if installed package can be loaded
* MD5 sums
packaged installation of 'mzID' as mzID_1.30.0.zip
* DONE (mzID)