Index of /checkResults/release/bioc-LATEST/mzID/raw-results/nebbiolo1

[ICO]NameLast modifiedSizeDescription

[DIR]Parent Directory  -  
[TXT]buildsrc-out.txt16-Oct-2021 04:05 794  
[   ]buildsrc-summary.dcf16-Oct-2021 04:05 407  
[TXT]checksrc-out.txt16-Oct-2021 04:05 3.3K 
[   ]checksrc-summary.dcf16-Oct-2021 04:05 411  
[TXT]install-out.txt16-Oct-2021 04:05 938  
[   ]install-summary.dcf16-Oct-2021 04:05 253