Index of /checkResults/release/bioc-LATEST/mzID/raw-results/machv2

[ICO]NameLast modifiedSizeDescription

[DIR]Parent Directory  -  
[TXT]buildbin-out.txt16-Oct-2021 04:06 1.1K 
[   ]buildbin-summary.dcf16-Oct-2021 04:06 529  
[TXT]buildsrc-out.txt16-Oct-2021 04:06 821  
[   ]buildsrc-summary.dcf16-Oct-2021 04:06 435  
[TXT]checksrc-out.txt16-Oct-2021 04:06 3.5K 
[   ]checksrc-summary.dcf16-Oct-2021 04:06 465  
[TXT]install-out.txt16-Oct-2021 04:06 1.0K 
[   ]install-summary.dcf16-Oct-2021 04:06 280