Back to Multiple platform build/check report for BioC 3.13
ABCDEFGHIJKL[M]NOPQRSTUVWXYZ

This page was generated on 2021-08-02 15:04:31 -0400 (Mon, 02 Aug 2021).

All results for package multtest

To the developers/maintainers of the multtest package:
- Please allow up to 24 hours (and sometimes 48 hours) for your latest push to git@git.bioconductor.org:packages/multtest.git to
reflect on this report. See How and When does the builder pull? When will my changes propagate? here for more information.
- Make sure to use the following settings in order to reproduce any error or warning you see on this page.

raw results

Package 1230/2041HostnameOS / ArchINSTALLBUILDCHECKBUILD BIN
multtest 2.48.0  (landing page)
Katherine S. Pollard
Snapshot Date: 2021-08-01 04:50:10 -0400 (Sun, 01 Aug 2021)
URL: https://git.bioconductor.org/packages/multtest
Branch: RELEASE_3_13
Last Commit: 5da1a87
Last Changed Date: 2021-05-19 11:32:42 -0400 (Wed, 19 May 2021)
nebbiolo1Linux (Ubuntu 20.04.2 LTS) / x86_64  OK    OK    WARNINGS  UNNEEDED, same version is already published
tokay2Windows Server 2012 R2 Standard / x64  OK    OK    WARNINGS    OK  UNNEEDED, same version is already published
machv2macOS 10.14.6 Mojave / x86_64  OK    OK    WARNINGS    OK  UNNEEDED, same version is already published

Results for Bioconductor software packages that depend directly on package multtest

QUICK STATSOS / ArchINSTALLBUILDCHECKBUILD BIN
nebbiolo1Linux (Ubuntu 20.04.2 LTS) / x86_64
0027
0126
01421
tokay2Windows Server 2012 R2 Standard / x64
0027
0027
02421
0027
machv2macOS 10.14.6 Mojave / x86_64
0027
0126
01421
0026
Package 1/27HostnameOS / ArchINSTALLBUILDCHECKBUILD BIN
a4Base 1.40.0  (landing page)
Laure Cougnaud
Last Commit: b2cd105
Last Changed Date: 2021-05-19 11:48:16 -0400
nebbiolo1Linux (Ubuntu 20.04.2 LTS) / x86_64  OK    OK    OK  UNNEEDED, same version is already published
tokay2Windows Server 2012 R2 Standard / x64  OK    OK    OK    OK  UNNEEDED, same version is already published
machv2macOS 10.14.6 Mojave / x86_64  OK    OK    OK    OK  UNNEEDED, same version is already published
Package 2/27HostnameOS / ArchINSTALLBUILDCHECKBUILD BIN
ABarray 1.60.0  (landing page)
Yongming Andrew Sun
Last Commit: 7e6ed61
Last Changed Date: 2021-05-19 11:37:42 -0400
nebbiolo1Linux (Ubuntu 20.04.2 LTS) / x86_64  OK    OK    OK  UNNEEDED, same version is already published
tokay2Windows Server 2012 R2 Standard / x64  OK    OK    OK    OK  UNNEEDED, same version is already published
machv2macOS 10.14.6 Mojave / x86_64  OK    OK    OK    OK  UNNEEDED, same version is already published
Package 3/27HostnameOS / ArchINSTALLBUILDCHECKBUILD BIN
aCGH 1.70.0  (landing page)
Peter Dimitrov
Last Commit: e412576
Last Changed Date: 2021-05-19 11:34:31 -0400
nebbiolo1Linux (Ubuntu 20.04.2 LTS) / x86_64  OK    OK    OK  UNNEEDED, same version is already published
tokay2Windows Server 2012 R2 Standard / x64  OK    OK    OK    OK  UNNEEDED, same version is already published
machv2macOS 10.14.6 Mojave / x86_64  OK    OK    OK    OK  UNNEEDED, same version is already published
Package 4/27HostnameOS / ArchINSTALLBUILDCHECKBUILD BIN
adSplit 1.62.0  (landing page)
Claudio Lottaz
Last Commit: 2181a05
Last Changed Date: 2021-05-19 11:37:05 -0400
nebbiolo1Linux (Ubuntu 20.04.2 LTS) / x86_64  OK    OK    OK  UNNEEDED, same version is already published
tokay2Windows Server 2012 R2 Standard / x64  OK    OK    OK    OK  UNNEEDED, same version is already published
machv2macOS 10.14.6 Mojave / x86_64  OK    OK    OK    OK  UNNEEDED, same version is already published
Package 5/27HostnameOS / ArchINSTALLBUILDCHECKBUILD BIN
ALDEx2 1.24.0  (landing page)
Greg Gloor
Last Commit: a41b778
Last Changed Date: 2021-05-19 12:08:00 -0400
nebbiolo1Linux (Ubuntu 20.04.2 LTS) / x86_64  OK    OK    OK  UNNEEDED, same version is already published
tokay2Windows Server 2012 R2 Standard / x64  OK    OK    OK    OK  UNNEEDED, same version is already published
machv2macOS 10.14.6 Mojave / x86_64  OK    OK    OK    OK  UNNEEDED, same version is already published
Package 6/27HostnameOS / ArchINSTALLBUILDCHECKBUILD BIN
anota 1.40.0  (landing page)
Ola Larsson
Last Commit: ef88b0a
Last Changed Date: 2021-05-19 11:48:32 -0400
nebbiolo1Linux (Ubuntu 20.04.2 LTS) / x86_64  OK    OK    OK  UNNEEDED, same version is already published
tokay2Windows Server 2012 R2 Standard / x64  OK    OK    OK    OK  UNNEEDED, same version is already published
machv2macOS 10.14.6 Mojave / x86_64  OK    OK    OK    OK  UNNEEDED, same version is already published
Package 7/27HostnameOS / ArchINSTALLBUILDCHECKBUILD BIN
anota2seq 1.14.0  (landing page)
Christian Oertlin , Julie Lorent
Last Commit: d5aad21
Last Changed Date: 2021-05-19 12:31:00 -0400
nebbiolo1Linux (Ubuntu 20.04.2 LTS) / x86_64  OK    OK    OK  UNNEEDED, same version is already published
tokay2Windows Server 2012 R2 Standard / x64  OK    OK    OK    OK  UNNEEDED, same version is already published
machv2macOS 10.14.6 Mojave / x86_64  OK    OK    OK    OK  UNNEEDED, same version is already published
Package 8/27HostnameOS / ArchINSTALLBUILDCHECKBUILD BIN
BicARE 1.50.0  (landing page)
Pierre Gestraud
Last Commit: 8c27ce5
Last Changed Date: 2021-05-19 11:42:14 -0400
nebbiolo1Linux (Ubuntu 20.04.2 LTS) / x86_64  OK    OK    OK  UNNEEDED, same version is already published
tokay2Windows Server 2012 R2 Standard / x64  OK    OK    OK    OK  UNNEEDED, same version is already published
machv2macOS 10.14.6 Mojave / x86_64  OK    OK    OK    OK  UNNEEDED, same version is already published
Package 9/27HostnameOS / ArchINSTALLBUILDCHECKBUILD BIN
ChIPpeakAnno 3.26.2  (landing page)
Jianhong Ou
Last Commit: da90a6c
Last Changed Date: 2021-07-13 11:27:12 -0400
nebbiolo1Linux (Ubuntu 20.04.2 LTS) / x86_64  OK    OK    OK  UNNEEDED, same version is already published
tokay2Windows Server 2012 R2 Standard / x64  OK    OK    OK    OK  UNNEEDED, same version is already published
machv2macOS 10.14.6 Mojave / x86_64  OK    OK    OK    OK  UNNEEDED, same version is already published
Package 10/27HostnameOS / ArchINSTALLBUILDCHECKBUILD BIN
iPAC 1.36.0  (landing page)
Gregory Ryslik
Last Commit: c449c77
Last Changed Date: 2021-05-19 11:53:11 -0400
nebbiolo1Linux (Ubuntu 20.04.2 LTS) / x86_64  OK    OK    OK  UNNEEDED, same version is already published
tokay2Windows Server 2012 R2 Standard / x64  OK    OK    OK    OK  UNNEEDED, same version is already published
machv2macOS 10.14.6 Mojave / x86_64  OK    OK    OK    OK  UNNEEDED, same version is already published
Package 11/27HostnameOS / ArchINSTALLBUILDCHECKBUILD BIN
IsoGeneGUI 2.28.0  (landing page)
Setia Pramana
Last Commit: 3b72011
Last Changed Date: 2021-05-19 11:45:55 -0400
nebbiolo1Linux (Ubuntu 20.04.2 LTS) / x86_64  OK    OK    OK  UNNEEDED, same version is already published
tokay2Windows Server 2012 R2 Standard / x64  OK    OK    OK    OK  UNNEEDED, same version is already published
machv2macOS 10.14.6 Mojave / x86_64  OK    OK    OK    OK  UNNEEDED, same version is already published
Package 12/27HostnameOS / ArchINSTALLBUILDCHECKBUILD BIN
KCsmart 2.50.0  (landing page)
Jorma de Ronde
Last Commit: 130f4ca
Last Changed Date: 2021-05-19 11:41:57 -0400
nebbiolo1Linux (Ubuntu 20.04.2 LTS) / x86_64  OK    OK    WARNINGS  UNNEEDED, same version is already published
tokay2Windows Server 2012 R2 Standard / x64  OK    OK    WARNINGS    OK  UNNEEDED, same version is already published
machv2macOS 10.14.6 Mojave / x86_64  OK    OK    WARNINGS    OK  UNNEEDED, same version is already published
Package 13/27HostnameOS / ArchINSTALLBUILDCHECKBUILD BIN
mAPKL 1.22.0  (landing page)
Argiris Sakellariou
Last Commit: 3f87c86
Last Changed Date: 2021-05-19 12:10:36 -0400
nebbiolo1Linux (Ubuntu 20.04.2 LTS) / x86_64  OK    OK    OK  UNNEEDED, same version is already published
tokay2Windows Server 2012 R2 Standard / x64  OK    OK    OK    OK  UNNEEDED, same version is already published
machv2macOS 10.14.6 Mojave / x86_64  OK    OK    OK    OK  UNNEEDED, same version is already published
Package 14/27HostnameOS / ArchINSTALLBUILDCHECKBUILD BIN
metabomxtr 1.26.0  (landing page)
Michael Nodzenski
Last Commit: 3cc8a48
Last Changed Date: 2021-05-19 12:06:31 -0400
nebbiolo1Linux (Ubuntu 20.04.2 LTS) / x86_64  OK    OK    OK  UNNEEDED, same version is already published
tokay2Windows Server 2012 R2 Standard / x64  OK    OK    OK    OK  UNNEEDED, same version is already published
machv2macOS 10.14.6 Mojave / x86_64  OK    OK    OK    OK  UNNEEDED, same version is already published
Package 15/27HostnameOS / ArchINSTALLBUILDCHECKBUILD BIN
nethet 1.24.0  (landing page)
Nicolas Staedler
Last Commit: 18df2f1
Last Changed Date: 2021-05-19 12:10:03 -0400
nebbiolo1Linux (Ubuntu 20.04.2 LTS) / x86_64  OK    OK    WARNINGS  UNNEEDED, same version is already published
tokay2Windows Server 2012 R2 Standard / x64  OK    OK    WARNINGS    OK  UNNEEDED, same version is already published
machv2macOS 10.14.6 Mojave / x86_64  OK    OK    WARNINGS    OK  UNNEEDED, same version is already published
Package 16/27HostnameOS / ArchINSTALLBUILDCHECKBUILD BIN
OCplus 1.66.0  (landing page)
Alexander Ploner
Last Commit: 9beeb38
Last Changed Date: 2021-05-19 11:37:16 -0400
nebbiolo1Linux (Ubuntu 20.04.2 LTS) / x86_64  OK    OK    OK  UNNEEDED, same version is already published
tokay2Windows Server 2012 R2 Standard / x64  OK    OK    OK    OK  UNNEEDED, same version is already published
machv2macOS 10.14.6 Mojave / x86_64  OK    OK    OK    OK  UNNEEDED, same version is already published
Package 17/27HostnameOS / ArchINSTALLBUILDCHECKBUILD BIN
phyloseq 1.36.0  (landing page)
Paul J. McMurdie
Last Commit: f9af643
Last Changed Date: 2021-05-19 11:51:21 -0400
nebbiolo1Linux (Ubuntu 20.04.2 LTS) / x86_64  OK    OK    OK  UNNEEDED, same version is already published
tokay2Windows Server 2012 R2 Standard / x64  OK    OK    OK    OK  UNNEEDED, same version is already published
machv2macOS 10.14.6 Mojave / x86_64  OK    OK    OK    OK  UNNEEDED, same version is already published
Package 18/27HostnameOS / ArchINSTALLBUILDCHECKBUILD BIN
PREDA 1.38.0  (landing page)
Francesco Ferrari
Last Commit: f207bb8
Last Changed Date: 2021-05-19 11:49:28 -0400
nebbiolo1Linux (Ubuntu 20.04.2 LTS) / x86_64  OK    OK    WARNINGS  UNNEEDED, same version is already published
tokay2Windows Server 2012 R2 Standard / x64  OK    OK    WARNINGS    OK  UNNEEDED, same version is already published
machv2macOS 10.14.6 Mojave / x86_64  OK    OK    WARNINGS    OK  UNNEEDED, same version is already published
Package 19/27HostnameOS / ArchINSTALLBUILDCHECKBUILD BIN
rain 1.26.0  (landing page)
Paul F. Thaben
Last Commit: 03a40f6
Last Changed Date: 2021-05-19 12:07:19 -0400
nebbiolo1Linux (Ubuntu 20.04.2 LTS) / x86_64  OK    OK    OK  UNNEEDED, same version is already published
tokay2Windows Server 2012 R2 Standard / x64  OK    OK    OK    OK  UNNEEDED, same version is already published
machv2macOS 10.14.6 Mojave / x86_64  OK    ERROR  skippedskipped
Package 20/27HostnameOS / ArchINSTALLBUILDCHECKBUILD BIN
REDseq 1.38.0  (landing page)
Lihua Julie Zhu
Last Commit: 4c3b25a
Last Changed Date: 2021-05-19 11:48:43 -0400
nebbiolo1Linux (Ubuntu 20.04.2 LTS) / x86_64  OK    OK    OK  UNNEEDED, same version is already published
tokay2Windows Server 2012 R2 Standard / x64  OK    OK    OK    OK  UNNEEDED, same version is already published
machv2macOS 10.14.6 Mojave / x86_64  OK    OK    OK    OK  UNNEEDED, same version is already published
Package 21/27HostnameOS / ArchINSTALLBUILDCHECKBUILD BIN
RTopper 1.38.0  (landing page)
Luigi Marchionni
Last Commit: 1c351a3
Last Changed Date: 2021-05-19 11:49:48 -0400
nebbiolo1Linux (Ubuntu 20.04.2 LTS) / x86_64  OK    OK    OK  UNNEEDED, same version is already published
tokay2Windows Server 2012 R2 Standard / x64  OK    OK    OK    OK  UNNEEDED, same version is already published
machv2macOS 10.14.6 Mojave / x86_64  OK    OK    OK    OK  UNNEEDED, same version is already published
Package 22/27HostnameOS / ArchINSTALLBUILDCHECKBUILD BIN
SAGx 1.66.0  (landing page)
Per Broberg,
Last Commit: 30e2ee2
Last Changed Date: 2021-05-19 11:38:10 -0400
nebbiolo1Linux (Ubuntu 20.04.2 LTS) / x86_64  OK    OK    ERROR  
tokay2Windows Server 2012 R2 Standard / x64  OK    OK    ERROR    OK  
machv2macOS 10.14.6 Mojave / x86_64  OK    OK    ERROR    OK  
Package 23/27HostnameOS / ArchINSTALLBUILDCHECKBUILD BIN
siggenes 1.66.0  (landing page)
Holger Schwender
Last Commit: 7784d06
Last Changed Date: 2021-05-19 11:33:21 -0400
nebbiolo1Linux (Ubuntu 20.04.2 LTS) / x86_64  OK    OK    OK  UNNEEDED, same version is already published
tokay2Windows Server 2012 R2 Standard / x64  OK    OK    OK    OK  UNNEEDED, same version is already published
machv2macOS 10.14.6 Mojave / x86_64  OK    OK    OK    OK  UNNEEDED, same version is already published
Package 24/27HostnameOS / ArchINSTALLBUILDCHECKBUILD BIN
SingleCellSignalR 1.4.0  (landing page)
Jacques Colinge
Last Commit: 7bf26c8
Last Changed Date: 2021-05-19 12:52:18 -0400
nebbiolo1Linux (Ubuntu 20.04.2 LTS) / x86_64  OK    OK    WARNINGS  UNNEEDED, same version is already published
tokay2Windows Server 2012 R2 Standard / x64  OK    OK    WARNINGS    OK  UNNEEDED, same version is already published
machv2macOS 10.14.6 Mojave / x86_64  OK    OK    WARNINGS    OK  UNNEEDED, same version is already published
Package 25/27HostnameOS / ArchINSTALLBUILDCHECKBUILD BIN
singleCellTK 2.2.0  (landing page)
Yusuke Koga
Last Commit: 9fdc1a1
Last Changed Date: 2021-05-19 12:35:15 -0400
nebbiolo1Linux (Ubuntu 20.04.2 LTS) / x86_64  OK    OK    OK  UNNEEDED, same version is already published
tokay2Windows Server 2012 R2 Standard / x64  OK    OK    ERROR    OK  
machv2macOS 10.14.6 Mojave / x86_64  OK    OK    OK    OK  UNNEEDED, same version is already published
Package 26/27HostnameOS / ArchINSTALLBUILDCHECKBUILD BIN
synapter 2.16.0  (landing page)
Laurent Gatto
Last Commit: 93006a2
Last Changed Date: 2021-05-19 11:52:59 -0400
nebbiolo1Linux (Ubuntu 20.04.2 LTS) / x86_64  OK    ERROR  skipped
tokay2Windows Server 2012 R2 Standard / x64  OK    OK    OK    OK  UNNEEDED, same version is already published
machv2macOS 10.14.6 Mojave / x86_64  OK    OK    OK    OK  UNNEEDED, same version is already published
Package 27/27HostnameOS / ArchINSTALLBUILDCHECKBUILD BIN
webbioc 1.64.0  (landing page)
Colin A. Smith
Last Commit: 69f5af6
Last Changed Date: 2021-05-19 11:33:40 -0400
nebbiolo1Linux (Ubuntu 20.04.2 LTS) / x86_64  OK    OK    OK  UNNEEDED, same version is already published
tokay2Windows Server 2012 R2 Standard / x64  OK    OK    OK    OK  UNNEEDED, same version is already published
machv2macOS 10.14.6 Mojave / x86_64  OK    OK    OK    OK  UNNEEDED, same version is already published