Back to Multiple platform build/check report for BioC 3.13
ABCDEFGHIJKL[M]NOPQRSTUVWXYZ

This page was generated on 2021-09-17 15:06:44 -0400 (Fri, 17 Sep 2021).

INSTALL results for msPurity on machv2

To the developers/maintainers of the msPurity package:
- Please allow up to 24 hours (and sometimes 48 hours) for your latest push to git@git.bioconductor.org:packages/msPurity.git to
reflect on this report. See How and When does the builder pull? When will my changes propagate? here for more information.
- Make sure to use the following settings in order to reproduce any error or warning you see on this page.

raw results

Package 1206/2041HostnameOS / ArchINSTALLBUILDCHECKBUILD BIN
msPurity 1.18.0  (landing page)
Thomas N. Lawson
Snapshot Date: 2021-09-16 04:50:11 -0400 (Thu, 16 Sep 2021)
git_url: https://git.bioconductor.org/packages/msPurity
git_branch: RELEASE_3_13
git_last_commit: d9cf561
git_last_commit_date: 2021-05-19 12:20:39 -0400 (Wed, 19 May 2021)
nebbiolo1Linux (Ubuntu 20.04.2 LTS) / x86_64  OK    OK    WARNINGS  UNNEEDED, same version is already published
tokay2Windows Server 2012 R2 Standard / x64  OK    OK    WARNINGS    OK  UNNEEDED, same version is already published
machv2macOS 10.14.6 Mojave / x86_64  OK    OK    ERROR    OK  

Summary

Package: msPurity
Version: 1.18.0
Command: /Library/Frameworks/R.framework/Versions/Current/Resources/bin/R CMD INSTALL msPurity
StartedAt: 2021-09-16 08:49:34 -0400 (Thu, 16 Sep 2021)
EndedAt: 2021-09-16 08:50:24 -0400 (Thu, 16 Sep 2021)
EllapsedTime: 50.0 seconds
RetCode: 0
Status:   OK  

Command output

##############################################################################
##############################################################################
###
### Running command:
###
###   /Library/Frameworks/R.framework/Versions/Current/Resources/bin/R CMD INSTALL msPurity
###
##############################################################################
##############################################################################


* installing to library ‘/Library/Frameworks/R.framework/Versions/4.1/Resources/library’
* installing *source* package ‘msPurity’ ...
** using staged installation
It is recommended to use ‘given’ instead of ‘middle’.
It is recommended to use ‘given’ instead of ‘middle’.
It is recommended to use ‘given’ instead of ‘middle’.
It is recommended to use ‘given’ instead of ‘middle’.
** R
** inst
** byte-compile and prepare package for lazy loading
** help
*** installing help indices
** building package indices
** installing vignettes
** testing if installed package can be loaded from temporary location
** testing if installed package can be loaded from final location
** testing if installed package keeps a record of temporary installation path
* DONE (msPurity)