Back to Multiple platform build/check report for BioC 3.13
ABCDEFGHIJKL[M]NOPQRSTUVWXYZ

This page was generated on 2021-07-23 15:05:21 -0400 (Fri, 23 Jul 2021).

All results for package mixOmics

To the developers/maintainers of the mixOmics package:
- Please allow up to 24 hours (and sometimes 48 hours) for your latest push to git@git.bioconductor.org:packages/mixOmics.git to
reflect on this report. See How and When does the builder pull? When will my changes propagate? here for more information.
- Make sure to use the following settings in order to reproduce any error or warning you see on this page.

raw results

Package 1161/2041HostnameOS / ArchINSTALLBUILDCHECKBUILD BIN
mixOmics 6.16.2  (landing page)
Al J Abadi
Snapshot Date: 2021-07-22 04:50:13 -0400 (Thu, 22 Jul 2021)
URL: https://git.bioconductor.org/packages/mixOmics
Branch: RELEASE_3_13
Last Commit: 766a061
Last Changed Date: 2021-07-17 23:50:28 -0400 (Sat, 17 Jul 2021)
nebbiolo1Linux (Ubuntu 20.04.2 LTS) / x86_64  OK    OK    OK  UNNEEDED, same version is already published
tokay2Windows Server 2012 R2 Standard / x64  OK    OK    OK    OK  UNNEEDED, same version is already published
machv2macOS 10.14.6 Mojave / x86_64  OK    OK    OK    OK  UNNEEDED, same version is already published

Results for Bioconductor software packages that depend directly on package mixOmics

QUICK STATSOS / ArchINSTALLBUILDCHECKBUILD BIN
nebbiolo1Linux (Ubuntu 20.04.2 LTS) / x86_64
005
005
0113
tokay2Windows Server 2012 R2 Standard / x64
005
005
0113
005
machv2macOS 10.14.6 Mojave / x86_64
005
005
0113
005
Package 1/5HostnameOS / ArchINSTALLBUILDCHECKBUILD BIN
AlpsNMR 3.2.0  (landing page)
Luis Fernandez
Last Commit: 042b3d3
Last Changed Date: 2021-05-19 12:57:58 -0400
nebbiolo1Linux (Ubuntu 20.04.2 LTS) / x86_64  OK    OK    ERROR  
tokay2Windows Server 2012 R2 Standard / x64  OK    OK    ERROR    OK  
machv2macOS 10.14.6 Mojave / x86_64  OK    OK    ERROR    OK  
Package 2/5HostnameOS / ArchINSTALLBUILDCHECKBUILD BIN
DepecheR 1.8.0  (landing page)
Jakob Theorell
Last Commit: 7eee7d3
Last Changed Date: 2021-05-19 12:41:46 -0400
nebbiolo1Linux (Ubuntu 20.04.2 LTS) / x86_64  OK    OK    WARNINGS  UNNEEDED, same version is already published
tokay2Windows Server 2012 R2 Standard / x64  OK    OK    WARNINGS    OK  UNNEEDED, same version is already published
machv2macOS 10.14.6 Mojave / x86_64  OK    OK    WARNINGS    OK  UNNEEDED, same version is already published
Package 3/5HostnameOS / ArchINSTALLBUILDCHECKBUILD BIN
multiSight 1.0.0  (landing page)
Florian Jeanneret
Last Commit: c94fb29
Last Changed Date: 2021-05-19 13:02:54 -0400
nebbiolo1Linux (Ubuntu 20.04.2 LTS) / x86_64  OK    OK    OK  UNNEEDED, same version is already published
tokay2Windows Server 2012 R2 Standard / x64  OK    OK    OK    OK  UNNEEDED, same version is already published
machv2macOS 10.14.6 Mojave / x86_64  OK    OK    OK    OK  UNNEEDED, same version is already published
Package 4/5HostnameOS / ArchINSTALLBUILDCHECKBUILD BIN
POMA 1.2.0  (landing page)
Pol Castellano-Escuder
Last Commit: a990e43
Last Changed Date: 2021-05-19 12:54:15 -0400
nebbiolo1Linux (Ubuntu 20.04.2 LTS) / x86_64  OK    OK    OK  UNNEEDED, same version is already published
tokay2Windows Server 2012 R2 Standard / x64  OK    OK    OK    OK  UNNEEDED, same version is already published
machv2macOS 10.14.6 Mojave / x86_64  OK    OK    OK    OK  UNNEEDED, same version is already published
Package 5/5HostnameOS / ArchINSTALLBUILDCHECKBUILD BIN
timeOmics 1.4.0  (landing page)
Antoine Bodein
Last Commit: 65fbb16
Last Changed Date: 2021-05-19 12:51:17 -0400
nebbiolo1Linux (Ubuntu 20.04.2 LTS) / x86_64  OK    OK    OK  UNNEEDED, same version is already published
tokay2Windows Server 2012 R2 Standard / x64  OK    OK    OK    OK  UNNEEDED, same version is already published
machv2macOS 10.14.6 Mojave / x86_64  OK    OK    OK    OK  UNNEEDED, same version is already published