Back to Multiple platform build/check report for BioC 3.13
ABCDEFGHIJKL[M]NOPQRSTUVWXYZ

This page was generated on 2021-08-02 15:05:19 -0400 (Mon, 02 Aug 2021).

BUILD BIN results for mirIntegrator on tokay2

To the developers/maintainers of the mirIntegrator package:
- Please allow up to 24 hours (and sometimes 48 hours) for your latest push to git@git.bioconductor.org:packages/mirIntegrator.git to
reflect on this report. See How and When does the builder pull? When will my changes propagate? here for more information.
- Make sure to use the following settings in order to reproduce any error or warning you see on this page.

raw results

Package 1148/2041HostnameOS / ArchINSTALLBUILDCHECKBUILD BIN
mirIntegrator 1.22.0  (landing page)
Diana Diaz
Snapshot Date: 2021-08-01 04:50:10 -0400 (Sun, 01 Aug 2021)
URL: https://git.bioconductor.org/packages/mirIntegrator
Branch: RELEASE_3_13
Last Commit: 7ce3bbd
Last Changed Date: 2021-05-19 12:14:07 -0400 (Wed, 19 May 2021)
nebbiolo1Linux (Ubuntu 20.04.2 LTS) / x86_64  OK    OK    OK  UNNEEDED, same version is already published
tokay2Windows Server 2012 R2 Standard / x64  OK    OK    OK    OK  UNNEEDED, same version is already published
machv2macOS 10.14.6 Mojave / x86_64  OK    OK    OK    OK  UNNEEDED, same version is already published

Summary

Package: mirIntegrator
Version: 1.22.0
Command: rm -rf mirIntegrator.buildbin-libdir && mkdir mirIntegrator.buildbin-libdir && C:\Users\biocbuild\bbs-3.13-bioc\R\bin\R.exe CMD INSTALL --merge-multiarch --build --library=mirIntegrator.buildbin-libdir mirIntegrator_1.22.0.tar.gz
StartedAt: 2021-08-02 10:23:02 -0400 (Mon, 02 Aug 2021)
EndedAt: 2021-08-02 10:24:20 -0400 (Mon, 02 Aug 2021)
EllapsedTime: 77.7 seconds
RetCode: 0
Status:   OK  
PackageFile: mirIntegrator_1.22.0.zip
PackageFileSize: 1.775 MiB

Command output

##############################################################################
##############################################################################
###
### Running command:
###
###   rm -rf mirIntegrator.buildbin-libdir && mkdir mirIntegrator.buildbin-libdir && C:\Users\biocbuild\bbs-3.13-bioc\R\bin\R.exe CMD INSTALL --merge-multiarch --build --library=mirIntegrator.buildbin-libdir mirIntegrator_1.22.0.tar.gz
###
##############################################################################
##############################################################################



install for i386

* installing *source* package 'mirIntegrator' ...
** using staged installation
** R
** data
** inst
** byte-compile and prepare package for lazy loading
** help
*** installing help indices
  converting help for package 'mirIntegrator'
    finding HTML links ... done
    GSE43592_mRNA                           html  
    GSE43592_miRNA                          html  
    augmented_pathways                      html  
    integrate_mir                           html  
    kegg_pathways                           html  
    mirTarBase                              html  
    names_pathways                          html  
    pathways2pdf                            html  
    plot_augmented_pathway                  html  
    plot_change                             html  
    smallest_pathway                        html  
** building package indices
** installing vignettes
** testing if installed package can be loaded from temporary location
** testing if installed package can be loaded from final location
** testing if installed package keeps a record of temporary installation path

install for x64

* installing *source* package 'mirIntegrator' ...
** testing if installed package can be loaded
* MD5 sums
packaged installation of 'mirIntegrator' as mirIntegrator_1.22.0.zip
* DONE (mirIntegrator)