Back to Multiple platform build/check report for BioC 3.13
ABCDEFGHIJKL[M]NOPQRSTUVWXYZ

This page was generated on 2021-06-18 14:05:29 -0400 (Fri, 18 Jun 2021).

All results for package minfi

To the developers/maintainers of the minfi package:
- Please allow up to 24 hours (and sometimes 48 hours) for your latest push to git@git.bioconductor.org:packages/minfi.git to
reflect on this report. See How and When does the builder pull? When will my changes propagate? here for more information.
- Make sure to use the following settings in order to reproduce any error or warning you see on this page.

raw results

Package 1140/2041HostnameOS / ArchINSTALLBUILDCHECKBUILD BIN
minfi 1.38.0  (landing page)
Kasper Daniel Hansen
Snapshot Date: 2021-06-17 06:50:12 -0400 (Thu, 17 Jun 2021)
URL: https://git.bioconductor.org/packages/minfi
Branch: RELEASE_3_13
Last Commit: ff3bf4a
Last Changed Date: 2021-05-19 11:50:18 -0400 (Wed, 19 May 2021)
nebbiolo1Linux (Ubuntu 20.04.2 LTS) / x86_64  OK    OK    OK  UNNEEDED, same version is already published
tokay2Windows Server 2012 R2 Standard / x64  OK    OK    OK    OK  UNNEEDED, same version is already published
machv2macOS 10.14.6 Mojave / x86_64  OK    OK    OK    OK  UNNEEDED, same version is already published

Results for Bioconductor software packages that depend directly on package minfi

QUICK STATSOS / ArchINSTALLBUILDCHECKBUILD BIN
nebbiolo1Linux (Ubuntu 20.04.2 LTS) / x86_64
0019
0019
00613
tokay2Windows Server 2012 R2 Standard / x64
0018
0117
02411
0017
machv2macOS 10.14.6 Mojave / x86_64
0019
0019
01513
0019
Package 1/19HostnameOS / ArchINSTALLBUILDCHECKBUILD BIN
bigmelon 1.18.0  (landing page)
Tyler J. Gorrie-Stone
Last Commit: 6ca2330
Last Changed Date: 2021-05-19 12:23:05 -0400
nebbiolo1Linux (Ubuntu 20.04.2 LTS) / x86_64  OK    OK    OK  UNNEEDED, same version is already published
tokay2Windows Server 2012 R2 Standard / x64  OK    OK    OK    OK  UNNEEDED, same version is already published
machv2macOS 10.14.6 Mojave / x86_64  OK    OK    OK    OK  UNNEEDED, same version is already published
Package 2/19HostnameOS / ArchINSTALLBUILDCHECKBUILD BIN
ChAMP 2.22.0  (landing page)
Yuan Tian
Last Commit: 2350b07
Last Changed Date: 2021-05-19 12:01:34 -0400
nebbiolo1Linux (Ubuntu 20.04.2 LTS) / x86_64  OK    OK    WARNINGS  UNNEEDED, same version is already published
tokay2Windows Server 2012 R2 Standard / x64  OK    OK    WARNINGS    OK  UNNEEDED, same version is already published
machv2macOS 10.14.6 Mojave / x86_64  OK    OK    WARNINGS    OK  UNNEEDED, same version is already published
Package 3/19HostnameOS / ArchINSTALLBUILDCHECKBUILD BIN
conumee 1.26.0  (landing page)
Volker Hovestadt
Last Commit: f49dd58
Last Changed Date: 2021-05-19 12:13:03 -0400
nebbiolo1Linux (Ubuntu 20.04.2 LTS) / x86_64  OK    OK    OK  UNNEEDED, same version is already published
tokay2Windows Server 2012 R2 Standard / x64... NOT SUPPORTED ...
machv2macOS 10.14.6 Mojave / x86_64  OK    OK    OK    OK  UNNEEDED, same version is already published
Package 4/19HostnameOS / ArchINSTALLBUILDCHECKBUILD BIN
DMRcate 2.6.0  (landing page)
Tim Peters
Last Commit: d7de4ca
Last Changed Date: 2021-05-19 12:03:06 -0400
nebbiolo1Linux (Ubuntu 20.04.2 LTS) / x86_64  OK    OK    WARNINGS  UNNEEDED, same version is already published
tokay2Windows Server 2012 R2 Standard / x64  OK    OK    ERROR    OK  
machv2macOS 10.14.6 Mojave / x86_64  OK    OK    ERROR    OK  
Package 5/19HostnameOS / ArchINSTALLBUILDCHECKBUILD BIN
EnMCB 1.4.0  (landing page)
Xin Yu
Last Commit: 668f03b
Last Changed Date: 2021-05-19 12:48:39 -0400
nebbiolo1Linux (Ubuntu 20.04.2 LTS) / x86_64  OK    OK    OK  UNNEEDED, same version is already published
tokay2Windows Server 2012 R2 Standard / x64  OK    OK    OK    OK  UNNEEDED, same version is already published
machv2macOS 10.14.6 Mojave / x86_64  OK    OK    OK    OK  UNNEEDED, same version is already published
Package 6/19HostnameOS / ArchINSTALLBUILDCHECKBUILD BIN
ENmix 1.28.2  (landing page)
Zongli Xu
Last Commit: d3c0203
Last Changed Date: 2021-05-30 12:18:47 -0400
nebbiolo1Linux (Ubuntu 20.04.2 LTS) / x86_64  OK    OK    OK  UNNEEDED, same version is already published
tokay2Windows Server 2012 R2 Standard / x64  OK    OK    OK    OK  UNNEEDED, same version is already published
machv2macOS 10.14.6 Mojave / x86_64  OK    OK    OK    OK  UNNEEDED, same version is already published
Package 7/19HostnameOS / ArchINSTALLBUILDCHECKBUILD BIN
funtooNorm 1.16.0  (landing page)
Kathleen Klein
Last Commit: 3256fea
Last Changed Date: 2021-05-19 12:25:22 -0400
nebbiolo1Linux (Ubuntu 20.04.2 LTS) / x86_64  OK    OK    WARNINGS  UNNEEDED, same version is already published
tokay2Windows Server 2012 R2 Standard / x64  OK    OK    WARNINGS    OK  UNNEEDED, same version is already published
machv2macOS 10.14.6 Mojave / x86_64  OK    OK    WARNINGS    OK  UNNEEDED, same version is already published
Package 8/19HostnameOS / ArchINSTALLBUILDCHECKBUILD BIN
MEAL 1.22.0  (landing page)
Xavier EscribĂ  Montagut
Last Commit: bd59164
Last Changed Date: 2021-05-19 12:16:03 -0400
nebbiolo1Linux (Ubuntu 20.04.2 LTS) / x86_64  OK    OK    WARNINGS  UNNEEDED, same version is already published
tokay2Windows Server 2012 R2 Standard / x64  OK    OK    WARNINGS    OK  UNNEEDED, same version is already published
machv2macOS 10.14.6 Mojave / x86_64  OK    OK    WARNINGS    OK  UNNEEDED, same version is already published
Package 9/19HostnameOS / ArchINSTALLBUILDCHECKBUILD BIN
MEAT 1.4.0  (landing page)
Sarah Voisin
Last Commit: 57d07d3
Last Changed Date: 2021-05-19 12:49:22 -0400
nebbiolo1Linux (Ubuntu 20.04.2 LTS) / x86_64  OK    OK    WARNINGS  UNNEEDED, same version is already published
tokay2Windows Server 2012 R2 Standard / x64  OK    OK    WARNINGS    OK  UNNEEDED, same version is already published
machv2macOS 10.14.6 Mojave / x86_64  OK    OK    WARNINGS    OK  UNNEEDED, same version is already published
Package 10/19HostnameOS / ArchINSTALLBUILDCHECKBUILD BIN
MethylAid 1.26.0  (landing page)
L.J.Sinke
Last Commit: 877d41a
Last Changed Date: 2021-05-19 12:05:17 -0400
nebbiolo1Linux (Ubuntu 20.04.2 LTS) / x86_64  OK    OK    OK  UNNEEDED, same version is already published
tokay2Windows Server 2012 R2 Standard / x64  OK    OK    OK    OK  UNNEEDED, same version is already published
machv2macOS 10.14.6 Mojave / x86_64  OK    OK    OK    OK  UNNEEDED, same version is already published
Package 11/19HostnameOS / ArchINSTALLBUILDCHECKBUILD BIN
methylCC 1.6.0  (landing page)
Stephanie C. Hicks
Last Commit: 560219f
Last Changed Date: 2021-05-19 12:46:44 -0400
nebbiolo1Linux (Ubuntu 20.04.2 LTS) / x86_64  OK    OK    OK  UNNEEDED, same version is already published
tokay2Windows Server 2012 R2 Standard / x64  OK    OK    OK    OK  UNNEEDED, same version is already published
machv2macOS 10.14.6 Mojave / x86_64  OK    OK    OK    OK  UNNEEDED, same version is already published
Package 12/19HostnameOS / ArchINSTALLBUILDCHECKBUILD BIN
methylumi 2.38.0  (landing page)
Sean Davis
Last Commit: 13b2e06
Last Changed Date: 2021-05-19 11:43:15 -0400
nebbiolo1Linux (Ubuntu 20.04.2 LTS) / x86_64  OK    OK    WARNINGS  UNNEEDED, same version is already published
tokay2Windows Server 2012 R2 Standard / x64  OK    OK    ERROR    OK  
machv2macOS 10.14.6 Mojave / x86_64  OK    OK    WARNINGS    OK  UNNEEDED, same version is already published
Package 13/19HostnameOS / ArchINSTALLBUILDCHECKBUILD BIN
missMethyl 1.26.0  (landing page)
Belinda Phipson
Last Commit: b78e04e
Last Changed Date: 2021-05-19 12:06:21 -0400
nebbiolo1Linux (Ubuntu 20.04.2 LTS) / x86_64  OK    OK    OK  UNNEEDED, same version is already published
tokay2Windows Server 2012 R2 Standard / x64  OK    OK    OK    OK  UNNEEDED, same version is already published
machv2macOS 10.14.6 Mojave / x86_64  OK    OK    OK    OK  UNNEEDED, same version is already published
Package 14/19HostnameOS / ArchINSTALLBUILDCHECKBUILD BIN
quantro 1.26.0  (landing page)
Stephanie Hicks
Last Commit: b93958c
Last Changed Date: 2021-05-19 12:06:52 -0400
nebbiolo1Linux (Ubuntu 20.04.2 LTS) / x86_64  OK    OK    OK  UNNEEDED, same version is already published
tokay2Windows Server 2012 R2 Standard / x64  OK    OK    OK    OK  UNNEEDED, same version is already published
machv2macOS 10.14.6 Mojave / x86_64  OK    OK    OK    OK  UNNEEDED, same version is already published
Package 15/19HostnameOS / ArchINSTALLBUILDCHECKBUILD BIN
recountmethylation 1.2.0  (landing page)
Sean K Maden
Last Commit: de6fb2f
Last Changed Date: 2021-05-19 12:55:10 -0400
nebbiolo1Linux (Ubuntu 20.04.2 LTS) / x86_64  OK    OK    OK  UNNEEDED, same version is already published
tokay2Windows Server 2012 R2 Standard / x64  OK    ERROR  skippedskipped
machv2macOS 10.14.6 Mojave / x86_64  OK    OK    OK    OK  UNNEEDED, same version is already published
Package 16/19HostnameOS / ArchINSTALLBUILDCHECKBUILD BIN
REMP 1.16.0  (landing page)
Yinan Zheng
Last Commit: 9be0aa3
Last Changed Date: 2021-05-19 12:25:51 -0400
nebbiolo1Linux (Ubuntu 20.04.2 LTS) / x86_64  OK    OK    OK  UNNEEDED, same version is already published
tokay2Windows Server 2012 R2 Standard / x64  OK    OK    OK    OK  UNNEEDED, same version is already published
machv2macOS 10.14.6 Mojave / x86_64  OK    OK    OK    OK  UNNEEDED, same version is already published
Package 17/19HostnameOS / ArchINSTALLBUILDCHECKBUILD BIN
shinyepico 1.0.0  (landing page)
Octavio Morante-Palacios
Last Commit: 42ea0c9
Last Changed Date: 2021-05-19 12:58:03 -0400
nebbiolo1Linux (Ubuntu 20.04.2 LTS) / x86_64  OK    OK    OK  UNNEEDED, same version is already published
tokay2Windows Server 2012 R2 Standard / x64  OK    OK    OK    OK  UNNEEDED, same version is already published
machv2macOS 10.14.6 Mojave / x86_64  OK    OK    OK    OK  UNNEEDED, same version is already published
Package 18/19HostnameOS / ArchINSTALLBUILDCHECKBUILD BIN
shinyMethyl 1.28.0  (landing page)
Jean-Philippe Fortin
Last Commit: 2634641
Last Changed Date: 2021-05-19 12:06:04 -0400
nebbiolo1Linux (Ubuntu 20.04.2 LTS) / x86_64  OK    OK    OK  UNNEEDED, same version is already published
tokay2Windows Server 2012 R2 Standard / x64  OK    OK    OK    OK  UNNEEDED, same version is already published
machv2macOS 10.14.6 Mojave / x86_64  OK    OK    OK    OK  UNNEEDED, same version is already published
Package 19/19HostnameOS / ArchINSTALLBUILDCHECKBUILD BIN
skewr 1.24.0  (landing page)
Ryan Putney
Last Commit: 0f47238
Last Changed Date: 2021-05-19 12:11:23 -0400
nebbiolo1Linux (Ubuntu 20.04.2 LTS) / x86_64  OK    OK    OK  UNNEEDED, same version is already published
tokay2Windows Server 2012 R2 Standard / x64  OK    OK    OK    OK  UNNEEDED, same version is already published
machv2macOS 10.14.6 Mojave / x86_64  OK    OK    OK    OK  UNNEEDED, same version is already published