Back to Multiple platform build/check report for BioC 3.13
ABCDEFGHIJKL[M]NOPQRSTUVWXYZ

All results for package metagene

This page was generated on 2021-06-11 14:05:23 -0400 (Fri, 11 Jun 2021).

Package 1084/2041HostnameOS / ArchINSTALLBUILDCHECKBUILD BIN
metagene 2.24.0  (landing page)
Charles Joly Beauparlant
Snapshot Date: 2021-06-10 06:50:12 -0400 (Thu, 10 Jun 2021)
URL: https://git.bioconductor.org/packages/metagene
Branch: RELEASE_3_13
Last Commit: f85b3d4
Last Changed Date: 2021-05-19 12:06:34 -0400 (Wed, 19 May 2021)
nebbiolo1Linux (Ubuntu 20.04.2 LTS) / x86_64  OK    OK    OK  UNNEEDED, same version is already published
tokay2Windows Server 2012 R2 Standard / x64  OK    OK    OK    OK  UNNEEDED, same version is already published
machv2macOS 10.14.6 Mojave / x86_64  OK    OK    OK    OK  UNNEEDED, same version is already published

Results for Bioconductor software packages that depend directly on package metagene

QUICK STATSOS / ArchINSTALLBUILDCHECKBUILD BIN
nebbiolo1Linux (Ubuntu 20.04.2 LTS) / x86_64
010
010
0000
tokay2Windows Server 2012 R2 Standard / x64
010
010
0000
000
machv2macOS 10.14.6 Mojave / x86_64
010
010
0000
000
Package 1/1HostnameOS / ArchINSTALLBUILDCHECKBUILD BIN
Imetagene 1.22.0  (landing page)
Audrey Lemacon
Last Commit: b47c11c
Last Changed Date: 2021-05-19 12:15:58 -0400
nebbiolo1Linux (Ubuntu 20.04.2 LTS) / x86_64  ERROR    ERROR  skipped
tokay2Windows Server 2012 R2 Standard / x64  ERROR    ERROR  skippedskipped
machv2macOS 10.14.6 Mojave / x86_64  ERROR    ERROR  skippedskipped