Back to Multiple platform build/check report for BioC 3.13
ABCDEFGHIJKL[M]NOPQRSTUVWXYZ

This page was generated on 2021-09-20 15:04:53 -0400 (Mon, 20 Sep 2021).

CHECK results for martini on nebbiolo1

To the developers/maintainers of the martini package:
- Please allow up to 24 hours (and sometimes 48 hours) for your latest push to git@git.bioconductor.org:packages/martini.git to
reflect on this report. See How and When does the builder pull? When will my changes propagate? here for more information.
- Make sure to use the following settings in order to reproduce any error or warning you see on this page.

raw results

Package 1034/2041HostnameOS / ArchINSTALLBUILDCHECKBUILD BIN
martini 1.12.0  (landing page)
Hector Climente-Gonzalez
Snapshot Date: 2021-09-19 04:50:10 -0400 (Sun, 19 Sep 2021)
git_url: https://git.bioconductor.org/packages/martini
git_branch: RELEASE_3_13
git_last_commit: 21f22dd
git_last_commit_date: 2021-06-29 09:35:34 -0400 (Tue, 29 Jun 2021)
nebbiolo1Linux (Ubuntu 20.04.2 LTS) / x86_64  OK    OK    OK  UNNEEDED, same version is already published
tokay2Windows Server 2012 R2 Standard / x64  OK    OK    OK    OK  UNNEEDED, same version is already published
machv2macOS 10.14.6 Mojave / x86_64  OK    OK    OK    OK  UNNEEDED, same version is already published

Summary

Package: martini
Version: 1.12.0
Command: /home/biocbuild/bbs-3.13-bioc/R/bin/R CMD check --install=check:martini.install-out.txt --library=/home/biocbuild/bbs-3.13-bioc/R/library --no-vignettes --timings martini_1.12.0.tar.gz
StartedAt: 2021-09-19 10:24:10 -0400 (Sun, 19 Sep 2021)
EndedAt: 2021-09-19 10:27:26 -0400 (Sun, 19 Sep 2021)
EllapsedTime: 195.3 seconds
RetCode: 0
Status:   OK  
CheckDir: martini.Rcheck
Warnings: 0

Command output

##############################################################################
##############################################################################
###
### Running command:
###
###   /home/biocbuild/bbs-3.13-bioc/R/bin/R CMD check --install=check:martini.install-out.txt --library=/home/biocbuild/bbs-3.13-bioc/R/library --no-vignettes --timings martini_1.12.0.tar.gz
###
##############################################################################
##############################################################################


* using log directory ‘/home/biocbuild/bbs-3.13-bioc/meat/martini.Rcheck’
* using R version 4.1.1 (2021-08-10)
* using platform: x86_64-pc-linux-gnu (64-bit)
* using session charset: UTF-8
* using option ‘--no-vignettes’
* checking for file ‘martini/DESCRIPTION’ ... OK
* checking extension type ... Package
* this is package ‘martini’ version ‘1.12.0’
* package encoding: UTF-8
* checking package namespace information ... OK
* checking package dependencies ... OK
* checking if this is a source package ... OK
* checking if there is a namespace ... OK
* checking for hidden files and directories ... OK
* checking for portable file names ... OK
* checking for sufficient/correct file permissions ... OK
* checking whether package ‘martini’ can be installed ... OK
* checking installed package size ... OK
* checking package directory ... OK
* checking ‘build’ directory ... OK
* checking DESCRIPTION meta-information ... OK
* checking top-level files ... OK
* checking for left-over files ... OK
* checking index information ... OK
* checking package subdirectories ... OK
* checking R files for non-ASCII characters ... OK
* checking R files for syntax errors ... OK
* checking whether the package can be loaded ... OK
* checking whether the package can be loaded with stated dependencies ... OK
* checking whether the package can be unloaded cleanly ... OK
* checking whether the namespace can be loaded with stated dependencies ... OK
* checking whether the namespace can be unloaded cleanly ... OK
* checking dependencies in R code ... OK
* checking S3 generic/method consistency ... OK
* checking replacement functions ... OK
* checking foreign function calls ... OK
* checking R code for possible problems ... NOTE
get_GI_network: no visible binding for global variable ‘gene1’
get_GI_network: no visible binding for global variable ‘gene2’
get_GM_network: no visible binding for global variable ‘gene’
group_snps: no visible binding for global variable ‘.’
Undefined global functions or variables:
  . gene gene1 gene2
* checking Rd files ... OK
* checking Rd metadata ... OK
* checking Rd cross-references ... OK
* checking for missing documentation entries ... OK
* checking for code/documentation mismatches ... OK
* checking Rd \usage sections ... OK
* checking Rd contents ... OK
* checking for unstated dependencies in examples ... OK
* checking contents of ‘data’ directory ... OK
* checking data for non-ASCII characters ... OK
* checking LazyData ... OK
* checking data for ASCII and uncompressed saves ... OK
* checking line endings in C/C++/Fortran sources/headers ... OK
* checking line endings in Makefiles ... OK
* checking compilation flags in Makevars ... OK
* checking for GNU extensions in Makefiles ... OK
* checking for portable use of $(BLAS_LIBS) and $(LAPACK_LIBS) ... OK
* checking use of PKG_*FLAGS in Makefiles ... OK
* checking compiled code ... NOTE
Note: information on .o files is not available
File ‘/home/biocbuild/bbs-3.13-bioc/R/library/martini/libs/martini.so’:
  Found ‘exit’, possibly from ‘exit’ (C)

Compiled code should not call entry points which might terminate R nor
write to stdout/stderr instead of to the console, nor use Fortran I/O
nor system RNGs. The detected symbols are linked into the code but
might come from libraries and not actually be called.

See ‘Writing portable packages’ in the ‘Writing R Extensions’ manual.
* checking files in ‘vignettes’ ... OK
* checking examples ... OK
* checking for unstated dependencies in ‘tests’ ... OK
* checking tests ...
  Running ‘testthat.R’
 OK
* checking for unstated dependencies in vignettes ... OK
* checking package vignettes in ‘inst/doc’ ... OK
* checking running R code from vignettes ... SKIPPED
* checking re-building of vignette outputs ... SKIPPED
* checking PDF version of manual ... OK
* DONE

Status: 2 NOTEs
See
  ‘/home/biocbuild/bbs-3.13-bioc/meat/martini.Rcheck/00check.log’
for details.



Installation output

martini.Rcheck/00install.out

##############################################################################
##############################################################################
###
### Running command:
###
###   /home/biocbuild/bbs-3.13-bioc/R/bin/R CMD INSTALL martini
###
##############################################################################
##############################################################################


* installing to library ‘/home/biocbuild/bbs-3.13-bioc/R/library’
* installing *source* package ‘martini’ ...
** using staged installation
** libs
g++ -std=gnu++14 -I"/home/biocbuild/bbs-3.13-bioc/R/include" -DNDEBUG  -I'/home/biocbuild/bbs-3.13-bioc/R/library/Rcpp/include' -I'/home/biocbuild/bbs-3.13-bioc/R/library/RcppEigen/include' -I/usr/local/include  -std=c++11 -fopenmp -D_USE_KNETFILE -D_FILE_OFFSET_BITS=64 -U_FORTIFY_SOURCE -DBGZF_CACHE -I./lib `/home/biocbuild/bbs-3.13-bioc/R/bin/Rscript -e "Rcpp:::CxxFlags()"` -DEIGEN_PERMANENTLY_DISABLE_STUPID_WARNINGS -fopenmp -fpic  -g -O2  -Wall -c RcppExports.cpp -o RcppExports.o
In file included from /home/biocbuild/bbs-3.13-bioc/R/library/RcppEigen/include/Eigen/Core:397,
                 from /home/biocbuild/bbs-3.13-bioc/R/library/RcppEigen/include/Eigen/Dense:1,
                 from /home/biocbuild/bbs-3.13-bioc/R/library/RcppEigen/include/RcppEigenForward.h:30,
                 from /home/biocbuild/bbs-3.13-bioc/R/library/RcppEigen/include/RcppEigen.h:25,
                 from ../inst/include/martini_RcppExports.h:7,
                 from ../inst/include/martini.h:7,
                 from RcppExports.cpp:4:
/home/biocbuild/bbs-3.13-bioc/R/library/RcppEigen/include/Eigen/src/Core/arch/SSE/PacketMath.h:60:39: warning: ignoring attributes on template argument ‘__m128’ {aka ‘__vector(4) float’} [-Wignored-attributes]
   60 | template<> struct is_arithmetic<__m128>  { enum { value = true }; };
      |                                       ^
/home/biocbuild/bbs-3.13-bioc/R/library/RcppEigen/include/Eigen/src/Core/arch/SSE/PacketMath.h:61:40: warning: ignoring attributes on template argument ‘__m128i’ {aka ‘__vector(2) long long int’} [-Wignored-attributes]
   61 | template<> struct is_arithmetic<__m128i> { enum { value = true }; };
      |                                        ^
/home/biocbuild/bbs-3.13-bioc/R/library/RcppEigen/include/Eigen/src/Core/arch/SSE/PacketMath.h:62:40: warning: ignoring attributes on template argument ‘__m128d’ {aka ‘__vector(2) double’} [-Wignored-attributes]
   62 | template<> struct is_arithmetic<__m128d> { enum { value = true }; };
      |                                        ^
/home/biocbuild/bbs-3.13-bioc/R/library/RcppEigen/include/Eigen/src/Core/arch/SSE/PacketMath.h:161:43: warning: ignoring attributes on template argument ‘Eigen::internal::Packet4f’ {aka ‘__vector(4) float’} [-Wignored-attributes]
  161 | template<> struct unpacket_traits<Packet4f> { typedef float  type; enum {size=4, alignment=Aligned16}; typedef Packet4f half; };
      |                                           ^
/home/biocbuild/bbs-3.13-bioc/R/library/RcppEigen/include/Eigen/src/Core/arch/SSE/PacketMath.h:162:43: warning: ignoring attributes on template argument ‘Eigen::internal::Packet2d’ {aka ‘__vector(2) double’} [-Wignored-attributes]
  162 | template<> struct unpacket_traits<Packet2d> { typedef double type; enum {size=2, alignment=Aligned16}; typedef Packet2d half; };
      |                                           ^
/home/biocbuild/bbs-3.13-bioc/R/library/RcppEigen/include/Eigen/src/Core/arch/SSE/PacketMath.h:163:43: warning: ignoring attributes on template argument ‘Eigen::internal::Packet4i’ {aka ‘__vector(2) long long int’} [-Wignored-attributes]
  163 | template<> struct unpacket_traits<Packet4i> { typedef int    type; enum {size=4, alignment=Aligned16}; typedef Packet4i half; };
      |                                           ^
/home/biocbuild/bbs-3.13-bioc/R/library/RcppEigen/include/Eigen/src/Core/arch/SSE/PacketMath.h:718:35: warning: ignoring attributes on template argument ‘Eigen::internal::Packet4f’ {aka ‘__vector(4) float’} [-Wignored-attributes]
  718 | struct palign_impl<Offset,Packet4f>
      |                                   ^
/home/biocbuild/bbs-3.13-bioc/R/library/RcppEigen/include/Eigen/src/Core/arch/SSE/PacketMath.h:741:35: warning: ignoring attributes on template argument ‘Eigen::internal::Packet4i’ {aka ‘__vector(2) long long int’} [-Wignored-attributes]
  741 | struct palign_impl<Offset,Packet4i>
      |                                   ^
/home/biocbuild/bbs-3.13-bioc/R/library/RcppEigen/include/Eigen/src/Core/arch/SSE/PacketMath.h:764:35: warning: ignoring attributes on template argument ‘Eigen::internal::Packet2d’ {aka ‘__vector(2) double’} [-Wignored-attributes]
  764 | struct palign_impl<Offset,Packet2d>
      |                                   ^
/home/biocbuild/bbs-3.13-bioc/R/library/RcppEigen/include/Eigen/src/Core/arch/SSE/PacketMath.h:778:34: warning: ignoring attributes on template argument ‘Eigen::internal::Packet4f’ {aka ‘__vector(4) float’} [-Wignored-attributes]
  778 | ptranspose(PacketBlock<Packet4f,4>& kernel) {
      |                                  ^
/home/biocbuild/bbs-3.13-bioc/R/library/RcppEigen/include/Eigen/src/Core/arch/SSE/PacketMath.h:783:34: warning: ignoring attributes on template argument ‘Eigen::internal::Packet2d’ {aka ‘__vector(2) double’} [-Wignored-attributes]
  783 | ptranspose(PacketBlock<Packet2d,2>& kernel) {
      |                                  ^
/home/biocbuild/bbs-3.13-bioc/R/library/RcppEigen/include/Eigen/src/Core/arch/SSE/PacketMath.h:790:34: warning: ignoring attributes on template argument ‘Eigen::internal::Packet4i’ {aka ‘__vector(2) long long int’} [-Wignored-attributes]
  790 | ptranspose(PacketBlock<Packet4i,4>& kernel) {
      |                                  ^
In file included from /home/biocbuild/bbs-3.13-bioc/R/library/RcppEigen/include/Eigen/Core:377,
                 from /home/biocbuild/bbs-3.13-bioc/R/library/RcppEigen/include/Eigen/Dense:1,
                 from /home/biocbuild/bbs-3.13-bioc/R/library/RcppEigen/include/RcppEigenForward.h:30,
                 from /home/biocbuild/bbs-3.13-bioc/R/library/RcppEigen/include/RcppEigen.h:25,
                 from ../inst/include/martini_RcppExports.h:7,
                 from ../inst/include/martini.h:7,
                 from RcppExports.cpp:4:
/home/biocbuild/bbs-3.13-bioc/R/library/RcppEigen/include/Eigen/src/Core/arch/Default/ConjHelper.h:15:70: warning: ignoring attributes on template argument ‘Eigen::internal::Packet4f’ {aka ‘__vector(4) float’} [-Wignored-attributes]
   15 |   template<> struct conj_helper<PACKET_REAL, PACKET_CPLX, false,false> {                                          \
      |                                                                      ^
/home/biocbuild/bbs-3.13-bioc/R/library/RcppEigen/include/Eigen/src/Core/arch/SSE/Complex.h:232:1: note: in expansion of macro ‘EIGEN_MAKE_CONJ_HELPER_CPLX_REAL’
  232 | EIGEN_MAKE_CONJ_HELPER_CPLX_REAL(Packet2cf,Packet4f)
      | ^~~~~~~~~~~~~~~~~~~~~~~~~~~~~~~~
/home/biocbuild/bbs-3.13-bioc/R/library/RcppEigen/include/Eigen/src/Core/arch/Default/ConjHelper.h:22:70: warning: ignoring attributes on template argument ‘Eigen::internal::Packet4f’ {aka ‘__vector(4) float’} [-Wignored-attributes]
   22 |   template<> struct conj_helper<PACKET_CPLX, PACKET_REAL, false,false> {                                          \
      |                                                                      ^
/home/biocbuild/bbs-3.13-bioc/R/library/RcppEigen/include/Eigen/src/Core/arch/SSE/Complex.h:232:1: note: in expansion of macro ‘EIGEN_MAKE_CONJ_HELPER_CPLX_REAL’
  232 | EIGEN_MAKE_CONJ_HELPER_CPLX_REAL(Packet2cf,Packet4f)
      | ^~~~~~~~~~~~~~~~~~~~~~~~~~~~~~~~
/home/biocbuild/bbs-3.13-bioc/R/library/RcppEigen/include/Eigen/src/Core/arch/Default/ConjHelper.h:15:70: warning: ignoring attributes on template argument ‘Eigen::internal::Packet2d’ {aka ‘__vector(2) double’} [-Wignored-attributes]
   15 |   template<> struct conj_helper<PACKET_REAL, PACKET_CPLX, false,false> {                                          \
      |                                                                      ^
/home/biocbuild/bbs-3.13-bioc/R/library/RcppEigen/include/Eigen/src/Core/arch/SSE/Complex.h:417:1: note: in expansion of macro ‘EIGEN_MAKE_CONJ_HELPER_CPLX_REAL’
  417 | EIGEN_MAKE_CONJ_HELPER_CPLX_REAL(Packet1cd,Packet2d)
      | ^~~~~~~~~~~~~~~~~~~~~~~~~~~~~~~~
/home/biocbuild/bbs-3.13-bioc/R/library/RcppEigen/include/Eigen/src/Core/arch/Default/ConjHelper.h:22:70: warning: ignoring attributes on template argument ‘Eigen::internal::Packet2d’ {aka ‘__vector(2) double’} [-Wignored-attributes]
   22 |   template<> struct conj_helper<PACKET_CPLX, PACKET_REAL, false,false> {                                          \
      |                                                                      ^
/home/biocbuild/bbs-3.13-bioc/R/library/RcppEigen/include/Eigen/src/Core/arch/SSE/Complex.h:417:1: note: in expansion of macro ‘EIGEN_MAKE_CONJ_HELPER_CPLX_REAL’
  417 | EIGEN_MAKE_CONJ_HELPER_CPLX_REAL(Packet1cd,Packet2d)
      | ^~~~~~~~~~~~~~~~~~~~~~~~~~~~~~~~
In file included from /home/biocbuild/bbs-3.13-bioc/R/library/RcppEigen/include/Eigen/Core:370,
                 from /home/biocbuild/bbs-3.13-bioc/R/library/RcppEigen/include/Eigen/Dense:1,
                 from /home/biocbuild/bbs-3.13-bioc/R/library/RcppEigen/include/RcppEigenForward.h:30,
                 from /home/biocbuild/bbs-3.13-bioc/R/library/RcppEigen/include/RcppEigen.h:25,
                 from ../inst/include/martini_RcppExports.h:7,
                 from ../inst/include/martini.h:7,
                 from RcppExports.cpp:4:
/home/biocbuild/bbs-3.13-bioc/R/library/RcppEigen/include/Eigen/src/Core/util/XprHelper.h: In instantiation of ‘struct Eigen::internal::find_best_packet<float, 4>’:
/home/biocbuild/bbs-3.13-bioc/R/library/RcppEigen/include/Eigen/src/Core/Matrix.h:22:57:   required from ‘struct Eigen::internal::traits<Eigen::Matrix<float, 4, 1> >’
/home/biocbuild/bbs-3.13-bioc/R/library/RcppEigen/include/Eigen/src/Geometry/Quaternion.h:242:7:   required from ‘struct Eigen::internal::traits<Eigen::Quaternion<float> >’
/home/biocbuild/bbs-3.13-bioc/R/library/RcppEigen/include/Eigen/src/Geometry/arch/Geometry_SSE.h:24:46:   required from here
/home/biocbuild/bbs-3.13-bioc/R/library/RcppEigen/include/Eigen/src/Core/util/XprHelper.h:187:44: warning: ignoring attributes on template argument ‘Eigen::internal::packet_traits<float>::type’ {aka ‘__vector(4) float’} [-Wignored-attributes]
  187 |          bool Stop = Size==Dynamic || (Size%unpacket_traits<PacketType>::size)==0 || is_same<PacketType,typename unpacket_traits<PacketType>::half>::value>
      |                                       ~~~~~^~~~~~~~~~~~~~~~~~~~~~~~~~~~~~~~~~~
/home/biocbuild/bbs-3.13-bioc/R/library/RcppEigen/include/Eigen/src/Core/util/XprHelper.h:187:83: warning: ignoring attributes on template argument ‘Eigen::internal::packet_traits<float>::type’ {aka ‘__vector(4) float’} [-Wignored-attributes]
  187 |          bool Stop = Size==Dynamic || (Size%unpacket_traits<PacketType>::size)==0 || is_same<PacketType,typename unpacket_traits<PacketType>::half>::value>
      |                      ~~~~~~~~~~~~~~~~~~~~~~~~~~~~~~~~~~~~~~~~~~~~~~~~~~~~~~~~~~~~~^~~~~~~~~~~~~~~~~~~~~~~~~~~~~~~~~~~~~~~~~~~~~~~~~~~~~~~~~~~~~~~~~~~~~~~~
/home/biocbuild/bbs-3.13-bioc/R/library/RcppEigen/include/Eigen/src/Core/util/XprHelper.h:187:83: warning: ignoring attributes on template argument ‘Eigen::internal::packet_traits<float>::type’ {aka ‘__vector(4) float’} [-Wignored-attributes]
/home/biocbuild/bbs-3.13-bioc/R/library/RcppEigen/include/Eigen/src/Core/util/XprHelper.h:187:83: warning: ignoring attributes on template argument ‘Eigen::internal::unpacket_traits<__vector(4) float>::half’ {aka ‘__vector(4) float’} [-Wignored-attributes]
/home/biocbuild/bbs-3.13-bioc/R/library/RcppEigen/include/Eigen/src/Core/util/XprHelper.h:205:88: warning: ignoring attributes on template argument ‘Eigen::internal::packet_traits<float>::type’ {aka ‘__vector(4) float’} [-Wignored-attributes]
  205 |   typedef typename find_best_packet_helper<Size,typename packet_traits<T>::type>::type type;
      |                                                                                        ^~~~
In file included from /home/biocbuild/bbs-3.13-bioc/R/library/RcppEigen/include/Eigen/Core:439,
                 from /home/biocbuild/bbs-3.13-bioc/R/library/RcppEigen/include/Eigen/Dense:1,
                 from /home/biocbuild/bbs-3.13-bioc/R/library/RcppEigen/include/RcppEigenForward.h:30,
                 from /home/biocbuild/bbs-3.13-bioc/R/library/RcppEigen/include/RcppEigen.h:25,
                 from ../inst/include/martini_RcppExports.h:7,
                 from ../inst/include/martini.h:7,
                 from RcppExports.cpp:4:
/home/biocbuild/bbs-3.13-bioc/R/library/RcppEigen/include/Eigen/src/Core/DenseCoeffsBase.h: In instantiation of ‘class Eigen::DenseCoeffsBase<Eigen::Matrix<float, 4, 1>, 0>’:
/home/biocbuild/bbs-3.13-bioc/R/library/RcppEigen/include/Eigen/src/Core/DenseCoeffsBase.h:300:7:   required from ‘class Eigen::DenseCoeffsBase<Eigen::Matrix<float, 4, 1>, 1>’
/home/biocbuild/bbs-3.13-bioc/R/library/RcppEigen/include/Eigen/src/Core/DenseCoeffsBase.h:551:7:   required from ‘class Eigen::DenseCoeffsBase<Eigen::Matrix<float, 4, 1>, 3>’
/home/biocbuild/bbs-3.13-bioc/R/library/RcppEigen/include/Eigen/src/Core/DenseBase.h:41:34:   required from ‘class Eigen::DenseBase<Eigen::Matrix<float, 4, 1> >’
/home/biocbuild/bbs-3.13-bioc/R/library/RcppEigen/include/Eigen/src/Core/MatrixBase.h:48:34:   required from ‘class Eigen::MatrixBase<Eigen::Matrix<float, 4, 1> >’
/home/biocbuild/bbs-3.13-bioc/R/library/RcppEigen/include/Eigen/src/Core/PlainObjectBase.h:98:7:   required from ‘class Eigen::PlainObjectBase<Eigen::Matrix<float, 4, 1> >’
/home/biocbuild/bbs-3.13-bioc/R/library/RcppEigen/include/Eigen/src/Core/Matrix.h:178:7:   required from ‘class Eigen::Matrix<float, 4, 1>’
/home/biocbuild/bbs-3.13-bioc/R/library/RcppEigen/include/Eigen/src/Geometry/Quaternion.h:46:50:   required from ‘class Eigen::QuaternionBase<Eigen::Quaternion<float> >’
/home/biocbuild/bbs-3.13-bioc/R/library/RcppEigen/include/Eigen/src/Geometry/Quaternion.h:250:7:   required from ‘class Eigen::Quaternion<float>’
/home/biocbuild/bbs-3.13-bioc/R/library/RcppEigen/include/Eigen/src/Geometry/arch/Geometry_SSE.h:27:3:   required from here
/home/biocbuild/bbs-3.13-bioc/R/library/RcppEigen/include/Eigen/src/Core/DenseCoeffsBase.h:55:30: warning: ignoring attributes on template argument ‘Eigen::internal::packet_traits<float>::type’ {aka ‘__vector(4) float’} [-Wignored-attributes]
   55 |                      >::type PacketReturnType;
      |                              ^~~~~~~~~~~~~~~~
In file included from /home/biocbuild/bbs-3.13-bioc/R/library/RcppEigen/include/Eigen/Core:370,
                 from /home/biocbuild/bbs-3.13-bioc/R/library/RcppEigen/include/Eigen/Dense:1,
                 from /home/biocbuild/bbs-3.13-bioc/R/library/RcppEigen/include/RcppEigenForward.h:30,
                 from /home/biocbuild/bbs-3.13-bioc/R/library/RcppEigen/include/RcppEigen.h:25,
                 from ../inst/include/martini_RcppExports.h:7,
                 from ../inst/include/martini.h:7,
                 from RcppExports.cpp:4:
/home/biocbuild/bbs-3.13-bioc/R/library/RcppEigen/include/Eigen/src/Core/util/XprHelper.h: In instantiation of ‘struct Eigen::internal::find_best_packet<double, 4>’:
/home/biocbuild/bbs-3.13-bioc/R/library/RcppEigen/include/Eigen/src/Core/Matrix.h:22:57:   required from ‘struct Eigen::internal::traits<Eigen::Matrix<double, 4, 1> >’
/home/biocbuild/bbs-3.13-bioc/R/library/RcppEigen/include/Eigen/src/Geometry/Quaternion.h:242:7:   required from ‘struct Eigen::internal::traits<Eigen::Quaternion<double> >’
/home/biocbuild/bbs-3.13-bioc/R/library/RcppEigen/include/Eigen/src/Geometry/arch/Geometry_SSE.h:88:47:   required from here
/home/biocbuild/bbs-3.13-bioc/R/library/RcppEigen/include/Eigen/src/Core/util/XprHelper.h:187:44: warning: ignoring attributes on template argument ‘Eigen::internal::packet_traits<double>::type’ {aka ‘__vector(2) double’} [-Wignored-attributes]
  187 |          bool Stop = Size==Dynamic || (Size%unpacket_traits<PacketType>::size)==0 || is_same<PacketType,typename unpacket_traits<PacketType>::half>::value>
      |                                       ~~~~~^~~~~~~~~~~~~~~~~~~~~~~~~~~~~~~~~~~
/home/biocbuild/bbs-3.13-bioc/R/library/RcppEigen/include/Eigen/src/Core/util/XprHelper.h:187:83: warning: ignoring attributes on template argument ‘Eigen::internal::packet_traits<double>::type’ {aka ‘__vector(2) double’} [-Wignored-attributes]
  187 |          bool Stop = Size==Dynamic || (Size%unpacket_traits<PacketType>::size)==0 || is_same<PacketType,typename unpacket_traits<PacketType>::half>::value>
      |                      ~~~~~~~~~~~~~~~~~~~~~~~~~~~~~~~~~~~~~~~~~~~~~~~~~~~~~~~~~~~~~^~~~~~~~~~~~~~~~~~~~~~~~~~~~~~~~~~~~~~~~~~~~~~~~~~~~~~~~~~~~~~~~~~~~~~~~
/home/biocbuild/bbs-3.13-bioc/R/library/RcppEigen/include/Eigen/src/Core/util/XprHelper.h:187:83: warning: ignoring attributes on template argument ‘Eigen::internal::packet_traits<double>::type’ {aka ‘__vector(2) double’} [-Wignored-attributes]
/home/biocbuild/bbs-3.13-bioc/R/library/RcppEigen/include/Eigen/src/Core/util/XprHelper.h:187:83: warning: ignoring attributes on template argument ‘Eigen::internal::unpacket_traits<__vector(2) double>::half’ {aka ‘__vector(2) double’} [-Wignored-attributes]
/home/biocbuild/bbs-3.13-bioc/R/library/RcppEigen/include/Eigen/src/Core/util/XprHelper.h:205:88: warning: ignoring attributes on template argument ‘Eigen::internal::packet_traits<double>::type’ {aka ‘__vector(2) double’} [-Wignored-attributes]
  205 |   typedef typename find_best_packet_helper<Size,typename packet_traits<T>::type>::type type;
      |                                                                                        ^~~~
In file included from /home/biocbuild/bbs-3.13-bioc/R/library/RcppEigen/include/Eigen/Core:439,
                 from /home/biocbuild/bbs-3.13-bioc/R/library/RcppEigen/include/Eigen/Dense:1,
                 from /home/biocbuild/bbs-3.13-bioc/R/library/RcppEigen/include/RcppEigenForward.h:30,
                 from /home/biocbuild/bbs-3.13-bioc/R/library/RcppEigen/include/RcppEigen.h:25,
                 from ../inst/include/martini_RcppExports.h:7,
                 from ../inst/include/martini.h:7,
                 from RcppExports.cpp:4:
/home/biocbuild/bbs-3.13-bioc/R/library/RcppEigen/include/Eigen/src/Core/DenseCoeffsBase.h: In instantiation of ‘class Eigen::DenseCoeffsBase<Eigen::Matrix<double, 4, 1>, 0>’:
/home/biocbuild/bbs-3.13-bioc/R/library/RcppEigen/include/Eigen/src/Core/DenseCoeffsBase.h:300:7:   required from ‘class Eigen::DenseCoeffsBase<Eigen::Matrix<double, 4, 1>, 1>’
/home/biocbuild/bbs-3.13-bioc/R/library/RcppEigen/include/Eigen/src/Core/DenseCoeffsBase.h:551:7:   required from ‘class Eigen::DenseCoeffsBase<Eigen::Matrix<double, 4, 1>, 3>’
/home/biocbuild/bbs-3.13-bioc/R/library/RcppEigen/include/Eigen/src/Core/DenseBase.h:41:34:   required from ‘class Eigen::DenseBase<Eigen::Matrix<double, 4, 1> >’
/home/biocbuild/bbs-3.13-bioc/R/library/RcppEigen/include/Eigen/src/Core/MatrixBase.h:48:34:   required from ‘class Eigen::MatrixBase<Eigen::Matrix<double, 4, 1> >’
/home/biocbuild/bbs-3.13-bioc/R/library/RcppEigen/include/Eigen/src/Core/PlainObjectBase.h:98:7:   required from ‘class Eigen::PlainObjectBase<Eigen::Matrix<double, 4, 1> >’
/home/biocbuild/bbs-3.13-bioc/R/library/RcppEigen/include/Eigen/src/Core/Matrix.h:178:7:   required from ‘class Eigen::Matrix<double, 4, 1>’
/home/biocbuild/bbs-3.13-bioc/R/library/RcppEigen/include/Eigen/src/Geometry/Quaternion.h:46:50:   required from ‘class Eigen::QuaternionBase<Eigen::Quaternion<double> >’
/home/biocbuild/bbs-3.13-bioc/R/library/RcppEigen/include/Eigen/src/Geometry/Quaternion.h:250:7:   required from ‘class Eigen::Quaternion<double>’
/home/biocbuild/bbs-3.13-bioc/R/library/RcppEigen/include/Eigen/src/Geometry/arch/Geometry_SSE.h:92:3:   required from here
/home/biocbuild/bbs-3.13-bioc/R/library/RcppEigen/include/Eigen/src/Core/DenseCoeffsBase.h:55:30: warning: ignoring attributes on template argument ‘Eigen::internal::packet_traits<double>::type’ {aka ‘__vector(2) double’} [-Wignored-attributes]
   55 |                      >::type PacketReturnType;
      |                              ^~~~~~~~~~~~~~~~
In file included from /home/biocbuild/bbs-3.13-bioc/R/library/RcppEigen/include/Eigen/SparseCore:37,
                 from /home/biocbuild/bbs-3.13-bioc/R/library/RcppEigen/include/Eigen/Sparse:26,
                 from /home/biocbuild/bbs-3.13-bioc/R/library/RcppEigen/include/RcppEigenForward.h:31,
                 from /home/biocbuild/bbs-3.13-bioc/R/library/RcppEigen/include/RcppEigen.h:25,
                 from ../inst/include/martini_RcppExports.h:7,
                 from ../inst/include/martini.h:7,
                 from RcppExports.cpp:4:
/home/biocbuild/bbs-3.13-bioc/R/library/RcppEigen/include/Eigen/src/SparseCore/SparseMatrixBase.h: In instantiation of ‘class Eigen::SparseMatrixBase<Eigen::SparseMatrix<double, 0, int> >’:
/home/biocbuild/bbs-3.13-bioc/R/library/RcppEigen/include/Eigen/src/SparseCore/SparseCompressedBase.h:36:7:   required from ‘class Eigen::SparseCompressedBase<Eigen::SparseMatrix<double, 0, int> >’
/home/biocbuild/bbs-3.13-bioc/R/library/RcppEigen/include/Eigen/src/SparseCore/SparseMatrix.h:96:7:   required from ‘class Eigen::SparseMatrix<double, 0, int>’
/home/biocbuild/bbs-3.13-bioc/R/library/RcppEigen/include/unsupported/Eigen/src/IterativeSolvers/ConstrainedConjGrad.h:61:25:   required from here
/home/biocbuild/bbs-3.13-bioc/R/library/RcppEigen/include/Eigen/src/SparseCore/SparseMatrixBase.h:47:30: warning: ignoring attributes on template argument ‘Eigen::internal::packet_traits<double>::type’ {aka ‘__vector(2) double’} [-Wignored-attributes]
   47 |                      >::type PacketReturnType;
      |                              ^~~~~~~~~~~~~~~~
In file included from /home/biocbuild/bbs-3.13-bioc/R/library/RcppEigen/include/Eigen/Core:370,
                 from /home/biocbuild/bbs-3.13-bioc/R/library/RcppEigen/include/Eigen/Dense:1,
                 from /home/biocbuild/bbs-3.13-bioc/R/library/RcppEigen/include/RcppEigenForward.h:30,
                 from /home/biocbuild/bbs-3.13-bioc/R/library/RcppEigen/include/RcppEigen.h:25,
                 from ../inst/include/martini_RcppExports.h:7,
                 from ../inst/include/martini.h:7,
                 from RcppExports.cpp:4:
/home/biocbuild/bbs-3.13-bioc/R/library/RcppEigen/include/Eigen/src/Core/util/XprHelper.h: In instantiation of ‘struct Eigen::internal::find_best_packet<int, -1>’:
/home/biocbuild/bbs-3.13-bioc/R/library/RcppEigen/include/Eigen/src/Core/Matrix.h:22:57:   required from ‘struct Eigen::internal::traits<Eigen::Matrix<int, -1, 1> >’
/home/biocbuild/bbs-3.13-bioc/R/library/RcppEigen/include/Eigen/src/Core/PlainObjectBase.h:98:7:   required from ‘class Eigen::PlainObjectBase<Eigen::Matrix<int, -1, 1> >’
/home/biocbuild/bbs-3.13-bioc/R/library/RcppEigen/include/Eigen/src/Core/Matrix.h:178:7:   required from ‘class Eigen::Matrix<int, -1, 1>’
/home/biocbuild/bbs-3.13-bioc/R/library/RcppEigen/include/unsupported/Eigen/src/KroneckerProduct/KroneckerTensorProduct.h:168:29:   required from here
/home/biocbuild/bbs-3.13-bioc/R/library/RcppEigen/include/Eigen/src/Core/util/XprHelper.h:187:44: warning: ignoring attributes on template argument ‘Eigen::internal::packet_traits<int>::type’ {aka ‘__vector(2) long long int’} [-Wignored-attributes]
  187 |          bool Stop = Size==Dynamic || (Size%unpacket_traits<PacketType>::size)==0 || is_same<PacketType,typename unpacket_traits<PacketType>::half>::value>
      |                                       ~~~~~^~~~~~~~~~~~~~~~~~~~~~~~~~~~~~~~~~~
/home/biocbuild/bbs-3.13-bioc/R/library/RcppEigen/include/Eigen/src/Core/util/XprHelper.h:187:83: warning: ignoring attributes on template argument ‘Eigen::internal::packet_traits<int>::type’ {aka ‘__vector(2) long long int’} [-Wignored-attributes]
  187 |          bool Stop = Size==Dynamic || (Size%unpacket_traits<PacketType>::size)==0 || is_same<PacketType,typename unpacket_traits<PacketType>::half>::value>
      |                      ~~~~~~~~~~~~~~~~~~~~~~~~~~~~~~~~~~~~~~~~~~~~~~~~~~~~~~~~~~~~~^~~~~~~~~~~~~~~~~~~~~~~~~~~~~~~~~~~~~~~~~~~~~~~~~~~~~~~~~~~~~~~~~~~~~~~~
/home/biocbuild/bbs-3.13-bioc/R/library/RcppEigen/include/Eigen/src/Core/util/XprHelper.h:187:83: warning: ignoring attributes on template argument ‘Eigen::internal::packet_traits<int>::type’ {aka ‘__vector(2) long long int’} [-Wignored-attributes]
/home/biocbuild/bbs-3.13-bioc/R/library/RcppEigen/include/Eigen/src/Core/util/XprHelper.h:187:83: warning: ignoring attributes on template argument ‘Eigen::internal::unpacket_traits<__vector(2) long long int>::half’ {aka ‘__vector(2) long long int’} [-Wignored-attributes]
/home/biocbuild/bbs-3.13-bioc/R/library/RcppEigen/include/Eigen/src/Core/util/XprHelper.h:205:88: warning: ignoring attributes on template argument ‘Eigen::internal::packet_traits<int>::type’ {aka ‘__vector(2) long long int’} [-Wignored-attributes]
  205 |   typedef typename find_best_packet_helper<Size,typename packet_traits<T>::type>::type type;
      |                                                                                        ^~~~
In file included from /home/biocbuild/bbs-3.13-bioc/R/library/RcppEigen/include/Eigen/Core:439,
                 from /home/biocbuild/bbs-3.13-bioc/R/library/RcppEigen/include/Eigen/Dense:1,
                 from /home/biocbuild/bbs-3.13-bioc/R/library/RcppEigen/include/RcppEigenForward.h:30,
                 from /home/biocbuild/bbs-3.13-bioc/R/library/RcppEigen/include/RcppEigen.h:25,
                 from ../inst/include/martini_RcppExports.h:7,
                 from ../inst/include/martini.h:7,
                 from RcppExports.cpp:4:
/home/biocbuild/bbs-3.13-bioc/R/library/RcppEigen/include/Eigen/src/Core/DenseCoeffsBase.h: In instantiation of ‘class Eigen::DenseCoeffsBase<Eigen::Matrix<int, -1, 1>, 0>’:
/home/biocbuild/bbs-3.13-bioc/R/library/RcppEigen/include/Eigen/src/Core/DenseCoeffsBase.h:300:7:   required from ‘class Eigen::DenseCoeffsBase<Eigen::Matrix<int, -1, 1>, 1>’
/home/biocbuild/bbs-3.13-bioc/R/library/RcppEigen/include/Eigen/src/Core/DenseCoeffsBase.h:551:7:   required from ‘class Eigen::DenseCoeffsBase<Eigen::Matrix<int, -1, 1>, 3>’
/home/biocbuild/bbs-3.13-bioc/R/library/RcppEigen/include/Eigen/src/Core/DenseBase.h:41:34:   required from ‘class Eigen::DenseBase<Eigen::Matrix<int, -1, 1> >’
/home/biocbuild/bbs-3.13-bioc/R/library/RcppEigen/include/Eigen/src/Core/MatrixBase.h:48:34:   required from ‘class Eigen::MatrixBase<Eigen::Matrix<int, -1, 1> >’
/home/biocbuild/bbs-3.13-bioc/R/library/RcppEigen/include/Eigen/src/Core/PlainObjectBase.h:98:7:   required from ‘class Eigen::PlainObjectBase<Eigen::Matrix<int, -1, 1> >’
/home/biocbuild/bbs-3.13-bioc/R/library/RcppEigen/include/Eigen/src/Core/Matrix.h:178:7:   required from ‘class Eigen::Matrix<int, -1, 1>’
/home/biocbuild/bbs-3.13-bioc/R/library/RcppEigen/include/unsupported/Eigen/src/KroneckerProduct/KroneckerTensorProduct.h:168:29:   required from here
/home/biocbuild/bbs-3.13-bioc/R/library/RcppEigen/include/Eigen/src/Core/DenseCoeffsBase.h:55:30: warning: ignoring attributes on template argument ‘Eigen::internal::packet_traits<int>::type’ {aka ‘__vector(2) long long int’} [-Wignored-attributes]
   55 |                      >::type PacketReturnType;
      |                              ^~~~~~~~~~~~~~~~
/home/biocbuild/bbs-3.13-bioc/R/library/RcppEigen/include/Eigen/src/Core/DenseCoeffsBase.h: In instantiation of ‘class Eigen::DenseCoeffsBase<Eigen::Transpose<Eigen::Matrix<int, -1, 1> >, 0>’:
/home/biocbuild/bbs-3.13-bioc/R/library/RcppEigen/include/Eigen/src/Core/DenseCoeffsBase.h:300:7:   required from ‘class Eigen::DenseCoeffsBase<Eigen::Transpose<Eigen::Matrix<int, -1, 1> >, 1>’
/home/biocbuild/bbs-3.13-bioc/R/library/RcppEigen/include/Eigen/src/Core/DenseCoeffsBase.h:551:7:   required from ‘class Eigen::DenseCoeffsBase<Eigen::Transpose<Eigen::Matrix<int, -1, 1> >, 3>’
/home/biocbuild/bbs-3.13-bioc/R/library/RcppEigen/include/Eigen/src/Core/DenseBase.h:41:34:   required from ‘class Eigen::DenseBase<Eigen::Transpose<Eigen::Matrix<int, -1, 1> > >’
/home/biocbuild/bbs-3.13-bioc/R/library/RcppEigen/include/Eigen/src/Core/MatrixBase.h:48:34:   required from ‘class Eigen::MatrixBase<Eigen::Transpose<Eigen::Matrix<int, -1, 1> > >’
/home/biocbuild/bbs-3.13-bioc/R/library/RcppEigen/include/Eigen/src/Core/Transpose.h:115:37:   required from ‘class Eigen::TransposeImpl<Eigen::Matrix<int, -1, 1>, Eigen::Dense>’
/home/biocbuild/bbs-3.13-bioc/R/library/RcppEigen/include/Eigen/src/Core/Transpose.h:52:37:   required from ‘class Eigen::Transpose<Eigen::Matrix<int, -1, 1> >’
/home/biocbuild/bbs-3.13-bioc/R/library/RcppEigen/include/unsupported/Eigen/src/KroneckerProduct/KroneckerTensorProduct.h:178:72:   required from here
/home/biocbuild/bbs-3.13-bioc/R/library/RcppEigen/include/Eigen/src/Core/DenseCoeffsBase.h:55:30: warning: ignoring attributes on template argument ‘Eigen::internal::packet_traits<int>::type’ {aka ‘__vector(2) long long int’} [-Wignored-attributes]
/home/biocbuild/bbs-3.13-bioc/R/library/RcppEigen/include/Eigen/src/Core/DenseCoeffsBase.h: In instantiation of ‘class Eigen::DenseCoeffsBase<Eigen::Matrix<int, -1, -1>, 0>’:
/home/biocbuild/bbs-3.13-bioc/R/library/RcppEigen/include/Eigen/src/Core/DenseCoeffsBase.h:300:7:   required from ‘class Eigen::DenseCoeffsBase<Eigen::Matrix<int, -1, -1>, 1>’
/home/biocbuild/bbs-3.13-bioc/R/library/RcppEigen/include/Eigen/src/Core/DenseCoeffsBase.h:551:7:   required from ‘class Eigen::DenseCoeffsBase<Eigen::Matrix<int, -1, -1>, 3>’
/home/biocbuild/bbs-3.13-bioc/R/library/RcppEigen/include/Eigen/src/Core/DenseBase.h:41:34:   required from ‘class Eigen::DenseBase<Eigen::Matrix<int, -1, -1> >’
/home/biocbuild/bbs-3.13-bioc/R/library/RcppEigen/include/Eigen/src/Core/MatrixBase.h:48:34:   required from ‘class Eigen::MatrixBase<Eigen::Matrix<int, -1, -1> >’
/home/biocbuild/bbs-3.13-bioc/R/library/RcppEigen/include/Eigen/src/Core/PlainObjectBase.h:98:7:   required from ‘class Eigen::PlainObjectBase<Eigen::Matrix<int, -1, -1> >’
/home/biocbuild/bbs-3.13-bioc/R/library/RcppEigen/include/Eigen/src/Core/Matrix.h:178:7:   required from ‘class Eigen::Matrix<int, -1, -1>’
/home/biocbuild/bbs-3.13-bioc/R/library/RcppEigen/include/unsupported/Eigen/src/KroneckerProduct/KroneckerTensorProduct.h:179:36:   required from here
/home/biocbuild/bbs-3.13-bioc/R/library/RcppEigen/include/Eigen/src/Core/DenseCoeffsBase.h:55:30: warning: ignoring attributes on template argument ‘Eigen::internal::packet_traits<int>::type’ {aka ‘__vector(2) long long int’} [-Wignored-attributes]
In file included from /home/biocbuild/bbs-3.13-bioc/R/library/RcppEigen/include/Eigen/Core:370,
                 from /home/biocbuild/bbs-3.13-bioc/R/library/RcppEigen/include/Eigen/Dense:1,
                 from /home/biocbuild/bbs-3.13-bioc/R/library/RcppEigen/include/RcppEigenForward.h:30,
                 from /home/biocbuild/bbs-3.13-bioc/R/library/RcppEigen/include/RcppEigen.h:25,
                 from ../inst/include/martini_RcppExports.h:7,
                 from ../inst/include/martini.h:7,
                 from RcppExports.cpp:4:
/home/biocbuild/bbs-3.13-bioc/R/library/RcppEigen/include/Eigen/src/Core/util/XprHelper.h: In instantiation of ‘struct Eigen::internal::find_best_packet<double, -1>’:
/home/biocbuild/bbs-3.13-bioc/R/library/RcppEigen/include/Eigen/src/Core/Matrix.h:22:57:   required from ‘struct Eigen::internal::traits<Eigen::Matrix<double, -1, 1> >’
/home/biocbuild/bbs-3.13-bioc/R/library/RcppEigen/include/Eigen/src/Core/PlainObjectBase.h:98:7:   required from ‘class Eigen::PlainObjectBase<Eigen::Matrix<double, -1, 1> >’
../inst/include/martini_RcppExports.h:38:96:   recursively required by substitution of ‘template<class T> SEXPREC* Rcpp::wrap(const Eigen::CholmodDecomposition<Eigen::SparseMatrix<Scalar> >&) [with T = <missing>]’
../inst/include/martini_RcppExports.h:38:96:   required from here
/home/biocbuild/bbs-3.13-bioc/R/library/RcppEigen/include/Eigen/src/Core/util/XprHelper.h:187:44: warning: ignoring attributes on template argument ‘Eigen::internal::packet_traits<double>::type’ {aka ‘__vector(2) double’} [-Wignored-attributes]
  187 |          bool Stop = Size==Dynamic || (Size%unpacket_traits<PacketType>::size)==0 || is_same<PacketType,typename unpacket_traits<PacketType>::half>::value>
      |                                       ~~~~~^~~~~~~~~~~~~~~~~~~~~~~~~~~~~~~~~~~
/home/biocbuild/bbs-3.13-bioc/R/library/RcppEigen/include/Eigen/src/Core/util/XprHelper.h:187:83: warning: ignoring attributes on template argument ‘Eigen::internal::packet_traits<double>::type’ {aka ‘__vector(2) double’} [-Wignored-attributes]
  187 |          bool Stop = Size==Dynamic || (Size%unpacket_traits<PacketType>::size)==0 || is_same<PacketType,typename unpacket_traits<PacketType>::half>::value>
      |                      ~~~~~~~~~~~~~~~~~~~~~~~~~~~~~~~~~~~~~~~~~~~~~~~~~~~~~~~~~~~~~^~~~~~~~~~~~~~~~~~~~~~~~~~~~~~~~~~~~~~~~~~~~~~~~~~~~~~~~~~~~~~~~~~~~~~~~
/home/biocbuild/bbs-3.13-bioc/R/library/RcppEigen/include/Eigen/src/Core/util/XprHelper.h:187:83: warning: ignoring attributes on template argument ‘Eigen::internal::packet_traits<double>::type’ {aka ‘__vector(2) double’} [-Wignored-attributes]
/home/biocbuild/bbs-3.13-bioc/R/library/RcppEigen/include/Eigen/src/Core/util/XprHelper.h:187:83: warning: ignoring attributes on template argument ‘Eigen::internal::unpacket_traits<__vector(2) double>::half’ {aka ‘__vector(2) double’} [-Wignored-attributes]
/home/biocbuild/bbs-3.13-bioc/R/library/RcppEigen/include/Eigen/src/Core/util/XprHelper.h:205:88: warning: ignoring attributes on template argument ‘Eigen::internal::packet_traits<double>::type’ {aka ‘__vector(2) double’} [-Wignored-attributes]
  205 |   typedef typename find_best_packet_helper<Size,typename packet_traits<T>::type>::type type;
      |                                                                                        ^~~~
In file included from /home/biocbuild/bbs-3.13-bioc/R/library/RcppEigen/include/Eigen/Core:439,
                 from /home/biocbuild/bbs-3.13-bioc/R/library/RcppEigen/include/Eigen/Dense:1,
                 from /home/biocbuild/bbs-3.13-bioc/R/library/RcppEigen/include/RcppEigenForward.h:30,
                 from /home/biocbuild/bbs-3.13-bioc/R/library/RcppEigen/include/RcppEigen.h:25,
                 from ../inst/include/martini_RcppExports.h:7,
                 from ../inst/include/martini.h:7,
                 from RcppExports.cpp:4:
/home/biocbuild/bbs-3.13-bioc/R/library/RcppEigen/include/Eigen/src/Core/DenseCoeffsBase.h: In instantiation of ‘class Eigen::DenseCoeffsBase<Eigen::Matrix<double, -1, 1>, 0>’:
/home/biocbuild/bbs-3.13-bioc/R/library/RcppEigen/include/Eigen/src/Core/DenseCoeffsBase.h:300:7:   required from ‘class Eigen::DenseCoeffsBase<Eigen::Matrix<double, -1, 1>, 1>’
/home/biocbuild/bbs-3.13-bioc/R/library/RcppEigen/include/Eigen/src/Core/DenseCoeffsBase.h:551:7:   required from ‘class Eigen::DenseCoeffsBase<Eigen::Matrix<double, -1, 1>, 3>’
/home/biocbuild/bbs-3.13-bioc/R/library/RcppEigen/include/Eigen/src/Core/DenseBase.h:41:34:   required from ‘class Eigen::DenseBase<Eigen::Matrix<double, -1, 1> >’
/home/biocbuild/bbs-3.13-bioc/R/library/RcppEigen/include/Eigen/src/Core/MatrixBase.h:48:34:   required from ‘class Eigen::MatrixBase<Eigen::Matrix<double, -1, 1> >’
/home/biocbuild/bbs-3.13-bioc/R/library/RcppEigen/include/Eigen/src/Core/PlainObjectBase.h:98:7:   required from ‘class Eigen::PlainObjectBase<Eigen::Matrix<double, -1, 1> >’
../inst/include/martini_RcppExports.h:38:96:   recursively required by substitution of ‘template<class T> SEXPREC* Rcpp::wrap(const Eigen::CholmodDecomposition<Eigen::SparseMatrix<Scalar> >&) [with T = <missing>]’
../inst/include/martini_RcppExports.h:38:96:   required from here
/home/biocbuild/bbs-3.13-bioc/R/library/RcppEigen/include/Eigen/src/Core/DenseCoeffsBase.h:55:30: warning: ignoring attributes on template argument ‘Eigen::internal::packet_traits<double>::type’ {aka ‘__vector(2) double’} [-Wignored-attributes]
   55 |                      >::type PacketReturnType;
      |                              ^~~~~~~~~~~~~~~~
/home/biocbuild/bbs-3.13-bioc/R/library/RcppEigen/include/Eigen/src/Core/DenseCoeffsBase.h: In instantiation of ‘class Eigen::DenseCoeffsBase<Eigen::SparseMatrix<double, 0, int>, 0>’:
/home/biocbuild/bbs-3.13-bioc/R/library/RcppEigen/include/Eigen/src/SparseCore/SparseCompressedBase.h:298:80:   required from ‘struct Eigen::internal::evaluator<Eigen::SparseCompressedBase<Eigen::SparseMatrix<double, 0, int> > >’
/home/biocbuild/bbs-3.13-bioc/R/library/RcppEigen/include/Eigen/src/SparseCore/SparseMatrix.h:1391:8:   required from ‘struct Eigen::internal::evaluator<Eigen::SparseMatrix<double, 0, int> >’
/home/biocbuild/bbs-3.13-bioc/R/library/RcppEigen/include/Eigen/src/SparseCore/SparseAssign.h:77:20:   required from ‘void Eigen::internal::assign_sparse_to_sparse(DstXprType&, const SrcXprType&) [with DstXprType = Eigen::SparseMatrix<double, 0, int>; SrcXprType = Eigen::SparseMatrix<double, 0, int>]’
/home/biocbuild/bbs-3.13-bioc/R/library/RcppEigen/include/Eigen/src/SparseCore/SparseAssign.h:132:28:   required from ‘static void Eigen::internal::Assignment<DstXprType, SrcXprType, Functor, Eigen::internal::Sparse2Sparse>::run(DstXprType&, const SrcXprType&, const Eigen::internal::assign_op<typename DstXprType::Scalar, typename SrcXprType::Scalar>&) [with DstXprType = Eigen::SparseMatrix<double, 0, int>; SrcXprType = Eigen::SparseMatrix<double, 0, int>; Functor = Eigen::internal::assign_op<double, double>; typename SrcXprType::Scalar = double; typename DstXprType::Scalar = double]’
/home/biocbuild/bbs-3.13-bioc/R/library/RcppEigen/include/Eigen/src/Core/AssignEvaluator.h:836:49:   required from ‘void Eigen::internal::call_assignment_no_alias(Dst&, const Src&, const Func&) [with Dst = Eigen::SparseMatrix<double, 0, int>; Src = Eigen::SparseMatrix<double, 0, int>; Func = Eigen::internal::assign_op<double, double>]’
/home/biocbuild/bbs-3.13-bioc/R/library/RcppEigen/include/Eigen/src/Core/AssignEvaluator.h:842:27:   required from ‘void Eigen::internal::call_assignment_no_alias(Dst&, const Src&) [with Dst = Eigen::SparseMatrix<double, 0, int>; Src = Eigen::SparseMatrix<double, 0, int>]’
/home/biocbuild/bbs-3.13-bioc/R/library/RcppEigen/include/Eigen/src/SparseCore/SparseAssign.h:45:37:   required from ‘Derived& Eigen::SparseMatrixBase<Derived>::operator=(const Derived&) [with Derived = Eigen::SparseMatrix<double, 0, int>]’
/home/biocbuild/bbs-3.13-bioc/R/library/RcppEigen/include/Eigen/src/SparseCore/SparseMatrix.h:774:26:   required from ‘Eigen::SparseMatrix<_Scalar, _Flags, _StorageIndex>& Eigen::SparseMatrix<_Scalar, _Flags, _StorageIndex>::operator=(const Eigen::SparseMatrix<_Scalar, _Flags, _StorageIndex>&) [with _Scalar = double; int _Options = 0; _StorageIndex = int]’
/home/biocbuild/bbs-3.13-bioc/R/library/RcppEigen/include/Eigen/src/SparseCore/SparseMatrix.h:709:13:   required from ‘Eigen::SparseMatrix<_Scalar, _Flags, _StorageIndex>::SparseMatrix(const Eigen::SparseMatrix<_Scalar, _Flags, _StorageIndex>&) [with _Scalar = double; int _Options = 0; _StorageIndex = int]’
RcppExports.cpp:57:60:   required from here
/home/biocbuild/bbs-3.13-bioc/R/library/RcppEigen/include/Eigen/src/Core/DenseCoeffsBase.h:55:30: warning: ignoring attributes on template argument ‘Eigen::internal::packet_traits<double>::type’ {aka ‘__vector(2) double’} [-Wignored-attributes]
/home/biocbuild/bbs-3.13-bioc/R/library/RcppEigen/include/Eigen/src/Core/DenseCoeffsBase.h: In instantiation of ‘class Eigen::DenseCoeffsBase<Eigen::Map<const Eigen::Matrix<int, -1, 1>, 0, Eigen::Stride<0, 0> >, 0>’:
/home/biocbuild/bbs-3.13-bioc/R/library/RcppEigen/include/Eigen/src/Core/DenseCoeffsBase.h:478:7:   required from ‘class Eigen::DenseCoeffsBase<Eigen::Map<const Eigen::Matrix<int, -1, 1>, 0, Eigen::Stride<0, 0> >, 2>’
/home/biocbuild/bbs-3.13-bioc/R/library/RcppEigen/include/Eigen/src/Core/DenseBase.h:41:34:   required from ‘class Eigen::DenseBase<Eigen::Map<const Eigen::Matrix<int, -1, 1>, 0, Eigen::Stride<0, 0> > >’
/home/biocbuild/bbs-3.13-bioc/R/library/RcppEigen/include/Eigen/src/Core/MatrixBase.h:48:34:   required from ‘class Eigen::MatrixBase<Eigen::Map<const Eigen::Matrix<int, -1, 1>, 0, Eigen::Stride<0, 0> > >’
/home/biocbuild/bbs-3.13-bioc/R/library/RcppEigen/include/Eigen/src/Core/MapBase.h:37:34:   required from ‘class Eigen::MapBase<Eigen::Map<const Eigen::Matrix<int, -1, 1>, 0, Eigen::Stride<0, 0> >, 0>’
/home/biocbuild/bbs-3.13-bioc/R/library/RcppEigen/include/Eigen/src/Core/Map.h:94:79:   required from ‘class Eigen::Map<const Eigen::Matrix<int, -1, 1>, 0, Eigen::Stride<0, 0> >’
/home/biocbuild/bbs-3.13-bioc/R/library/RcppEigen/include/Eigen/src/SparseCore/SparseCompressedBase.h:65:32:   [ skipping 3 instantiation contexts, use -ftemplate-backtrace-limit=0 to disable ]
/home/biocbuild/bbs-3.13-bioc/R/library/RcppEigen/include/RcppEigenWrap.h:149:39:   required from ‘SEXPREC* Rcpp::RcppEigen::eigen_wrap(const T&) [with T = Eigen::SparseMatrix<double, 0, int>; SEXP = SEXPREC*]’
/home/biocbuild/bbs-3.13-bioc/R/library/Rcpp/include/Rcpp/internal/wrap.h:776:49:   required from ‘SEXPREC* Rcpp::internal::wrap_dispatch_eigen(const T&, Rcpp::traits::true_type) [with T = Eigen::SparseMatrix<double, 0, int>; SEXP = SEXPREC*; Rcpp::traits::true_type = Rcpp::traits::integral_constant<bool, true>]’
/home/biocbuild/bbs-3.13-bioc/R/library/Rcpp/include/Rcpp/internal/wrap.h:787:39:   required from ‘SEXPREC* Rcpp::internal::wrap_dispatch_unknown_importable(const T&, Rcpp::traits::false_type) [with T = Eigen::SparseMatrix<double, 0, int>; SEXP = SEXPREC*; Rcpp::traits::false_type = Rcpp::traits::integral_constant<bool, false>]’
/home/biocbuild/bbs-3.13-bioc/R/library/Rcpp/include/Rcpp/internal/wrap.h:807:52:   required from ‘SEXPREC* Rcpp::internal::wrap_dispatch(const T&, Rcpp::traits::wrap_type_unknown_tag) [with T = Eigen::SparseMatrix<double, 0, int>; SEXP = SEXPREC*]’
/home/biocbuild/bbs-3.13-bioc/R/library/Rcpp/include/Rcpp/internal/wrap_end.h:30:38:   required from ‘SEXPREC* Rcpp::wrap(const T&) [with T = Eigen::SparseMatrix<double, 0, int>; SEXP = SEXPREC*]’
../inst/include/martini_RcppExports.h:38:66:   required from here
/home/biocbuild/bbs-3.13-bioc/R/library/RcppEigen/include/Eigen/src/Core/DenseCoeffsBase.h:55:30: warning: ignoring attributes on template argument ‘Eigen::internal::packet_traits<int>::type’ {aka ‘__vector(2) long long int’} [-Wignored-attributes]
/home/biocbuild/bbs-3.13-bioc/R/library/RcppEigen/include/Eigen/src/Core/DenseCoeffsBase.h: In instantiation of ‘Eigen::Index Eigen::internal::first_default_aligned(const Eigen::DenseBase<Derived>&) [with Derived = Eigen::Map<const Eigen::Matrix<int, -1, 1>, 0, Eigen::Stride<0, 0> >; Eigen::Index = long int]’:
/home/biocbuild/bbs-3.13-bioc/R/library/RcppEigen/include/Eigen/src/Core/Redux.h:225:63:   required from ‘static Eigen::internal::redux_impl<Func, Derived, 3, 0>::Scalar Eigen::internal::redux_impl<Func, Derived, 3, 0>::run(const Derived&, const Func&) [with Func = Eigen::internal::scalar_sum_op<int, int>; Derived = Eigen::internal::redux_evaluator<Eigen::Map<const Eigen::Matrix<int, -1, 1>, 0, Eigen::Stride<0, 0> > >; Eigen::internal::redux_impl<Func, Derived, 3, 0>::Scalar = int]’
/home/biocbuild/bbs-3.13-bioc/R/library/RcppEigen/include/Eigen/src/Core/Redux.h:418:56:   required from ‘typename Eigen::internal::traits<T>::Scalar Eigen::DenseBase<Derived>::redux(const Func&) const [with BinaryOp = Eigen::internal::scalar_sum_op<int, int>; Derived = Eigen::Map<const Eigen::Matrix<int, -1, 1>, 0, Eigen::Stride<0, 0> >; typename Eigen::internal::traits<T>::Scalar = int]’
/home/biocbuild/bbs-3.13-bioc/R/library/RcppEigen/include/Eigen/src/Core/Redux.h:453:73:   required from ‘typename Eigen::internal::traits<T>::Scalar Eigen::DenseBase<Derived>::sum() const [with Derived = Eigen::Map<const Eigen::Matrix<int, -1, 1>, 0, Eigen::Stride<0, 0> >; typename Eigen::internal::traits<T>::Scalar = int]’
/home/biocbuild/bbs-3.13-bioc/R/library/RcppEigen/include/Eigen/src/SparseCore/SparseCompressedBase.h:65:36:   required from ‘Eigen::Index Eigen::SparseCompressedBase<Derived>::nonZeros() const [with Derived = Eigen::SparseMatrix<double, 0, int>; Eigen::Index = long int]’
/home/biocbuild/bbs-3.13-bioc/R/library/RcppEigen/include/RcppEigenWrap.h:119:26:   [ skipping 2 instantiation contexts, use -ftemplate-backtrace-limit=0 to disable ]
/home/biocbuild/bbs-3.13-bioc/R/library/RcppEigen/include/RcppEigenWrap.h:149:39:   required from ‘SEXPREC* Rcpp::RcppEigen::eigen_wrap(const T&) [with T = Eigen::SparseMatrix<double, 0, int>; SEXP = SEXPREC*]’
/home/biocbuild/bbs-3.13-bioc/R/library/Rcpp/include/Rcpp/internal/wrap.h:776:49:   required from ‘SEXPREC* Rcpp::internal::wrap_dispatch_eigen(const T&, Rcpp::traits::true_type) [with T = Eigen::SparseMatrix<double, 0, int>; SEXP = SEXPREC*; Rcpp::traits::true_type = Rcpp::traits::integral_constant<bool, true>]’
/home/biocbuild/bbs-3.13-bioc/R/library/Rcpp/include/Rcpp/internal/wrap.h:787:39:   required from ‘SEXPREC* Rcpp::internal::wrap_dispatch_unknown_importable(const T&, Rcpp::traits::false_type) [with T = Eigen::SparseMatrix<double, 0, int>; SEXP = SEXPREC*; Rcpp::traits::false_type = Rcpp::traits::integral_constant<bool, false>]’
/home/biocbuild/bbs-3.13-bioc/R/library/Rcpp/include/Rcpp/internal/wrap.h:807:52:   required from ‘SEXPREC* Rcpp::internal::wrap_dispatch(const T&, Rcpp::traits::wrap_type_unknown_tag) [with T = Eigen::SparseMatrix<double, 0, int>; SEXP = SEXPREC*]’
/home/biocbuild/bbs-3.13-bioc/R/library/Rcpp/include/Rcpp/internal/wrap_end.h:30:38:   required from ‘SEXPREC* Rcpp::wrap(const T&) [with T = Eigen::SparseMatrix<double, 0, int>; SEXP = SEXPREC*]’
../inst/include/martini_RcppExports.h:38:66:   required from here
/home/biocbuild/bbs-3.13-bioc/R/library/RcppEigen/include/Eigen/src/Core/DenseCoeffsBase.h:650:34: warning: ignoring attributes on template argument ‘Eigen::internal::packet_traits<int>::type’ {aka ‘__vector(2) long long int’} [-Wignored-attributes]
  650 |   return internal::first_aligned<int(unpacket_traits<DefaultPacketType>::alignment),Derived>(m);
      |                                  ^~~~~~~~~~~~~~~~~~~~~~~~~~~~~~~~~~~~~~~~~~~~~~~~~~
g++ -std=gnu++14 -I"/home/biocbuild/bbs-3.13-bioc/R/include" -DNDEBUG  -I'/home/biocbuild/bbs-3.13-bioc/R/library/Rcpp/include' -I'/home/biocbuild/bbs-3.13-bioc/R/library/RcppEigen/include' -I/usr/local/include  -std=c++11 -fopenmp -D_USE_KNETFILE -D_FILE_OFFSET_BITS=64 -U_FORTIFY_SOURCE -DBGZF_CACHE -I./lib `/home/biocbuild/bbs-3.13-bioc/R/bin/Rscript -e "Rcpp:::CxxFlags()"` -DEIGEN_PERMANENTLY_DISABLE_STUPID_WARNINGS -fopenmp -fpic  -g -O2  -Wall -c mincut.cpp -o mincut.o
In file included from /home/biocbuild/bbs-3.13-bioc/R/library/RcppEigen/include/Eigen/Core:397,
                 from /home/biocbuild/bbs-3.13-bioc/R/library/RcppEigen/include/Eigen/Dense:1,
                 from /home/biocbuild/bbs-3.13-bioc/R/library/RcppEigen/include/RcppEigenForward.h:30,
                 from /home/biocbuild/bbs-3.13-bioc/R/library/RcppEigen/include/RcppEigen.h:25,
                 from mincut.cpp:7:
/home/biocbuild/bbs-3.13-bioc/R/library/RcppEigen/include/Eigen/src/Core/arch/SSE/PacketMath.h:60:39: warning: ignoring attributes on template argument ‘__m128’ {aka ‘__vector(4) float’} [-Wignored-attributes]
   60 | template<> struct is_arithmetic<__m128>  { enum { value = true }; };
      |                                       ^
/home/biocbuild/bbs-3.13-bioc/R/library/RcppEigen/include/Eigen/src/Core/arch/SSE/PacketMath.h:61:40: warning: ignoring attributes on template argument ‘__m128i’ {aka ‘__vector(2) long long int’} [-Wignored-attributes]
   61 | template<> struct is_arithmetic<__m128i> { enum { value = true }; };
      |                                        ^
/home/biocbuild/bbs-3.13-bioc/R/library/RcppEigen/include/Eigen/src/Core/arch/SSE/PacketMath.h:62:40: warning: ignoring attributes on template argument ‘__m128d’ {aka ‘__vector(2) double’} [-Wignored-attributes]
   62 | template<> struct is_arithmetic<__m128d> { enum { value = true }; };
      |                                        ^
/home/biocbuild/bbs-3.13-bioc/R/library/RcppEigen/include/Eigen/src/Core/arch/SSE/PacketMath.h:161:43: warning: ignoring attributes on template argument ‘Eigen::internal::Packet4f’ {aka ‘__vector(4) float’} [-Wignored-attributes]
  161 | template<> struct unpacket_traits<Packet4f> { typedef float  type; enum {size=4, alignment=Aligned16}; typedef Packet4f half; };
      |                                           ^
/home/biocbuild/bbs-3.13-bioc/R/library/RcppEigen/include/Eigen/src/Core/arch/SSE/PacketMath.h:162:43: warning: ignoring attributes on template argument ‘Eigen::internal::Packet2d’ {aka ‘__vector(2) double’} [-Wignored-attributes]
  162 | template<> struct unpacket_traits<Packet2d> { typedef double type; enum {size=2, alignment=Aligned16}; typedef Packet2d half; };
      |                                           ^
/home/biocbuild/bbs-3.13-bioc/R/library/RcppEigen/include/Eigen/src/Core/arch/SSE/PacketMath.h:163:43: warning: ignoring attributes on template argument ‘Eigen::internal::Packet4i’ {aka ‘__vector(2) long long int’} [-Wignored-attributes]
  163 | template<> struct unpacket_traits<Packet4i> { typedef int    type; enum {size=4, alignment=Aligned16}; typedef Packet4i half; };
      |                                           ^
/home/biocbuild/bbs-3.13-bioc/R/library/RcppEigen/include/Eigen/src/Core/arch/SSE/PacketMath.h:718:35: warning: ignoring attributes on template argument ‘Eigen::internal::Packet4f’ {aka ‘__vector(4) float’} [-Wignored-attributes]
  718 | struct palign_impl<Offset,Packet4f>
      |                                   ^
/home/biocbuild/bbs-3.13-bioc/R/library/RcppEigen/include/Eigen/src/Core/arch/SSE/PacketMath.h:741:35: warning: ignoring attributes on template argument ‘Eigen::internal::Packet4i’ {aka ‘__vector(2) long long int’} [-Wignored-attributes]
  741 | struct palign_impl<Offset,Packet4i>
      |                                   ^
/home/biocbuild/bbs-3.13-bioc/R/library/RcppEigen/include/Eigen/src/Core/arch/SSE/PacketMath.h:764:35: warning: ignoring attributes on template argument ‘Eigen::internal::Packet2d’ {aka ‘__vector(2) double’} [-Wignored-attributes]
  764 | struct palign_impl<Offset,Packet2d>
      |                                   ^
/home/biocbuild/bbs-3.13-bioc/R/library/RcppEigen/include/Eigen/src/Core/arch/SSE/PacketMath.h:778:34: warning: ignoring attributes on template argument ‘Eigen::internal::Packet4f’ {aka ‘__vector(4) float’} [-Wignored-attributes]
  778 | ptranspose(PacketBlock<Packet4f,4>& kernel) {
      |                                  ^
/home/biocbuild/bbs-3.13-bioc/R/library/RcppEigen/include/Eigen/src/Core/arch/SSE/PacketMath.h:783:34: warning: ignoring attributes on template argument ‘Eigen::internal::Packet2d’ {aka ‘__vector(2) double’} [-Wignored-attributes]
  783 | ptranspose(PacketBlock<Packet2d,2>& kernel) {
      |                                  ^
/home/biocbuild/bbs-3.13-bioc/R/library/RcppEigen/include/Eigen/src/Core/arch/SSE/PacketMath.h:790:34: warning: ignoring attributes on template argument ‘Eigen::internal::Packet4i’ {aka ‘__vector(2) long long int’} [-Wignored-attributes]
  790 | ptranspose(PacketBlock<Packet4i,4>& kernel) {
      |                                  ^
In file included from /home/biocbuild/bbs-3.13-bioc/R/library/RcppEigen/include/Eigen/Core:377,
                 from /home/biocbuild/bbs-3.13-bioc/R/library/RcppEigen/include/Eigen/Dense:1,
                 from /home/biocbuild/bbs-3.13-bioc/R/library/RcppEigen/include/RcppEigenForward.h:30,
                 from /home/biocbuild/bbs-3.13-bioc/R/library/RcppEigen/include/RcppEigen.h:25,
                 from mincut.cpp:7:
/home/biocbuild/bbs-3.13-bioc/R/library/RcppEigen/include/Eigen/src/Core/arch/Default/ConjHelper.h:15:70: warning: ignoring attributes on template argument ‘Eigen::internal::Packet4f’ {aka ‘__vector(4) float’} [-Wignored-attributes]
   15 |   template<> struct conj_helper<PACKET_REAL, PACKET_CPLX, false,false> {                                          \
      |                                                                      ^
/home/biocbuild/bbs-3.13-bioc/R/library/RcppEigen/include/Eigen/src/Core/arch/SSE/Complex.h:232:1: note: in expansion of macro ‘EIGEN_MAKE_CONJ_HELPER_CPLX_REAL’
  232 | EIGEN_MAKE_CONJ_HELPER_CPLX_REAL(Packet2cf,Packet4f)
      | ^~~~~~~~~~~~~~~~~~~~~~~~~~~~~~~~
/home/biocbuild/bbs-3.13-bioc/R/library/RcppEigen/include/Eigen/src/Core/arch/Default/ConjHelper.h:22:70: warning: ignoring attributes on template argument ‘Eigen::internal::Packet4f’ {aka ‘__vector(4) float’} [-Wignored-attributes]
   22 |   template<> struct conj_helper<PACKET_CPLX, PACKET_REAL, false,false> {                                          \
      |                                                                      ^
/home/biocbuild/bbs-3.13-bioc/R/library/RcppEigen/include/Eigen/src/Core/arch/SSE/Complex.h:232:1: note: in expansion of macro ‘EIGEN_MAKE_CONJ_HELPER_CPLX_REAL’
  232 | EIGEN_MAKE_CONJ_HELPER_CPLX_REAL(Packet2cf,Packet4f)
      | ^~~~~~~~~~~~~~~~~~~~~~~~~~~~~~~~
/home/biocbuild/bbs-3.13-bioc/R/library/RcppEigen/include/Eigen/src/Core/arch/Default/ConjHelper.h:15:70: warning: ignoring attributes on template argument ‘Eigen::internal::Packet2d’ {aka ‘__vector(2) double’} [-Wignored-attributes]
   15 |   template<> struct conj_helper<PACKET_REAL, PACKET_CPLX, false,false> {                                          \
      |                                                                      ^
/home/biocbuild/bbs-3.13-bioc/R/library/RcppEigen/include/Eigen/src/Core/arch/SSE/Complex.h:417:1: note: in expansion of macro ‘EIGEN_MAKE_CONJ_HELPER_CPLX_REAL’
  417 | EIGEN_MAKE_CONJ_HELPER_CPLX_REAL(Packet1cd,Packet2d)
      | ^~~~~~~~~~~~~~~~~~~~~~~~~~~~~~~~
/home/biocbuild/bbs-3.13-bioc/R/library/RcppEigen/include/Eigen/src/Core/arch/Default/ConjHelper.h:22:70: warning: ignoring attributes on template argument ‘Eigen::internal::Packet2d’ {aka ‘__vector(2) double’} [-Wignored-attributes]
   22 |   template<> struct conj_helper<PACKET_CPLX, PACKET_REAL, false,false> {                                          \
      |                                                                      ^
/home/biocbuild/bbs-3.13-bioc/R/library/RcppEigen/include/Eigen/src/Core/arch/SSE/Complex.h:417:1: note: in expansion of macro ‘EIGEN_MAKE_CONJ_HELPER_CPLX_REAL’
  417 | EIGEN_MAKE_CONJ_HELPER_CPLX_REAL(Packet1cd,Packet2d)
      | ^~~~~~~~~~~~~~~~~~~~~~~~~~~~~~~~
In file included from /home/biocbuild/bbs-3.13-bioc/R/library/RcppEigen/include/Eigen/Core:370,
                 from /home/biocbuild/bbs-3.13-bioc/R/library/RcppEigen/include/Eigen/Dense:1,
                 from /home/biocbuild/bbs-3.13-bioc/R/library/RcppEigen/include/RcppEigenForward.h:30,
                 from /home/biocbuild/bbs-3.13-bioc/R/library/RcppEigen/include/RcppEigen.h:25,
                 from mincut.cpp:7:
/home/biocbuild/bbs-3.13-bioc/R/library/RcppEigen/include/Eigen/src/Core/util/XprHelper.h: In instantiation of ‘struct Eigen::internal::find_best_packet<float, 4>’:
/home/biocbuild/bbs-3.13-bioc/R/library/RcppEigen/include/Eigen/src/Core/Matrix.h:22:57:   required from ‘struct Eigen::internal::traits<Eigen::Matrix<float, 4, 1> >’
/home/biocbuild/bbs-3.13-bioc/R/library/RcppEigen/include/Eigen/src/Geometry/Quaternion.h:242:7:   required from ‘struct Eigen::internal::traits<Eigen::Quaternion<float> >’
/home/biocbuild/bbs-3.13-bioc/R/library/RcppEigen/include/Eigen/src/Geometry/arch/Geometry_SSE.h:24:46:   required from here
/home/biocbuild/bbs-3.13-bioc/R/library/RcppEigen/include/Eigen/src/Core/util/XprHelper.h:187:44: warning: ignoring attributes on template argument ‘Eigen::internal::packet_traits<float>::type’ {aka ‘__vector(4) float’} [-Wignored-attributes]
  187 |          bool Stop = Size==Dynamic || (Size%unpacket_traits<PacketType>::size)==0 || is_same<PacketType,typename unpacket_traits<PacketType>::half>::value>
      |                                       ~~~~~^~~~~~~~~~~~~~~~~~~~~~~~~~~~~~~~~~~
/home/biocbuild/bbs-3.13-bioc/R/library/RcppEigen/include/Eigen/src/Core/util/XprHelper.h:187:83: warning: ignoring attributes on template argument ‘Eigen::internal::packet_traits<float>::type’ {aka ‘__vector(4) float’} [-Wignored-attributes]
  187 |          bool Stop = Size==Dynamic || (Size%unpacket_traits<PacketType>::size)==0 || is_same<PacketType,typename unpacket_traits<PacketType>::half>::value>
      |                      ~~~~~~~~~~~~~~~~~~~~~~~~~~~~~~~~~~~~~~~~~~~~~~~~~~~~~~~~~~~~~^~~~~~~~~~~~~~~~~~~~~~~~~~~~~~~~~~~~~~~~~~~~~~~~~~~~~~~~~~~~~~~~~~~~~~~~
/home/biocbuild/bbs-3.13-bioc/R/library/RcppEigen/include/Eigen/src/Core/util/XprHelper.h:187:83: warning: ignoring attributes on template argument ‘Eigen::internal::packet_traits<float>::type’ {aka ‘__vector(4) float’} [-Wignored-attributes]
/home/biocbuild/bbs-3.13-bioc/R/library/RcppEigen/include/Eigen/src/Core/util/XprHelper.h:187:83: warning: ignoring attributes on template argument ‘Eigen::internal::unpacket_traits<__vector(4) float>::half’ {aka ‘__vector(4) float’} [-Wignored-attributes]
/home/biocbuild/bbs-3.13-bioc/R/library/RcppEigen/include/Eigen/src/Core/util/XprHelper.h:205:88: warning: ignoring attributes on template argument ‘Eigen::internal::packet_traits<float>::type’ {aka ‘__vector(4) float’} [-Wignored-attributes]
  205 |   typedef typename find_best_packet_helper<Size,typename packet_traits<T>::type>::type type;
      |                                                                                        ^~~~
In file included from /home/biocbuild/bbs-3.13-bioc/R/library/RcppEigen/include/Eigen/Core:439,
                 from /home/biocbuild/bbs-3.13-bioc/R/library/RcppEigen/include/Eigen/Dense:1,
                 from /home/biocbuild/bbs-3.13-bioc/R/library/RcppEigen/include/RcppEigenForward.h:30,
                 from /home/biocbuild/bbs-3.13-bioc/R/library/RcppEigen/include/RcppEigen.h:25,
                 from mincut.cpp:7:
/home/biocbuild/bbs-3.13-bioc/R/library/RcppEigen/include/Eigen/src/Core/DenseCoeffsBase.h: In instantiation of ‘class Eigen::DenseCoeffsBase<Eigen::Matrix<float, 4, 1>, 0>’:
/home/biocbuild/bbs-3.13-bioc/R/library/RcppEigen/include/Eigen/src/Core/DenseCoeffsBase.h:300:7:   required from ‘class Eigen::DenseCoeffsBase<Eigen::Matrix<float, 4, 1>, 1>’
/home/biocbuild/bbs-3.13-bioc/R/library/RcppEigen/include/Eigen/src/Core/DenseCoeffsBase.h:551:7:   required from ‘class Eigen::DenseCoeffsBase<Eigen::Matrix<float, 4, 1>, 3>’
/home/biocbuild/bbs-3.13-bioc/R/library/RcppEigen/include/Eigen/src/Core/DenseBase.h:41:34:   required from ‘class Eigen::DenseBase<Eigen::Matrix<float, 4, 1> >’
/home/biocbuild/bbs-3.13-bioc/R/library/RcppEigen/include/Eigen/src/Core/MatrixBase.h:48:34:   required from ‘class Eigen::MatrixBase<Eigen::Matrix<float, 4, 1> >’
/home/biocbuild/bbs-3.13-bioc/R/library/RcppEigen/include/Eigen/src/Core/PlainObjectBase.h:98:7:   required from ‘class Eigen::PlainObjectBase<Eigen::Matrix<float, 4, 1> >’
/home/biocbuild/bbs-3.13-bioc/R/library/RcppEigen/include/Eigen/src/Core/Matrix.h:178:7:   required from ‘class Eigen::Matrix<float, 4, 1>’
/home/biocbuild/bbs-3.13-bioc/R/library/RcppEigen/include/Eigen/src/Geometry/Quaternion.h:46:50:   required from ‘class Eigen::QuaternionBase<Eigen::Quaternion<float> >’
/home/biocbuild/bbs-3.13-bioc/R/library/RcppEigen/include/Eigen/src/Geometry/Quaternion.h:250:7:   required from ‘class Eigen::Quaternion<float>’
/home/biocbuild/bbs-3.13-bioc/R/library/RcppEigen/include/Eigen/src/Geometry/arch/Geometry_SSE.h:27:3:   required from here
/home/biocbuild/bbs-3.13-bioc/R/library/RcppEigen/include/Eigen/src/Core/DenseCoeffsBase.h:55:30: warning: ignoring attributes on template argument ‘Eigen::internal::packet_traits<float>::type’ {aka ‘__vector(4) float’} [-Wignored-attributes]
   55 |                      >::type PacketReturnType;
      |                              ^~~~~~~~~~~~~~~~
In file included from /home/biocbuild/bbs-3.13-bioc/R/library/RcppEigen/include/Eigen/Core:370,
                 from /home/biocbuild/bbs-3.13-bioc/R/library/RcppEigen/include/Eigen/Dense:1,
                 from /home/biocbuild/bbs-3.13-bioc/R/library/RcppEigen/include/RcppEigenForward.h:30,
                 from /home/biocbuild/bbs-3.13-bioc/R/library/RcppEigen/include/RcppEigen.h:25,
                 from mincut.cpp:7:
/home/biocbuild/bbs-3.13-bioc/R/library/RcppEigen/include/Eigen/src/Core/util/XprHelper.h: In instantiation of ‘struct Eigen::internal::find_best_packet<double, 4>’:
/home/biocbuild/bbs-3.13-bioc/R/library/RcppEigen/include/Eigen/src/Core/Matrix.h:22:57:   required from ‘struct Eigen::internal::traits<Eigen::Matrix<double, 4, 1> >’
/home/biocbuild/bbs-3.13-bioc/R/library/RcppEigen/include/Eigen/src/Geometry/Quaternion.h:242:7:   required from ‘struct Eigen::internal::traits<Eigen::Quaternion<double> >’
/home/biocbuild/bbs-3.13-bioc/R/library/RcppEigen/include/Eigen/src/Geometry/arch/Geometry_SSE.h:88:47:   required from here
/home/biocbuild/bbs-3.13-bioc/R/library/RcppEigen/include/Eigen/src/Core/util/XprHelper.h:187:44: warning: ignoring attributes on template argument ‘Eigen::internal::packet_traits<double>::type’ {aka ‘__vector(2) double’} [-Wignored-attributes]
  187 |          bool Stop = Size==Dynamic || (Size%unpacket_traits<PacketType>::size)==0 || is_same<PacketType,typename unpacket_traits<PacketType>::half>::value>
      |                                       ~~~~~^~~~~~~~~~~~~~~~~~~~~~~~~~~~~~~~~~~
/home/biocbuild/bbs-3.13-bioc/R/library/RcppEigen/include/Eigen/src/Core/util/XprHelper.h:187:83: warning: ignoring attributes on template argument ‘Eigen::internal::packet_traits<double>::type’ {aka ‘__vector(2) double’} [-Wignored-attributes]
  187 |          bool Stop = Size==Dynamic || (Size%unpacket_traits<PacketType>::size)==0 || is_same<PacketType,typename unpacket_traits<PacketType>::half>::value>
      |                      ~~~~~~~~~~~~~~~~~~~~~~~~~~~~~~~~~~~~~~~~~~~~~~~~~~~~~~~~~~~~~^~~~~~~~~~~~~~~~~~~~~~~~~~~~~~~~~~~~~~~~~~~~~~~~~~~~~~~~~~~~~~~~~~~~~~~~
/home/biocbuild/bbs-3.13-bioc/R/library/RcppEigen/include/Eigen/src/Core/util/XprHelper.h:187:83: warning: ignoring attributes on template argument ‘Eigen::internal::packet_traits<double>::type’ {aka ‘__vector(2) double’} [-Wignored-attributes]
/home/biocbuild/bbs-3.13-bioc/R/library/RcppEigen/include/Eigen/src/Core/util/XprHelper.h:187:83: warning: ignoring attributes on template argument ‘Eigen::internal::unpacket_traits<__vector(2) double>::half’ {aka ‘__vector(2) double’} [-Wignored-attributes]
/home/biocbuild/bbs-3.13-bioc/R/library/RcppEigen/include/Eigen/src/Core/util/XprHelper.h:205:88: warning: ignoring attributes on template argument ‘Eigen::internal::packet_traits<double>::type’ {aka ‘__vector(2) double’} [-Wignored-attributes]
  205 |   typedef typename find_best_packet_helper<Size,typename packet_traits<T>::type>::type type;
      |                                                                                        ^~~~
In file included from /home/biocbuild/bbs-3.13-bioc/R/library/RcppEigen/include/Eigen/Core:439,
                 from /home/biocbuild/bbs-3.13-bioc/R/library/RcppEigen/include/Eigen/Dense:1,
                 from /home/biocbuild/bbs-3.13-bioc/R/library/RcppEigen/include/RcppEigenForward.h:30,
                 from /home/biocbuild/bbs-3.13-bioc/R/library/RcppEigen/include/RcppEigen.h:25,
                 from mincut.cpp:7:
/home/biocbuild/bbs-3.13-bioc/R/library/RcppEigen/include/Eigen/src/Core/DenseCoeffsBase.h: In instantiation of ‘class Eigen::DenseCoeffsBase<Eigen::Matrix<double, 4, 1>, 0>’:
/home/biocbuild/bbs-3.13-bioc/R/library/RcppEigen/include/Eigen/src/Core/DenseCoeffsBase.h:300:7:   required from ‘class Eigen::DenseCoeffsBase<Eigen::Matrix<double, 4, 1>, 1>’
/home/biocbuild/bbs-3.13-bioc/R/library/RcppEigen/include/Eigen/src/Core/DenseCoeffsBase.h:551:7:   required from ‘class Eigen::DenseCoeffsBase<Eigen::Matrix<double, 4, 1>, 3>’
/home/biocbuild/bbs-3.13-bioc/R/library/RcppEigen/include/Eigen/src/Core/DenseBase.h:41:34:   required from ‘class Eigen::DenseBase<Eigen::Matrix<double, 4, 1> >’
/home/biocbuild/bbs-3.13-bioc/R/library/RcppEigen/include/Eigen/src/Core/MatrixBase.h:48:34:   required from ‘class Eigen::MatrixBase<Eigen::Matrix<double, 4, 1> >’
/home/biocbuild/bbs-3.13-bioc/R/library/RcppEigen/include/Eigen/src/Core/PlainObjectBase.h:98:7:   required from ‘class Eigen::PlainObjectBase<Eigen::Matrix<double, 4, 1> >’
/home/biocbuild/bbs-3.13-bioc/R/library/RcppEigen/include/Eigen/src/Core/Matrix.h:178:7:   required from ‘class Eigen::Matrix<double, 4, 1>’
/home/biocbuild/bbs-3.13-bioc/R/library/RcppEigen/include/Eigen/src/Geometry/Quaternion.h:46:50:   required from ‘class Eigen::QuaternionBase<Eigen::Quaternion<double> >’
/home/biocbuild/bbs-3.13-bioc/R/library/RcppEigen/include/Eigen/src/Geometry/Quaternion.h:250:7:   required from ‘class Eigen::Quaternion<double>’
/home/biocbuild/bbs-3.13-bioc/R/library/RcppEigen/include/Eigen/src/Geometry/arch/Geometry_SSE.h:92:3:   required from here
/home/biocbuild/bbs-3.13-bioc/R/library/RcppEigen/include/Eigen/src/Core/DenseCoeffsBase.h:55:30: warning: ignoring attributes on template argument ‘Eigen::internal::packet_traits<double>::type’ {aka ‘__vector(2) double’} [-Wignored-attributes]
   55 |                      >::type PacketReturnType;
      |                              ^~~~~~~~~~~~~~~~
In file included from /home/biocbuild/bbs-3.13-bioc/R/library/RcppEigen/include/Eigen/SparseCore:37,
                 from /home/biocbuild/bbs-3.13-bioc/R/library/RcppEigen/include/Eigen/Sparse:26,
                 from /home/biocbuild/bbs-3.13-bioc/R/library/RcppEigen/include/RcppEigenForward.h:31,
                 from /home/biocbuild/bbs-3.13-bioc/R/library/RcppEigen/include/RcppEigen.h:25,
                 from mincut.cpp:7:
/home/biocbuild/bbs-3.13-bioc/R/library/RcppEigen/include/Eigen/src/SparseCore/SparseMatrixBase.h: In instantiation of ‘class Eigen::SparseMatrixBase<Eigen::SparseMatrix<double, 0, int> >’:
/home/biocbuild/bbs-3.13-bioc/R/library/RcppEigen/include/Eigen/src/SparseCore/SparseCompressedBase.h:36:7:   required from ‘class Eigen::SparseCompressedBase<Eigen::SparseMatrix<double, 0, int> >’
/home/biocbuild/bbs-3.13-bioc/R/library/RcppEigen/include/Eigen/src/SparseCore/SparseMatrix.h:96:7:   required from ‘class Eigen::SparseMatrix<double, 0, int>’
/home/biocbuild/bbs-3.13-bioc/R/library/RcppEigen/include/unsupported/Eigen/src/IterativeSolvers/ConstrainedConjGrad.h:61:25:   required from here
/home/biocbuild/bbs-3.13-bioc/R/library/RcppEigen/include/Eigen/src/SparseCore/SparseMatrixBase.h:47:30: warning: ignoring attributes on template argument ‘Eigen::internal::packet_traits<double>::type’ {aka ‘__vector(2) double’} [-Wignored-attributes]
   47 |                      >::type PacketReturnType;
      |                              ^~~~~~~~~~~~~~~~
In file included from /home/biocbuild/bbs-3.13-bioc/R/library/RcppEigen/include/Eigen/Core:370,
                 from /home/biocbuild/bbs-3.13-bioc/R/library/RcppEigen/include/Eigen/Dense:1,
                 from /home/biocbuild/bbs-3.13-bioc/R/library/RcppEigen/include/RcppEigenForward.h:30,
                 from /home/biocbuild/bbs-3.13-bioc/R/library/RcppEigen/include/RcppEigen.h:25,
                 from mincut.cpp:7:
/home/biocbuild/bbs-3.13-bioc/R/library/RcppEigen/include/Eigen/src/Core/util/XprHelper.h: In instantiation of ‘struct Eigen::internal::find_best_packet<int, -1>’:
/home/biocbuild/bbs-3.13-bioc/R/library/RcppEigen/include/Eigen/src/Core/Matrix.h:22:57:   required from ‘struct Eigen::internal::traits<Eigen::Matrix<int, -1, 1> >’
/home/biocbuild/bbs-3.13-bioc/R/library/RcppEigen/include/Eigen/src/Core/PlainObjectBase.h:98:7:   required from ‘class Eigen::PlainObjectBase<Eigen::Matrix<int, -1, 1> >’
/home/biocbuild/bbs-3.13-bioc/R/library/RcppEigen/include/Eigen/src/Core/Matrix.h:178:7:   required from ‘class Eigen::Matrix<int, -1, 1>’
/home/biocbuild/bbs-3.13-bioc/R/library/RcppEigen/include/unsupported/Eigen/src/KroneckerProduct/KroneckerTensorProduct.h:168:29:   required from here
/home/biocbuild/bbs-3.13-bioc/R/library/RcppEigen/include/Eigen/src/Core/util/XprHelper.h:187:44: warning: ignoring attributes on template argument ‘Eigen::internal::packet_traits<int>::type’ {aka ‘__vector(2) long long int’} [-Wignored-attributes]
  187 |          bool Stop = Size==Dynamic || (Size%unpacket_traits<PacketType>::size)==0 || is_same<PacketType,typename unpacket_traits<PacketType>::half>::value>
      |                                       ~~~~~^~~~~~~~~~~~~~~~~~~~~~~~~~~~~~~~~~~
/home/biocbuild/bbs-3.13-bioc/R/library/RcppEigen/include/Eigen/src/Core/util/XprHelper.h:187:83: warning: ignoring attributes on template argument ‘Eigen::internal::packet_traits<int>::type’ {aka ‘__vector(2) long long int’} [-Wignored-attributes]
  187 |          bool Stop = Size==Dynamic || (Size%unpacket_traits<PacketType>::size)==0 || is_same<PacketType,typename unpacket_traits<PacketType>::half>::value>
      |                      ~~~~~~~~~~~~~~~~~~~~~~~~~~~~~~~~~~~~~~~~~~~~~~~~~~~~~~~~~~~~~^~~~~~~~~~~~~~~~~~~~~~~~~~~~~~~~~~~~~~~~~~~~~~~~~~~~~~~~~~~~~~~~~~~~~~~~
/home/biocbuild/bbs-3.13-bioc/R/library/RcppEigen/include/Eigen/src/Core/util/XprHelper.h:187:83: warning: ignoring attributes on template argument ‘Eigen::internal::packet_traits<int>::type’ {aka ‘__vector(2) long long int’} [-Wignored-attributes]
/home/biocbuild/bbs-3.13-bioc/R/library/RcppEigen/include/Eigen/src/Core/util/XprHelper.h:187:83: warning: ignoring attributes on template argument ‘Eigen::internal::unpacket_traits<__vector(2) long long int>::half’ {aka ‘__vector(2) long long int’} [-Wignored-attributes]
/home/biocbuild/bbs-3.13-bioc/R/library/RcppEigen/include/Eigen/src/Core/util/XprHelper.h:205:88: warning: ignoring attributes on template argument ‘Eigen::internal::packet_traits<int>::type’ {aka ‘__vector(2) long long int’} [-Wignored-attributes]
  205 |   typedef typename find_best_packet_helper<Size,typename packet_traits<T>::type>::type type;
      |                                                                                        ^~~~
In file included from /home/biocbuild/bbs-3.13-bioc/R/library/RcppEigen/include/Eigen/Core:439,
                 from /home/biocbuild/bbs-3.13-bioc/R/library/RcppEigen/include/Eigen/Dense:1,
                 from /home/biocbuild/bbs-3.13-bioc/R/library/RcppEigen/include/RcppEigenForward.h:30,
                 from /home/biocbuild/bbs-3.13-bioc/R/library/RcppEigen/include/RcppEigen.h:25,
                 from mincut.cpp:7:
/home/biocbuild/bbs-3.13-bioc/R/library/RcppEigen/include/Eigen/src/Core/DenseCoeffsBase.h: In instantiation of ‘class Eigen::DenseCoeffsBase<Eigen::Matrix<int, -1, 1>, 0>’:
/home/biocbuild/bbs-3.13-bioc/R/library/RcppEigen/include/Eigen/src/Core/DenseCoeffsBase.h:300:7:   required from ‘class Eigen::DenseCoeffsBase<Eigen::Matrix<int, -1, 1>, 1>’
/home/biocbuild/bbs-3.13-bioc/R/library/RcppEigen/include/Eigen/src/Core/DenseCoeffsBase.h:551:7:   required from ‘class Eigen::DenseCoeffsBase<Eigen::Matrix<int, -1, 1>, 3>’
/home/biocbuild/bbs-3.13-bioc/R/library/RcppEigen/include/Eigen/src/Core/DenseBase.h:41:34:   required from ‘class Eigen::DenseBase<Eigen::Matrix<int, -1, 1> >’
/home/biocbuild/bbs-3.13-bioc/R/library/RcppEigen/include/Eigen/src/Core/MatrixBase.h:48:34:   required from ‘class Eigen::MatrixBase<Eigen::Matrix<int, -1, 1> >’
/home/biocbuild/bbs-3.13-bioc/R/library/RcppEigen/include/Eigen/src/Core/PlainObjectBase.h:98:7:   required from ‘class Eigen::PlainObjectBase<Eigen::Matrix<int, -1, 1> >’
/home/biocbuild/bbs-3.13-bioc/R/library/RcppEigen/include/Eigen/src/Core/Matrix.h:178:7:   required from ‘class Eigen::Matrix<int, -1, 1>’
/home/biocbuild/bbs-3.13-bioc/R/library/RcppEigen/include/unsupported/Eigen/src/KroneckerProduct/KroneckerTensorProduct.h:168:29:   required from here
/home/biocbuild/bbs-3.13-bioc/R/library/RcppEigen/include/Eigen/src/Core/DenseCoeffsBase.h:55:30: warning: ignoring attributes on template argument ‘Eigen::internal::packet_traits<int>::type’ {aka ‘__vector(2) long long int’} [-Wignored-attributes]
   55 |                      >::type PacketReturnType;
      |                              ^~~~~~~~~~~~~~~~
/home/biocbuild/bbs-3.13-bioc/R/library/RcppEigen/include/Eigen/src/Core/DenseCoeffsBase.h: In instantiation of ‘class Eigen::DenseCoeffsBase<Eigen::Transpose<Eigen::Matrix<int, -1, 1> >, 0>’:
/home/biocbuild/bbs-3.13-bioc/R/library/RcppEigen/include/Eigen/src/Core/DenseCoeffsBase.h:300:7:   required from ‘class Eigen::DenseCoeffsBase<Eigen::Transpose<Eigen::Matrix<int, -1, 1> >, 1>’
/home/biocbuild/bbs-3.13-bioc/R/library/RcppEigen/include/Eigen/src/Core/DenseCoeffsBase.h:551:7:   required from ‘class Eigen::DenseCoeffsBase<Eigen::Transpose<Eigen::Matrix<int, -1, 1> >, 3>’
/home/biocbuild/bbs-3.13-bioc/R/library/RcppEigen/include/Eigen/src/Core/DenseBase.h:41:34:   required from ‘class Eigen::DenseBase<Eigen::Transpose<Eigen::Matrix<int, -1, 1> > >’
/home/biocbuild/bbs-3.13-bioc/R/library/RcppEigen/include/Eigen/src/Core/MatrixBase.h:48:34:   required from ‘class Eigen::MatrixBase<Eigen::Transpose<Eigen::Matrix<int, -1, 1> > >’
/home/biocbuild/bbs-3.13-bioc/R/library/RcppEigen/include/Eigen/src/Core/Transpose.h:115:37:   required from ‘class Eigen::TransposeImpl<Eigen::Matrix<int, -1, 1>, Eigen::Dense>’
/home/biocbuild/bbs-3.13-bioc/R/library/RcppEigen/include/Eigen/src/Core/Transpose.h:52:37:   required from ‘class Eigen::Transpose<Eigen::Matrix<int, -1, 1> >’
/home/biocbuild/bbs-3.13-bioc/R/library/RcppEigen/include/unsupported/Eigen/src/KroneckerProduct/KroneckerTensorProduct.h:178:72:   required from here
/home/biocbuild/bbs-3.13-bioc/R/library/RcppEigen/include/Eigen/src/Core/DenseCoeffsBase.h:55:30: warning: ignoring attributes on template argument ‘Eigen::internal::packet_traits<int>::type’ {aka ‘__vector(2) long long int’} [-Wignored-attributes]
/home/biocbuild/bbs-3.13-bioc/R/library/RcppEigen/include/Eigen/src/Core/DenseCoeffsBase.h: In instantiation of ‘class Eigen::DenseCoeffsBase<Eigen::Matrix<int, -1, -1>, 0>’:
/home/biocbuild/bbs-3.13-bioc/R/library/RcppEigen/include/Eigen/src/Core/DenseCoeffsBase.h:300:7:   required from ‘class Eigen::DenseCoeffsBase<Eigen::Matrix<int, -1, -1>, 1>’
/home/biocbuild/bbs-3.13-bioc/R/library/RcppEigen/include/Eigen/src/Core/DenseCoeffsBase.h:551:7:   required from ‘class Eigen::DenseCoeffsBase<Eigen::Matrix<int, -1, -1>, 3>’
/home/biocbuild/bbs-3.13-bioc/R/library/RcppEigen/include/Eigen/src/Core/DenseBase.h:41:34:   required from ‘class Eigen::DenseBase<Eigen::Matrix<int, -1, -1> >’
/home/biocbuild/bbs-3.13-bioc/R/library/RcppEigen/include/Eigen/src/Core/MatrixBase.h:48:34:   required from ‘class Eigen::MatrixBase<Eigen::Matrix<int, -1, -1> >’
/home/biocbuild/bbs-3.13-bioc/R/library/RcppEigen/include/Eigen/src/Core/PlainObjectBase.h:98:7:   required from ‘class Eigen::PlainObjectBase<Eigen::Matrix<int, -1, -1> >’
/home/biocbuild/bbs-3.13-bioc/R/library/RcppEigen/include/Eigen/src/Core/Matrix.h:178:7:   required from ‘class Eigen::Matrix<int, -1, -1>’
/home/biocbuild/bbs-3.13-bioc/R/library/RcppEigen/include/unsupported/Eigen/src/KroneckerProduct/KroneckerTensorProduct.h:179:36:   required from here
/home/biocbuild/bbs-3.13-bioc/R/library/RcppEigen/include/Eigen/src/Core/DenseCoeffsBase.h:55:30: warning: ignoring attributes on template argument ‘Eigen::internal::packet_traits<int>::type’ {aka ‘__vector(2) long long int’} [-Wignored-attributes]
In file included from /home/biocbuild/bbs-3.13-bioc/R/library/RcppEigen/include/Eigen/Core:370,
                 from /home/biocbuild/bbs-3.13-bioc/R/library/RcppEigen/include/Eigen/Dense:1,
                 from /home/biocbuild/bbs-3.13-bioc/R/library/RcppEigen/include/RcppEigenForward.h:30,
                 from /home/biocbuild/bbs-3.13-bioc/R/library/RcppEigen/include/RcppEigen.h:25,
                 from mincut.cpp:7:
/home/biocbuild/bbs-3.13-bioc/R/library/RcppEigen/include/Eigen/src/Core/util/XprHelper.h: In instantiation of ‘struct Eigen::internal::find_best_packet<double, -1>’:
/home/biocbuild/bbs-3.13-bioc/R/library/RcppEigen/include/Eigen/src/Core/Matrix.h:22:57:   required from ‘struct Eigen::internal::traits<Eigen::Matrix<double, -1, 1> >’
/home/biocbuild/bbs-3.13-bioc/R/library/RcppEigen/include/Eigen/src/Core/PlainObjectBase.h:98:7:   required from ‘class Eigen::PlainObjectBase<Eigen::Matrix<double, -1, 1> >’
/home/biocbuild/bbs-3.13-bioc/R/library/RcppEigen/include/Eigen/src/Core/Matrix.h:178:7:   required from ‘class Eigen::Matrix<double, -1, 1>’
mincut.cpp:41:12:   required from here
/home/biocbuild/bbs-3.13-bioc/R/library/RcppEigen/include/Eigen/src/Core/util/XprHelper.h:187:44: warning: ignoring attributes on template argument ‘Eigen::internal::packet_traits<double>::type’ {aka ‘__vector(2) double’} [-Wignored-attributes]
  187 |          bool Stop = Size==Dynamic || (Size%unpacket_traits<PacketType>::size)==0 || is_same<PacketType,typename unpacket_traits<PacketType>::half>::value>
      |                                       ~~~~~^~~~~~~~~~~~~~~~~~~~~~~~~~~~~~~~~~~
/home/biocbuild/bbs-3.13-bioc/R/library/RcppEigen/include/Eigen/src/Core/util/XprHelper.h:187:83: warning: ignoring attributes on template argument ‘Eigen::internal::packet_traits<double>::type’ {aka ‘__vector(2) double’} [-Wignored-attributes]
  187 |          bool Stop = Size==Dynamic || (Size%unpacket_traits<PacketType>::size)==0 || is_same<PacketType,typename unpacket_traits<PacketType>::half>::value>
      |                      ~~~~~~~~~~~~~~~~~~~~~~~~~~~~~~~~~~~~~~~~~~~~~~~~~~~~~~~~~~~~~^~~~~~~~~~~~~~~~~~~~~~~~~~~~~~~~~~~~~~~~~~~~~~~~~~~~~~~~~~~~~~~~~~~~~~~~
/home/biocbuild/bbs-3.13-bioc/R/library/RcppEigen/include/Eigen/src/Core/util/XprHelper.h:187:83: warning: ignoring attributes on template argument ‘Eigen::internal::packet_traits<double>::type’ {aka ‘__vector(2) double’} [-Wignored-attributes]
/home/biocbuild/bbs-3.13-bioc/R/library/RcppEigen/include/Eigen/src/Core/util/XprHelper.h:187:83: warning: ignoring attributes on template argument ‘Eigen::internal::unpacket_traits<__vector(2) double>::half’ {aka ‘__vector(2) double’} [-Wignored-attributes]
/home/biocbuild/bbs-3.13-bioc/R/library/RcppEigen/include/Eigen/src/Core/util/XprHelper.h:205:88: warning: ignoring attributes on template argument ‘Eigen::internal::packet_traits<double>::type’ {aka ‘__vector(2) double’} [-Wignored-attributes]
  205 |   typedef typename find_best_packet_helper<Size,typename packet_traits<T>::type>::type type;
      |                                                                                        ^~~~
In file included from /home/biocbuild/bbs-3.13-bioc/R/library/RcppEigen/include/Eigen/Core:439,
                 from /home/biocbuild/bbs-3.13-bioc/R/library/RcppEigen/include/Eigen/Dense:1,
                 from /home/biocbuild/bbs-3.13-bioc/R/library/RcppEigen/include/RcppEigenForward.h:30,
                 from /home/biocbuild/bbs-3.13-bioc/R/library/RcppEigen/include/RcppEigen.h:25,
                 from mincut.cpp:7:
/home/biocbuild/bbs-3.13-bioc/R/library/RcppEigen/include/Eigen/src/Core/DenseCoeffsBase.h: In instantiation of ‘class Eigen::DenseCoeffsBase<Eigen::Matrix<double, -1, 1>, 0>’:
/home/biocbuild/bbs-3.13-bioc/R/library/RcppEigen/include/Eigen/src/Core/DenseCoeffsBase.h:300:7:   required from ‘class Eigen::DenseCoeffsBase<Eigen::Matrix<double, -1, 1>, 1>’
/home/biocbuild/bbs-3.13-bioc/R/library/RcppEigen/include/Eigen/src/Core/DenseCoeffsBase.h:551:7:   required from ‘class Eigen::DenseCoeffsBase<Eigen::Matrix<double, -1, 1>, 3>’
/home/biocbuild/bbs-3.13-bioc/R/library/RcppEigen/include/Eigen/src/Core/DenseBase.h:41:34:   required from ‘class Eigen::DenseBase<Eigen::Matrix<double, -1, 1> >’
/home/biocbuild/bbs-3.13-bioc/R/library/RcppEigen/include/Eigen/src/Core/MatrixBase.h:48:34:   required from ‘class Eigen::MatrixBase<Eigen::Matrix<double, -1, 1> >’
/home/biocbuild/bbs-3.13-bioc/R/library/RcppEigen/include/Eigen/src/Core/PlainObjectBase.h:98:7:   required from ‘class Eigen::PlainObjectBase<Eigen::Matrix<double, -1, 1> >’
/home/biocbuild/bbs-3.13-bioc/R/library/RcppEigen/include/Eigen/src/Core/Matrix.h:178:7:   required from ‘class Eigen::Matrix<double, -1, 1>’
mincut.cpp:41:12:   required from here
/home/biocbuild/bbs-3.13-bioc/R/library/RcppEigen/include/Eigen/src/Core/DenseCoeffsBase.h:55:30: warning: ignoring attributes on template argument ‘Eigen::internal::packet_traits<double>::type’ {aka ‘__vector(2) double’} [-Wignored-attributes]
   55 |                      >::type PacketReturnType;
      |                              ^~~~~~~~~~~~~~~~
/home/biocbuild/bbs-3.13-bioc/R/library/RcppEigen/include/Eigen/src/Core/DenseCoeffsBase.h: In instantiation of ‘class Eigen::DenseCoeffsBase<Eigen::CwiseNullaryOp<Eigen::internal::scalar_constant_op<double>, const Eigen::Matrix<double, -1, -1> >, 0>’:
/home/biocbuild/bbs-3.13-bioc/R/library/RcppEigen/include/Eigen/src/Core/DenseBase.h:41:34:   required from ‘class Eigen::DenseBase<Eigen::CwiseNullaryOp<Eigen::internal::scalar_constant_op<double>, const Eigen::Matrix<double, -1, -1> > >’
/home/biocbuild/bbs-3.13-bioc/R/library/RcppEigen/include/Eigen/src/Core/MatrixBase.h:48:34:   required from ‘class Eigen::MatrixBase<Eigen::CwiseNullaryOp<Eigen::internal::scalar_constant_op<double>, const Eigen::Matrix<double, -1, -1> > >’
/home/biocbuild/bbs-3.13-bioc/R/library/RcppEigen/include/Eigen/src/Core/CwiseNullaryOp.h:60:7:   required from ‘class Eigen::CwiseNullaryOp<Eigen::internal::scalar_constant_op<double>, const Eigen::Matrix<double, -1, -1> >’
/home/biocbuild/bbs-3.13-bioc/R/library/RcppEigen/include/Eigen/src/Core/CwiseBinaryOp.h:38:28:   required from ‘struct Eigen::internal::traits<Eigen::CwiseBinaryOp<Eigen::internal::scalar_product_op<double, double>, const Eigen::CwiseNullaryOp<Eigen::internal::scalar_constant_op<double>, const Eigen::Matrix<double, -1, -1> >, const Eigen::SparseMatrix<double, 0, int> > >’
/home/biocbuild/bbs-3.13-bioc/R/library/RcppEigen/include/Eigen/src/Core/EigenBase.h:41:59:   required from ‘struct Eigen::EigenBase<Eigen::CwiseBinaryOp<Eigen::internal::scalar_product_op<double, double>, const Eigen::CwiseNullaryOp<Eigen::internal::scalar_constant_op<double>, const Eigen::Matrix<double, -1, -1> >, const Eigen::SparseMatrix<double, 0, int> > >’
/home/biocbuild/bbs-3.13-bioc/R/library/RcppEigen/include/Eigen/src/SparseCore/SparseMatrixBase.h:26:34:   required from ‘class Eigen::SparseMatrixBase<Eigen::CwiseBinaryOp<Eigen::internal::scalar_product_op<double, double>, const Eigen::CwiseNullaryOp<Eigen::internal::scalar_constant_op<double>, const Eigen::Matrix<double, -1, -1> >, const Eigen::SparseMatrix<double, 0, int> > >’
/home/biocbuild/bbs-3.13-bioc/R/library/RcppEigen/include/Eigen/src/SparseCore/SparseCwiseBinaryOp.h:36:7:   required from ‘class Eigen::CwiseBinaryOpImpl<Eigen::internal::scalar_product_op<double, double>, const Eigen::CwiseNullaryOp<Eigen::internal::scalar_constant_op<double>, const Eigen::Matrix<double, -1, -1> >, const Eigen::SparseMatrix<double, 0, int>, Eigen::Sparse>’
/home/biocbuild/bbs-3.13-bioc/R/library/RcppEigen/include/Eigen/src/Core/CwiseBinaryOp.h:77:7:   required from ‘class Eigen::CwiseBinaryOp<Eigen::internal::scalar_product_op<double, double>, const Eigen::CwiseNullaryOp<Eigen::internal::scalar_constant_op<double>, const Eigen::Matrix<double, -1, -1> >, const Eigen::SparseMatrix<double, 0, int> >’
mincut.cpp:76:60:   required from here
/home/biocbuild/bbs-3.13-bioc/R/library/RcppEigen/include/Eigen/src/Core/DenseCoeffsBase.h:55:30: warning: ignoring attributes on template argument ‘Eigen::internal::packet_traits<double>::type’ {aka ‘__vector(2) double’} [-Wignored-attributes]
In file included from /home/biocbuild/bbs-3.13-bioc/R/library/RcppEigen/include/Eigen/SparseCore:37,
                 from /home/biocbuild/bbs-3.13-bioc/R/library/RcppEigen/include/Eigen/Sparse:26,
                 from /home/biocbuild/bbs-3.13-bioc/R/library/RcppEigen/include/RcppEigenForward.h:31,
                 from /home/biocbuild/bbs-3.13-bioc/R/library/RcppEigen/include/RcppEigen.h:25,
                 from mincut.cpp:7:
/home/biocbuild/bbs-3.13-bioc/R/library/RcppEigen/include/Eigen/src/SparseCore/SparseMatrixBase.h: In instantiation of ‘class Eigen::SparseMatrixBase<Eigen::CwiseBinaryOp<Eigen::internal::scalar_product_op<double, double>, const Eigen::CwiseNullaryOp<Eigen::internal::scalar_constant_op<double>, const Eigen::Matrix<double, -1, -1> >, const Eigen::SparseMatrix<double, 0, int> > >’:
/home/biocbuild/bbs-3.13-bioc/R/library/RcppEigen/include/Eigen/src/SparseCore/SparseCwiseBinaryOp.h:36:7:   required from ‘class Eigen::CwiseBinaryOpImpl<Eigen::internal::scalar_product_op<double, double>, const Eigen::CwiseNullaryOp<Eigen::internal::scalar_constant_op<double>, const Eigen::Matrix<double, -1, -1> >, const Eigen::SparseMatrix<double, 0, int>, Eigen::Sparse>’
/home/biocbuild/bbs-3.13-bioc/R/library/RcppEigen/include/Eigen/src/Core/CwiseBinaryOp.h:77:7:   required from ‘class Eigen::CwiseBinaryOp<Eigen::internal::scalar_product_op<double, double>, const Eigen::CwiseNullaryOp<Eigen::internal::scalar_constant_op<double>, const Eigen::Matrix<double, -1, -1> >, const Eigen::SparseMatrix<double, 0, int> >’
mincut.cpp:76:60:   required from here
/home/biocbuild/bbs-3.13-bioc/R/library/RcppEigen/include/Eigen/src/SparseCore/SparseMatrixBase.h:47:30: warning: ignoring attributes on template argument ‘Eigen::internal::packet_traits<double>::type’ {aka ‘__vector(2) double’} [-Wignored-attributes]
   47 |                      >::type PacketReturnType;
      |                              ^~~~~~~~~~~~~~~~
In file included from /home/biocbuild/bbs-3.13-bioc/R/library/RcppEigen/include/Eigen/Core:439,
                 from /home/biocbuild/bbs-3.13-bioc/R/library/RcppEigen/include/Eigen/Dense:1,
                 from /home/biocbuild/bbs-3.13-bioc/R/library/RcppEigen/include/RcppEigenForward.h:30,
                 from /home/biocbuild/bbs-3.13-bioc/R/library/RcppEigen/include/RcppEigen.h:25,
                 from mincut.cpp:7:
/home/biocbuild/bbs-3.13-bioc/R/library/RcppEigen/include/Eigen/src/Core/DenseCoeffsBase.h: In instantiation of ‘class Eigen::DenseCoeffsBase<Eigen::ArrayWrapper<Eigen::Matrix<double, -1, 1> >, 0>’:
/home/biocbuild/bbs-3.13-bioc/R/library/RcppEigen/include/Eigen/src/Core/DenseCoeffsBase.h:300:7:   required from ‘class Eigen::DenseCoeffsBase<Eigen::ArrayWrapper<Eigen::Matrix<double, -1, 1> >, 1>’
/home/biocbuild/bbs-3.13-bioc/R/library/RcppEigen/include/Eigen/src/Core/DenseCoeffsBase.h:551:7:   required from ‘class Eigen::DenseCoeffsBase<Eigen::ArrayWrapper<Eigen::Matrix<double, -1, 1> >, 3>’
/home/biocbuild/bbs-3.13-bioc/R/library/RcppEigen/include/Eigen/src/Core/DenseBase.h:41:34:   required from ‘class Eigen::DenseBase<Eigen::ArrayWrapper<Eigen::Matrix<double, -1, 1> > >’
/home/biocbuild/bbs-3.13-bioc/R/library/RcppEigen/include/Eigen/src/Core/ArrayBase.h:39:34:   required from ‘class Eigen::ArrayBase<Eigen::ArrayWrapper<Eigen::Matrix<double, -1, 1> > >’
/home/biocbuild/bbs-3.13-bioc/R/library/RcppEigen/include/Eigen/src/Core/ArrayWrapper.h:42:7:   required from ‘class Eigen::ArrayWrapper<Eigen::Matrix<double, -1, 1> >’
mincut.cpp:77:33:   required from here
/home/biocbuild/bbs-3.13-bioc/R/library/RcppEigen/include/Eigen/src/Core/DenseCoeffsBase.h:55:30: warning: ignoring attributes on template argument ‘Eigen::internal::packet_traits<double>::type’ {aka ‘__vector(2) double’} [-Wignored-attributes]
   55 |                      >::type PacketReturnType;
      |                              ^~~~~~~~~~~~~~~~
/home/biocbuild/bbs-3.13-bioc/R/library/RcppEigen/include/Eigen/src/Core/DenseCoeffsBase.h: In instantiation of ‘class Eigen::DenseCoeffsBase<Eigen::CwiseNullaryOp<Eigen::internal::scalar_constant_op<double>, const Eigen::Array<double, -1, 1> >, 0>’:
/home/biocbuild/bbs-3.13-bioc/R/library/RcppEigen/include/Eigen/src/Core/DenseBase.h:41:34:   required from ‘class Eigen::DenseBase<Eigen::CwiseNullaryOp<Eigen::internal::scalar_constant_op<double>, const Eigen::Array<double, -1, 1> > >’
/home/biocbuild/bbs-3.13-bioc/R/library/RcppEigen/include/Eigen/src/Core/ArrayBase.h:39:34:   required from ‘class Eigen::ArrayBase<Eigen::CwiseNullaryOp<Eigen::internal::scalar_constant_op<double>, const Eigen::Array<double, -1, 1> > >’
/home/biocbuild/bbs-3.13-bioc/R/library/RcppEigen/include/Eigen/src/Core/CwiseNullaryOp.h:60:7:   required from ‘class Eigen::CwiseNullaryOp<Eigen::internal::scalar_constant_op<double>, const Eigen::Array<double, -1, 1> >’
/home/biocbuild/bbs-3.13-bioc/R/library/RcppEigen/include/Eigen/src/Core/CwiseBinaryOp.h:38:28:   required from ‘struct Eigen::internal::traits<Eigen::CwiseBinaryOp<Eigen::internal::scalar_difference_op<double, double>, const Eigen::ArrayWrapper<Eigen::Matrix<double, -1, 1> >, const Eigen::CwiseNullaryOp<Eigen::internal::scalar_constant_op<double>, const Eigen::Array<double, -1, 1> > > >’
/home/biocbuild/bbs-3.13-bioc/R/library/RcppEigen/include/Eigen/src/Core/CwiseBinaryOp.h:148:7:   required from ‘class Eigen::CwiseBinaryOpImpl<Eigen::internal::scalar_difference_op<double, double>, const Eigen::ArrayWrapper<Eigen::Matrix<double, -1, 1> >, const Eigen::CwiseNullaryOp<Eigen::internal::scalar_constant_op<double>, const Eigen::Array<double, -1, 1> >, Eigen::Dense>’
/home/biocbuild/bbs-3.13-bioc/R/library/RcppEigen/include/Eigen/src/Core/CwiseBinaryOp.h:77:7:   required from ‘class Eigen::CwiseBinaryOp<Eigen::internal::scalar_difference_op<double, double>, const Eigen::ArrayWrapper<Eigen::Matrix<double, -1, 1> >, const Eigen::CwiseNullaryOp<Eigen::internal::scalar_constant_op<double>, const Eigen::Array<double, -1, 1> > >’
mincut.cpp:77:37:   required from here
/home/biocbuild/bbs-3.13-bioc/R/library/RcppEigen/include/Eigen/src/Core/DenseCoeffsBase.h:55:30: warning: ignoring attributes on template argument ‘Eigen::internal::packet_traits<double>::type’ {aka ‘__vector(2) double’} [-Wignored-attributes]
/home/biocbuild/bbs-3.13-bioc/R/library/RcppEigen/include/Eigen/src/Core/DenseCoeffsBase.h: In instantiation of ‘class Eigen::DenseCoeffsBase<Eigen::CwiseBinaryOp<Eigen::internal::scalar_difference_op<double, double>, const Eigen::ArrayWrapper<Eigen::Matrix<double, -1, 1> >, const Eigen::CwiseNullaryOp<Eigen::internal::scalar_constant_op<double>, const Eigen::Array<double, -1, 1> > >, 0>’:
/home/biocbuild/bbs-3.13-bioc/R/library/RcppEigen/include/Eigen/src/Core/DenseBase.h:41:34:   required from ‘class Eigen::DenseBase<Eigen::CwiseBinaryOp<Eigen::internal::scalar_difference_op<double, double>, const Eigen::ArrayWrapper<Eigen::Matrix<double, -1, 1> >, const Eigen::CwiseNullaryOp<Eigen::internal::scalar_constant_op<double>, const Eigen::Array<double, -1, 1> > > >’
/home/biocbuild/bbs-3.13-bioc/R/library/RcppEigen/include/Eigen/src/Core/ArrayBase.h:39:34:   required from ‘class Eigen::ArrayBase<Eigen::CwiseBinaryOp<Eigen::internal::scalar_difference_op<double, double>, const Eigen::ArrayWrapper<Eigen::Matrix<double, -1, 1> >, const Eigen::CwiseNullaryOp<Eigen::internal::scalar_constant_op<double>, const Eigen::Array<double, -1, 1> > > >’
/home/biocbuild/bbs-3.13-bioc/R/library/RcppEigen/include/Eigen/src/Core/CwiseBinaryOp.h:148:7:   required from ‘class Eigen::CwiseBinaryOpImpl<Eigen::internal::scalar_difference_op<double, double>, const Eigen::ArrayWrapper<Eigen::Matrix<double, -1, 1> >, const Eigen::CwiseNullaryOp<Eigen::internal::scalar_constant_op<double>, const Eigen::Array<double, -1, 1> >, Eigen::Dense>’
/home/biocbuild/bbs-3.13-bioc/R/library/RcppEigen/include/Eigen/src/Core/CwiseBinaryOp.h:77:7:   required from ‘class Eigen::CwiseBinaryOp<Eigen::internal::scalar_difference_op<double, double>, const Eigen::ArrayWrapper<Eigen::Matrix<double, -1, 1> >, const Eigen::CwiseNullaryOp<Eigen::internal::scalar_constant_op<double>, const Eigen::Array<double, -1, 1> > >’
mincut.cpp:77:37:   required from here
/home/biocbuild/bbs-3.13-bioc/R/library/RcppEigen/include/Eigen/src/Core/DenseCoeffsBase.h:55:30: warning: ignoring attributes on template argument ‘Eigen::internal::packet_traits<double>::type’ {aka ‘__vector(2) double’} [-Wignored-attributes]
/home/biocbuild/bbs-3.13-bioc/R/library/RcppEigen/include/Eigen/src/Core/DenseCoeffsBase.h: In instantiation of ‘class Eigen::DenseCoeffsBase<Eigen::CwiseNullaryOp<Eigen::internal::scalar_constant_op<double>, Eigen::Array<double, -1, 1> >, 0>’:
/home/biocbuild/bbs-3.13-bioc/R/library/RcppEigen/include/Eigen/src/Core/DenseBase.h:41:34:   required from ‘class Eigen::DenseBase<Eigen::CwiseNullaryOp<Eigen::internal::scalar_constant_op<double>, Eigen::Array<double, -1, 1> > >’
/home/biocbuild/bbs-3.13-bioc/R/library/RcppEigen/include/Eigen/src/Core/ArrayBase.h:39:34:   required from ‘class Eigen::ArrayBase<Eigen::CwiseNullaryOp<Eigen::internal::scalar_constant_op<double>, Eigen::Array<double, -1, 1> > >’
/home/biocbuild/bbs-3.13-bioc/R/library/RcppEigen/include/Eigen/src/Core/CwiseNullaryOp.h:60:7:   required from ‘class Eigen::CwiseNullaryOp<Eigen::internal::scalar_constant_op<double>, Eigen::Array<double, -1, 1> >’
/home/biocbuild/bbs-3.13-bioc/R/library/RcppEigen/include/Eigen/src/Core/CwiseBinaryOp.h:38:28:   required from ‘struct Eigen::internal::traits<Eigen::CwiseBinaryOp<Eigen::internal::scalar_cmp_op<double, double, Eigen::internal::cmp_LT>, const Eigen::CwiseNullaryOp<Eigen::internal::scalar_constant_op<double>, Eigen::Array<double, -1, 1> >, const Eigen::ArrayWrapper<Eigen::Matrix<double, -1, 1> > > >’
/home/biocbuild/bbs-3.13-bioc/R/library/RcppEigen/include/Eigen/src/Core/CwiseBinaryOp.h:148:7:   required from ‘class Eigen::CwiseBinaryOpImpl<Eigen::internal::scalar_cmp_op<double, double, Eigen::internal::cmp_LT>, const Eigen::CwiseNullaryOp<Eigen::internal::scalar_constant_op<double>, Eigen::Array<double, -1, 1> >, const Eigen::ArrayWrapper<Eigen::Matrix<double, -1, 1> >, Eigen::Dense>’
/home/biocbuild/bbs-3.13-bioc/R/library/RcppEigen/include/Eigen/src/Core/CwiseBinaryOp.h:77:7:   required from ‘class Eigen::CwiseBinaryOp<Eigen::internal::scalar_cmp_op<double, double, Eigen::internal::cmp_LT>, const Eigen::CwiseNullaryOp<Eigen::internal::scalar_constant_op<double>, Eigen::Array<double, -1, 1> >, const Eigen::ArrayWrapper<Eigen::Matrix<double, -1, 1> > >’
mincut.cpp:81:39:   required from here
/home/biocbuild/bbs-3.13-bioc/R/library/RcppEigen/include/Eigen/src/Core/DenseCoeffsBase.h:55:30: warning: ignoring attributes on template argument ‘Eigen::internal::packet_traits<double>::type’ {aka ‘__vector(2) double’} [-Wignored-attributes]
/home/biocbuild/bbs-3.13-bioc/R/library/RcppEigen/include/Eigen/src/Core/DenseCoeffsBase.h: In instantiation of ‘class Eigen::DenseCoeffsBase<Eigen::CwiseUnaryOp<Eigen::internal::scalar_opposite_op<double>, const Eigen::Matrix<double, -1, 1> >, 0>’:
/home/biocbuild/bbs-3.13-bioc/R/library/RcppEigen/include/Eigen/src/Core/DenseBase.h:41:34:   required from ‘class Eigen::DenseBase<Eigen::CwiseUnaryOp<Eigen::internal::scalar_opposite_op<double>, const Eigen::Matrix<double, -1, 1> > >’
/home/biocbuild/bbs-3.13-bioc/R/library/RcppEigen/include/Eigen/src/Core/MatrixBase.h:48:34:   required from ‘class Eigen::MatrixBase<Eigen::CwiseUnaryOp<Eigen::internal::scalar_opposite_op<double>, const Eigen::Matrix<double, -1, 1> > >’
/home/biocbuild/bbs-3.13-bioc/R/library/RcppEigen/include/Eigen/src/Core/CwiseUnaryOp.h:94:7:   required from ‘class Eigen::CwiseUnaryOpImpl<Eigen::internal::scalar_opposite_op<double>, const Eigen::Matrix<double, -1, 1>, Eigen::Dense>’
/home/biocbuild/bbs-3.13-bioc/R/library/RcppEigen/include/Eigen/src/Core/CwiseUnaryOp.h:55:7:   required from ‘class Eigen::CwiseUnaryOp<Eigen::internal::scalar_opposite_op<double>, const Eigen::Matrix<double, -1, 1> >’
mincut.cpp:81:53:   required from here
/home/biocbuild/bbs-3.13-bioc/R/library/RcppEigen/include/Eigen/src/Core/DenseCoeffsBase.h:55:30: warning: ignoring attributes on template argument ‘Eigen::internal::packet_traits<double>::type’ {aka ‘__vector(2) double’} [-Wignored-attributes]
/home/biocbuild/bbs-3.13-bioc/R/library/RcppEigen/include/Eigen/src/Core/DenseCoeffsBase.h: In instantiation of ‘class Eigen::DenseCoeffsBase<Eigen::CwiseNullaryOp<Eigen::internal::scalar_constant_op<double>, Eigen::Matrix<double, -1, 1> >, 0>’:
/home/biocbuild/bbs-3.13-bioc/R/library/RcppEigen/include/Eigen/src/Core/DenseBase.h:41:34:   required from ‘class Eigen::DenseBase<Eigen::CwiseNullaryOp<Eigen::internal::scalar_constant_op<double>, Eigen::Matrix<double, -1, 1> > >’
/home/biocbuild/bbs-3.13-bioc/R/library/RcppEigen/include/Eigen/src/Core/MatrixBase.h:48:34:   required from ‘class Eigen::MatrixBase<Eigen::CwiseNullaryOp<Eigen::internal::scalar_constant_op<double>, Eigen::Matrix<double, -1, 1> > >’
/home/biocbuild/bbs-3.13-bioc/R/library/RcppEigen/include/Eigen/src/Core/CwiseNullaryOp.h:60:7:   required from ‘class Eigen::CwiseNullaryOp<Eigen::internal::scalar_constant_op<double>, Eigen::Matrix<double, -1, 1> >’
/home/biocbuild/bbs-3.13-bioc/R/library/RcppEigen/include/Eigen/src/Core/Select.h:39:43:   required from ‘struct Eigen::internal::traits<Eigen::Select<Eigen::CwiseBinaryOp<Eigen::internal::scalar_cmp_op<double, double, Eigen::internal::cmp_LT>, const Eigen::CwiseNullaryOp<Eigen::internal::scalar_constant_op<double>, Eigen::Array<double, -1, 1> >, const Eigen::ArrayWrapper<Eigen::Matrix<double, -1, 1> > >, Eigen::CwiseNullaryOp<Eigen::internal::scalar_constant_op<double>, Eigen::Matrix<double, -1, 1> >, Eigen::CwiseUnaryOp<Eigen::internal::scalar_opposite_op<double>, const Eigen::Matrix<double, -1, 1> > > >’
/home/biocbuild/bbs-3.13-bioc/R/library/RcppEigen/include/Eigen/src/Core/Select.h:52:7:   required from ‘class Eigen::Select<Eigen::CwiseBinaryOp<Eigen::internal::scalar_cmp_op<double, double, Eigen::internal::cmp_LT>, const Eigen::CwiseNullaryOp<Eigen::internal::scalar_constant_op<double>, Eigen::Array<double, -1, 1> >, const Eigen::ArrayWrapper<Eigen::Matrix<double, -1, 1> > >, Eigen::CwiseNullaryOp<Eigen::internal::scalar_constant_op<double>, Eigen::Matrix<double, -1, 1> >, Eigen::CwiseUnaryOp<Eigen::internal::scalar_opposite_op<double>, const Eigen::Matrix<double, -1, 1> > >’
mincut.cpp:81:56:   required from here
/home/biocbuild/bbs-3.13-bioc/R/library/RcppEigen/include/Eigen/src/Core/DenseCoeffsBase.h:55:30: warning: ignoring attributes on template argument ‘Eigen::internal::packet_traits<double>::type’ {aka ‘__vector(2) double’} [-Wignored-attributes]
/home/biocbuild/bbs-3.13-bioc/R/library/RcppEigen/include/Eigen/src/Core/DenseCoeffsBase.h: In instantiation of ‘class Eigen::DenseCoeffsBase<Eigen::Select<Eigen::CwiseBinaryOp<Eigen::internal::scalar_cmp_op<double, double, Eigen::internal::cmp_LT>, const Eigen::CwiseNullaryOp<Eigen::internal::scalar_constant_op<double>, Eigen::Array<double, -1, 1> >, const Eigen::ArrayWrapper<Eigen::Matrix<double, -1, 1> > >, Eigen::CwiseNullaryOp<Eigen::internal::scalar_constant_op<double>, Eigen::Matrix<double, -1, 1> >, Eigen::CwiseUnaryOp<Eigen::internal::scalar_opposite_op<double>, const Eigen::Matrix<double, -1, 1> > >, 0>’:
/home/biocbuild/bbs-3.13-bioc/R/library/RcppEigen/include/Eigen/src/Core/DenseBase.h:41:34:   required from ‘class Eigen::DenseBase<Eigen::Select<Eigen::CwiseBinaryOp<Eigen::internal::scalar_cmp_op<double, double, Eigen::internal::cmp_LT>, const Eigen::CwiseNullaryOp<Eigen::internal::scalar_constant_op<double>, Eigen::Array<double, -1, 1> >, const Eigen::ArrayWrapper<Eigen::Matrix<double, -1, 1> > >, Eigen::CwiseNullaryOp<Eigen::internal::scalar_constant_op<double>, Eigen::Matrix<double, -1, 1> >, Eigen::CwiseUnaryOp<Eigen::internal::scalar_opposite_op<double>, const Eigen::Matrix<double, -1, 1> > > >’
/home/biocbuild/bbs-3.13-bioc/R/library/RcppEigen/include/Eigen/src/Core/MatrixBase.h:48:34:   required from ‘class Eigen::MatrixBase<Eigen::Select<Eigen::CwiseBinaryOp<Eigen::internal::scalar_cmp_op<double, double, Eigen::internal::cmp_LT>, const Eigen::CwiseNullaryOp<Eigen::internal::scalar_constant_op<double>, Eigen::Array<double, -1, 1> >, const Eigen::ArrayWrapper<Eigen::Matrix<double, -1, 1> > >, Eigen::CwiseNullaryOp<Eigen::internal::scalar_constant_op<double>, Eigen::Matrix<double, -1, 1> >, Eigen::CwiseUnaryOp<Eigen::internal::scalar_opposite_op<double>, const Eigen::Matrix<double, -1, 1> > > >’
/home/biocbuild/bbs-3.13-bioc/R/library/RcppEigen/include/Eigen/src/Core/Select.h:52:7:   required from ‘class Eigen::Select<Eigen::CwiseBinaryOp<Eigen::internal::scalar_cmp_op<double, double, Eigen::internal::cmp_LT>, const Eigen::CwiseNullaryOp<Eigen::internal::scalar_constant_op<double>, Eigen::Array<double, -1, 1> >, const Eigen::ArrayWrapper<Eigen::Matrix<double, -1, 1> > >, Eigen::CwiseNullaryOp<Eigen::internal::scalar_constant_op<double>, Eigen::Matrix<double, -1, 1> >, Eigen::CwiseUnaryOp<Eigen::internal::scalar_opposite_op<double>, const Eigen::Matrix<double, -1, 1> > >’
mincut.cpp:81:56:   required from here
/home/biocbuild/bbs-3.13-bioc/R/library/RcppEigen/include/Eigen/src/Core/DenseCoeffsBase.h:55:30: warning: ignoring attributes on template argument ‘Eigen::internal::packet_traits<double>::type’ {aka ‘__vector(2) double’} [-Wignored-attributes]
/home/biocbuild/bbs-3.13-bioc/R/library/RcppEigen/include/Eigen/src/Core/DenseCoeffsBase.h: In instantiation of ‘class Eigen::DenseCoeffsBase<Eigen::Select<Eigen::CwiseBinaryOp<Eigen::internal::scalar_cmp_op<double, double, Eigen::internal::cmp_LE>, const Eigen::ArrayWrapper<Eigen::Matrix<double, -1, 1> >, const Eigen::CwiseNullaryOp<Eigen::internal::scalar_constant_op<double>, Eigen::Array<double, -1, 1> > >, Eigen::CwiseNullaryOp<Eigen::internal::scalar_constant_op<double>, Eigen::Matrix<double, -1, 1> >, Eigen::Matrix<double, -1, 1> >, 0>’:
/home/biocbuild/bbs-3.13-bioc/R/library/RcppEigen/include/Eigen/src/Core/DenseBase.h:41:34:   required from ‘class Eigen::DenseBase<Eigen::Select<Eigen::CwiseBinaryOp<Eigen::internal::scalar_cmp_op<double, double, Eigen::internal::cmp_LE>, const Eigen::ArrayWrapper<Eigen::Matrix<double, -1, 1> >, const Eigen::CwiseNullaryOp<Eigen::internal::scalar_constant_op<double>, Eigen::Array<double, -1, 1> > >, Eigen::CwiseNullaryOp<Eigen::internal::scalar_constant_op<double>, Eigen::Matrix<double, -1, 1> >, Eigen::Matrix<double, -1, 1> > >’
/home/biocbuild/bbs-3.13-bioc/R/library/RcppEigen/include/Eigen/src/Core/MatrixBase.h:48:34:   required from ‘class Eigen::MatrixBase<Eigen::Select<Eigen::CwiseBinaryOp<Eigen::internal::scalar_cmp_op<double, double, Eigen::internal::cmp_LE>, const Eigen::ArrayWrapper<Eigen::Matrix<double, -1, 1> >, const Eigen::CwiseNullaryOp<Eigen::internal::scalar_constant_op<double>, Eigen::Array<double, -1, 1> > >, Eigen::CwiseNullaryOp<Eigen::internal::scalar_constant_op<double>, Eigen::Matrix<double, -1, 1> >, Eigen::Matrix<double, -1, 1> > >’
/home/biocbuild/bbs-3.13-bioc/R/library/RcppEigen/include/Eigen/src/Core/Select.h:52:7:   required from ‘class Eigen::Select<Eigen::CwiseBinaryOp<Eigen::internal::scalar_cmp_op<double, double, Eigen::internal::cmp_LE>, const Eigen::ArrayWrapper<Eigen::Matrix<double, -1, 1> >, const Eigen::CwiseNullaryOp<Eigen::internal::scalar_constant_op<double>, Eigen::Array<double, -1, 1> > >, Eigen::CwiseNullaryOp<Eigen::internal::scalar_constant_op<double>, Eigen::Matrix<double, -1, 1> >, Eigen::Matrix<double, -1, 1> >’
mincut.cpp:83:56:   required from here
/home/biocbuild/bbs-3.13-bioc/R/library/RcppEigen/include/Eigen/src/Core/DenseCoeffsBase.h:55:30: warning: ignoring attributes on template argument ‘Eigen::internal::packet_traits<double>::type’ {aka ‘__vector(2) double’} [-Wignored-attributes]
/home/biocbuild/bbs-3.13-bioc/R/library/RcppEigen/include/Eigen/src/Core/DenseCoeffsBase.h: In instantiation of ‘class Eigen::DenseCoeffsBase<Eigen::Map<const Eigen::Matrix<int, -1, 1>, 0, Eigen::Stride<0, 0> >, 0>’:
/home/biocbuild/bbs-3.13-bioc/R/library/RcppEigen/include/Eigen/src/Core/DenseCoeffsBase.h:478:7:   required from ‘class Eigen::DenseCoeffsBase<Eigen::Map<const Eigen::Matrix<int, -1, 1>, 0, Eigen::Stride<0, 0> >, 2>’
/home/biocbuild/bbs-3.13-bioc/R/library/RcppEigen/include/Eigen/src/Core/DenseBase.h:41:34:   required from ‘class Eigen::DenseBase<Eigen::Map<const Eigen::Matrix<int, -1, 1>, 0, Eigen::Stride<0, 0> > >’
/home/biocbuild/bbs-3.13-bioc/R/library/RcppEigen/include/Eigen/src/Core/MatrixBase.h:48:34:   required from ‘class Eigen::MatrixBase<Eigen::Map<const Eigen::Matrix<int, -1, 1>, 0, Eigen::Stride<0, 0> > >’
/home/biocbuild/bbs-3.13-bioc/R/library/RcppEigen/include/Eigen/src/Core/MapBase.h:37:34:   required from ‘class Eigen::MapBase<Eigen::Map<const Eigen::Matrix<int, -1, 1>, 0, Eigen::Stride<0, 0> >, 0>’
/home/biocbuild/bbs-3.13-bioc/R/library/RcppEigen/include/Eigen/src/Core/Map.h:94:79:   required from ‘class Eigen::Map<const Eigen::Matrix<int, -1, 1>, 0, Eigen::Stride<0, 0> >’
/home/biocbuild/bbs-3.13-bioc/R/library/RcppEigen/include/Eigen/src/SparseCore/SparseCompressedBase.h:65:32:   required from ‘Eigen::Index Eigen::SparseCompressedBase<Derived>::nonZeros() const [with Derived = Eigen::SparseMatrix<double, 0, int>; Eigen::Index = long int]’
mincut.cpp:29:51:   required from here
/home/biocbuild/bbs-3.13-bioc/R/library/RcppEigen/include/Eigen/src/Core/DenseCoeffsBase.h:55:30: warning: ignoring attributes on template argument ‘Eigen::internal::packet_traits<int>::type’ {aka ‘__vector(2) long long int’} [-Wignored-attributes]
/home/biocbuild/bbs-3.13-bioc/R/library/RcppEigen/include/Eigen/src/Core/DenseCoeffsBase.h: In instantiation of ‘class Eigen::DenseCoeffsBase<Eigen::SparseMatrix<double, 0, int>, 0>’:
/home/biocbuild/bbs-3.13-bioc/R/library/RcppEigen/include/Eigen/src/SparseCore/SparseCompressedBase.h:298:80:   required from ‘struct Eigen::internal::evaluator<Eigen::SparseCompressedBase<Eigen::SparseMatrix<double, 0, int> > >’
/home/biocbuild/bbs-3.13-bioc/R/library/RcppEigen/include/Eigen/src/SparseCore/SparseMatrix.h:1391:8:   required from ‘struct Eigen::internal::evaluator<Eigen::SparseMatrix<double, 0, int> >’
/home/biocbuild/bbs-3.13-bioc/R/library/RcppEigen/include/Eigen/src/SparseCore/SparseCwiseBinaryOp.h:495:54:   required from ‘struct Eigen::internal::sparse_conjunction_evaluator<Eigen::CwiseBinaryOp<Eigen::internal::scalar_product_op<double, double>, const Eigen::CwiseNullaryOp<Eigen::internal::scalar_constant_op<double>, const Eigen::Matrix<double, -1, -1> >, const Eigen::SparseMatrix<double, 0, int> >, Eigen::internal::IndexBased, Eigen::internal::IteratorBased, double, double>’
/home/biocbuild/bbs-3.13-bioc/R/library/RcppEigen/include/Eigen/src/SparseCore/SparseCwiseBinaryOp.h:345:8:   required from ‘struct Eigen::internal::binary_evaluator<Eigen::CwiseBinaryOp<Eigen::internal::scalar_product_op<double, double>, const Eigen::CwiseNullaryOp<Eigen::internal::scalar_constant_op<double>, const Eigen::Matrix<double, -1, -1> >, const Eigen::SparseMatrix<double, 0, int> >, Eigen::internal::IndexBased, Eigen::internal::IteratorBased, double, double>’
/home/biocbuild/bbs-3.13-bioc/R/library/RcppEigen/include/Eigen/src/Core/CoreEvaluators.h:665:8:   required from ‘struct Eigen::internal::evaluator<Eigen::CwiseBinaryOp<Eigen::internal::scalar_product_op<double, double>, const Eigen::CwiseNullaryOp<Eigen::internal::scalar_constant_op<double>, const Eigen::Matrix<double, -1, -1> >, const Eigen::SparseMatrix<double, 0, int> > >’
/home/biocbuild/bbs-3.13-bioc/R/library/RcppEigen/include/Eigen/src/SparseCore/SparseMatrix.h:683:103:   required from ‘Eigen::SparseMatrix<_Scalar, _Flags, _StorageIndex>::SparseMatrix(const Eigen::SparseMatrixBase<OtherDerived>&) [with OtherDerived = Eigen::CwiseBinaryOp<Eigen::internal::scalar_product_op<double, double>, const Eigen::CwiseNullaryOp<Eigen::internal::scalar_constant_op<double>, const Eigen::Matrix<double, -1, -1> >, const Eigen::SparseMatrix<double, 0, int> >; _Scalar = double; int _Options = 0; _StorageIndex = int]’
mincut.cpp:76:60:   required from here
/home/biocbuild/bbs-3.13-bioc/R/library/RcppEigen/include/Eigen/src/Core/DenseCoeffsBase.h:55:30: warning: ignoring attributes on template argument ‘Eigen::internal::packet_traits<double>::type’ {aka ‘__vector(2) double’} [-Wignored-attributes]
/home/biocbuild/bbs-3.13-bioc/R/library/RcppEigen/include/Eigen/src/Core/DenseCoeffsBase.h: In instantiation of ‘class Eigen::DenseCoeffsBase<Eigen::Matrix<double, -1, -1>, 0>’:
/home/biocbuild/bbs-3.13-bioc/R/library/RcppEigen/include/Eigen/src/Core/DenseCoeffsBase.h:300:7:   required from ‘class Eigen::DenseCoeffsBase<Eigen::Matrix<double, -1, -1>, 1>’
/home/biocbuild/bbs-3.13-bioc/R/library/RcppEigen/include/Eigen/src/Core/DenseCoeffsBase.h:551:7:   required from ‘class Eigen::DenseCoeffsBase<Eigen::Matrix<double, -1, -1>, 3>’
/home/biocbuild/bbs-3.13-bioc/R/library/RcppEigen/include/Eigen/src/Core/DenseBase.h:41:34:   required from ‘class Eigen::DenseBase<Eigen::Matrix<double, -1, -1> >’
/home/biocbuild/bbs-3.13-bioc/R/library/RcppEigen/include/Eigen/src/Core/MatrixBase.h:48:34:   required from ‘class Eigen::MatrixBase<Eigen::Matrix<double, -1, -1> >’
/home/biocbuild/bbs-3.13-bioc/R/library/RcppEigen/include/Eigen/src/Core/PlainObjectBase.h:98:7:   required from ‘class Eigen::PlainObjectBase<Eigen::Matrix<double, -1, -1> >’
/home/biocbuild/bbs-3.13-bioc/R/library/RcppEigen/include/Eigen/src/Core/CoreEvaluators.h:131:44:   [ skipping 2 instantiation contexts, use -ftemplate-backtrace-limit=0 to disable ]
/home/biocbuild/bbs-3.13-bioc/R/library/RcppEigen/include/Eigen/src/Core/CoreEvaluators.h:465:11:   required from ‘struct Eigen::internal::evaluator<Eigen::CwiseNullaryOp<Eigen::internal::scalar_constant_op<double>, const Eigen::Matrix<double, -1, -1> > >’
/home/biocbuild/bbs-3.13-bioc/R/library/RcppEigen/include/Eigen/src/SparseCore/SparseCwiseBinaryOp.h:535:54:   required from ‘struct Eigen::internal::sparse_conjunction_evaluator<Eigen::CwiseBinaryOp<Eigen::internal::scalar_product_op<double, double>, const Eigen::CwiseNullaryOp<Eigen::internal::scalar_constant_op<double>, const Eigen::Matrix<double, -1, -1> >, const Eigen::SparseMatrix<double, 0, int> >, Eigen::internal::IndexBased, Eigen::internal::IteratorBased, double, double>’
/home/biocbuild/bbs-3.13-bioc/R/library/RcppEigen/include/Eigen/src/SparseCore/SparseCwiseBinaryOp.h:345:8:   required from ‘struct Eigen::internal::binary_evaluator<Eigen::CwiseBinaryOp<Eigen::internal::scalar_product_op<double, double>, const Eigen::CwiseNullaryOp<Eigen::internal::scalar_constant_op<double>, const Eigen::Matrix<double, -1, -1> >, const Eigen::SparseMatrix<double, 0, int> >, Eigen::internal::IndexBased, Eigen::internal::IteratorBased, double, double>’
/home/biocbuild/bbs-3.13-bioc/R/library/RcppEigen/include/Eigen/src/Core/CoreEvaluators.h:665:8:   required from ‘struct Eigen::internal::evaluator<Eigen::CwiseBinaryOp<Eigen::internal::scalar_product_op<double, double>, const Eigen::CwiseNullaryOp<Eigen::internal::scalar_constant_op<double>, const Eigen::Matrix<double, -1, -1> >, const Eigen::SparseMatrix<double, 0, int> > >’
/home/biocbuild/bbs-3.13-bioc/R/library/RcppEigen/include/Eigen/src/SparseCore/SparseMatrix.h:683:103:   required from ‘Eigen::SparseMatrix<_Scalar, _Flags, _StorageIndex>::SparseMatrix(const Eigen::SparseMatrixBase<OtherDerived>&) [with OtherDerived = Eigen::CwiseBinaryOp<Eigen::internal::scalar_product_op<double, double>, const Eigen::CwiseNullaryOp<Eigen::internal::scalar_constant_op<double>, const Eigen::Matrix<double, -1, -1> >, const Eigen::SparseMatrix<double, 0, int> >; _Scalar = double; int _Options = 0; _StorageIndex = int]’
mincut.cpp:76:60:   required from here
/home/biocbuild/bbs-3.13-bioc/R/library/RcppEigen/include/Eigen/src/Core/DenseCoeffsBase.h:55:30: warning: ignoring attributes on template argument ‘Eigen::internal::packet_traits<double>::type’ {aka ‘__vector(2) double’} [-Wignored-attributes]
/home/biocbuild/bbs-3.13-bioc/R/library/RcppEigen/include/Eigen/src/Core/DenseCoeffsBase.h: In instantiation of ‘class Eigen::DenseCoeffsBase<Eigen::Array<double, -1, 1>, 0>’:
/home/biocbuild/bbs-3.13-bioc/R/library/RcppEigen/include/Eigen/src/Core/DenseCoeffsBase.h:300:7:   required from ‘class Eigen::DenseCoeffsBase<Eigen::Array<double, -1, 1>, 1>’
/home/biocbuild/bbs-3.13-bioc/R/library/RcppEigen/include/Eigen/src/Core/DenseCoeffsBase.h:551:7:   required from ‘class Eigen::DenseCoeffsBase<Eigen::Array<double, -1, 1>, 3>’
/home/biocbuild/bbs-3.13-bioc/R/library/RcppEigen/include/Eigen/src/Core/DenseBase.h:41:34:   required from ‘class Eigen::DenseBase<Eigen::Array<double, -1, 1> >’
/home/biocbuild/bbs-3.13-bioc/R/library/RcppEigen/include/Eigen/src/Core/ArrayBase.h:39:34:   required from ‘class Eigen::ArrayBase<Eigen::Array<double, -1, 1> >’
/home/biocbuild/bbs-3.13-bioc/R/library/RcppEigen/include/Eigen/src/Core/PlainObjectBase.h:98:7:   required from ‘class Eigen::PlainObjectBase<Eigen::Array<double, -1, 1> >’
/home/biocbuild/bbs-3.13-bioc/R/library/RcppEigen/include/Eigen/src/Core/Array.h:45:7:   required from ‘class Eigen::Array<double, -1, 1>’
/home/biocbuild/bbs-3.13-bioc/R/library/RcppEigen/include/Eigen/src/Core/../plugins/ArrayCwiseBinaryOps.h:170:1:   required from ‘const RCmpLTReturnType Eigen::ArrayBase<Derived>::operator>(const Scalar&) const [with Derived = Eigen::ArrayWrapper<Eigen::Matrix<double, -1, 1> >; Eigen::ArrayBase<Derived>::RCmpLTReturnType = Eigen::CwiseBinaryOp<Eigen::internal::scalar_cmp_op<double, double, Eigen::internal::cmp_LT>, const Eigen::CwiseNullaryOp<Eigen::internal::scalar_constant_op<double>, Eigen::Array<double, -1, 1> >, const Eigen::ArrayWrapper<Eigen::Matrix<double, -1, 1> > >; typename Eigen::DenseBase<Derived>::PlainObject = Eigen::Array<double, -1, 1>; typename Eigen::internal::traits<T>::Scalar = double; Eigen::ArrayBase<Derived>::Scalar = double]’
mincut.cpp:81:39:   required from here
/home/biocbuild/bbs-3.13-bioc/R/library/RcppEigen/include/Eigen/src/Core/DenseCoeffsBase.h:55:30: warning: ignoring attributes on template argument ‘Eigen::internal::packet_traits<double>::type’ {aka ‘__vector(2) double’} [-Wignored-attributes]
/home/biocbuild/bbs-3.13-bioc/R/library/RcppEigen/include/Eigen/src/Core/DenseCoeffsBase.h: In instantiation of ‘class Eigen::DenseCoeffsBase<Eigen::Map<Eigen::Matrix<int, -1, 1>, 0, Eigen::Stride<0, 0> >, 0>’:
/home/biocbuild/bbs-3.13-bioc/R/library/RcppEigen/include/Eigen/src/Core/DenseCoeffsBase.h:300:7:   required from ‘class Eigen::DenseCoeffsBase<Eigen::Map<Eigen::Matrix<int, -1, 1>, 0, Eigen::Stride<0, 0> >, 1>’
/home/biocbuild/bbs-3.13-bioc/R/library/RcppEigen/include/Eigen/src/Core/DenseCoeffsBase.h:551:7:   required from ‘class Eigen::DenseCoeffsBase<Eigen::Map<Eigen::Matrix<int, -1, 1>, 0, Eigen::Stride<0, 0> >, 3>’
/home/biocbuild/bbs-3.13-bioc/R/library/RcppEigen/include/Eigen/src/Core/DenseBase.h:41:34:   required from ‘class Eigen::DenseBase<Eigen::Map<Eigen::Matrix<int, -1, 1>, 0, Eigen::Stride<0, 0> > >’
/home/biocbuild/bbs-3.13-bioc/R/library/RcppEigen/include/Eigen/src/Core/MatrixBase.h:48:34:   required from ‘class Eigen::MatrixBase<Eigen::Map<Eigen::Matrix<int, -1, 1>, 0, Eigen::Stride<0, 0> > >’
/home/biocbuild/bbs-3.13-bioc/R/library/RcppEigen/include/Eigen/src/Core/MapBase.h:37:34:   required from ‘class Eigen::MapBase<Eigen::Map<Eigen::Matrix<int, -1, 1>, 0, Eigen::Stride<0, 0> >, 0>’
/home/biocbuild/bbs-3.13-bioc/R/library/RcppEigen/include/Eigen/src/Core/MapBase.h:221:34:   required from ‘class Eigen::MapBase<Eigen::Map<Eigen::Matrix<int, -1, 1>, 0, Eigen::Stride<0, 0> >, 1>’
/home/biocbuild/bbs-3.13-bioc/R/library/RcppEigen/include/Eigen/src/Core/Map.h:94:79:   required from ‘class Eigen::Map<Eigen::Matrix<int, -1, 1>, 0, Eigen::Stride<0, 0> >’
/home/biocbuild/bbs-3.13-bioc/R/library/RcppEigen/include/Eigen/src/SparseCore/SparseMatrix.h:1084:12:   required from ‘Eigen::SparseMatrix<_Scalar, _Options, _StorageIndex>& Eigen::SparseMatrix<_Scalar, _Flags, _StorageIndex>::operator=(const Eigen::SparseMatrixBase<OtherDerived>&) [with OtherDerived = Eigen::CwiseBinaryOp<Eigen::internal::scalar_product_op<double, double>, const Eigen::CwiseNullaryOp<Eigen::internal::scalar_constant_op<double>, const Eigen::Matrix<double, -1, -1> >, const Eigen::SparseMatrix<double, 0, int> >; _Scalar = double; int _Options = 0; _StorageIndex = int]’
/home/biocbuild/bbs-3.13-bioc/R/library/RcppEigen/include/Eigen/src/SparseCore/SparseMatrix.h:685:15:   required from ‘Eigen::SparseMatrix<_Scalar, _Flags, _StorageIndex>::SparseMatrix(const Eigen::SparseMatrixBase<OtherDerived>&) [with OtherDerived = Eigen::CwiseBinaryOp<Eigen::internal::scalar_product_op<double, double>, const Eigen::CwiseNullaryOp<Eigen::internal::scalar_constant_op<double>, const Eigen::Matrix<double, -1, -1> >, const Eigen::SparseMatrix<double, 0, int> >; _Scalar = double; int _Options = 0; _StorageIndex = int]’
mincut.cpp:76:60:   required from here
/home/biocbuild/bbs-3.13-bioc/R/library/RcppEigen/include/Eigen/src/Core/DenseCoeffsBase.h:55:30: warning: ignoring attributes on template argument ‘Eigen::internal::packet_traits<int>::type’ {aka ‘__vector(2) long long int’} [-Wignored-attributes]
/home/biocbuild/bbs-3.13-bioc/R/library/RcppEigen/include/Eigen/src/Core/DenseCoeffsBase.h: In instantiation of ‘class Eigen::DenseCoeffsBase<Eigen::CwiseNullaryOp<Eigen::internal::scalar_constant_op<int>, Eigen::Matrix<int, -1, 1> >, 0>’:
/home/biocbuild/bbs-3.13-bioc/R/library/RcppEigen/include/Eigen/src/Core/DenseBase.h:41:34:   required from ‘class Eigen::DenseBase<Eigen::CwiseNullaryOp<Eigen::internal::scalar_constant_op<int>, Eigen::Matrix<int, -1, 1> > >’
/home/biocbuild/bbs-3.13-bioc/R/library/RcppEigen/include/Eigen/src/Core/MatrixBase.h:48:34:   required from ‘class Eigen::MatrixBase<Eigen::CwiseNullaryOp<Eigen::internal::scalar_constant_op<int>, Eigen::Matrix<int, -1, 1> > >’
/home/biocbuild/bbs-3.13-bioc/R/library/RcppEigen/include/Eigen/src/Core/CwiseNullaryOp.h:60:7:   required from ‘class Eigen::CwiseNullaryOp<Eigen::internal::scalar_constant_op<int>, Eigen::Matrix<int, -1, 1> >’
/home/biocbuild/bbs-3.13-bioc/R/library/RcppEigen/include/Eigen/src/Core/CwiseNullaryOp.h:327:30:   required from ‘Derived& Eigen::DenseBase<Derived>::setConstant(const Scalar&) [with Derived = Eigen::Map<Eigen::Matrix<int, -1, 1>, 0, Eigen::Stride<0, 0> >; Eigen::DenseBase<Derived>::Scalar = int]’
/home/biocbuild/bbs-3.13-bioc/R/library/RcppEigen/include/Eigen/src/Core/CwiseNullaryOp.h:501:10:   required from ‘Derived& Eigen::DenseBase<Derived>::setZero() [with Derived = Eigen::Map<Eigen::Matrix<int, -1, 1>, 0, Eigen::Stride<0, 0> >]’
/home/biocbuild/bbs-3.13-bioc/R/library/RcppEigen/include/Eigen/src/SparseCore/SparseMatrix.h:1084:5:   required from ‘Eigen::SparseMatrix<_Scalar, _Options, _StorageIndex>& Eigen::SparseMatrix<_Scalar, _Flags, _StorageIndex>::operator=(const Eigen::SparseMatrixBase<OtherDerived>&) [with OtherDerived = Eigen::CwiseBinaryOp<Eigen::internal::scalar_product_op<double, double>, const Eigen::CwiseNullaryOp<Eigen::internal::scalar_constant_op<double>, const Eigen::Matrix<double, -1, -1> >, const Eigen::SparseMatrix<double, 0, int> >; _Scalar = double; int _Options = 0; _StorageIndex = int]’
/home/biocbuild/bbs-3.13-bioc/R/library/RcppEigen/include/Eigen/src/SparseCore/SparseMatrix.h:685:15:   required from ‘Eigen::SparseMatrix<_Scalar, _Flags, _StorageIndex>::SparseMatrix(const Eigen::SparseMatrixBase<OtherDerived>&) [with OtherDerived = Eigen::CwiseBinaryOp<Eigen::internal::scalar_product_op<double, double>, const Eigen::CwiseNullaryOp<Eigen::internal::scalar_constant_op<double>, const Eigen::Matrix<double, -1, -1> >, const Eigen::SparseMatrix<double, 0, int> >; _Scalar = double; int _Options = 0; _StorageIndex = int]’
mincut.cpp:76:60:   required from here
/home/biocbuild/bbs-3.13-bioc/R/library/RcppEigen/include/Eigen/src/Core/DenseCoeffsBase.h:55:30: warning: ignoring attributes on template argument ‘Eigen::internal::packet_traits<int>::type’ {aka ‘__vector(2) long long int’} [-Wignored-attributes]
/home/biocbuild/bbs-3.13-bioc/R/library/RcppEigen/include/Eigen/src/Core/DenseCoeffsBase.h: In instantiation of ‘Eigen::Index Eigen::internal::first_default_aligned(const Eigen::DenseBase<Derived>&) [with Derived = Eigen::Map<const Eigen::Matrix<int, -1, 1>, 0, Eigen::Stride<0, 0> >; Eigen::Index = long int]’:
/home/biocbuild/bbs-3.13-bioc/R/library/RcppEigen/include/Eigen/src/Core/Redux.h:225:63:   required from ‘static Eigen::internal::redux_impl<Func, Derived, 3, 0>::Scalar Eigen::internal::redux_impl<Func, Derived, 3, 0>::run(const Derived&, const Func&) [with Func = Eigen::internal::scalar_sum_op<int, int>; Derived = Eigen::internal::redux_evaluator<Eigen::Map<const Eigen::Matrix<int, -1, 1>, 0, Eigen::Stride<0, 0> > >; Eigen::internal::redux_impl<Func, Derived, 3, 0>::Scalar = int]’
/home/biocbuild/bbs-3.13-bioc/R/library/RcppEigen/include/Eigen/src/Core/Redux.h:418:56:   required from ‘typename Eigen::internal::traits<T>::Scalar Eigen::DenseBase<Derived>::redux(const Func&) const [with BinaryOp = Eigen::internal::scalar_sum_op<int, int>; Derived = Eigen::Map<const Eigen::Matrix<int, -1, 1>, 0, Eigen::Stride<0, 0> >; typename Eigen::internal::traits<T>::Scalar = int]’
/home/biocbuild/bbs-3.13-bioc/R/library/RcppEigen/include/Eigen/src/Core/Redux.h:453:73:   required from ‘typename Eigen::internal::traits<T>::Scalar Eigen::DenseBase<Derived>::sum() const [with Derived = Eigen::Map<const Eigen::Matrix<int, -1, 1>, 0, Eigen::Stride<0, 0> >; typename Eigen::internal::traits<T>::Scalar = int]’
/home/biocbuild/bbs-3.13-bioc/R/library/RcppEigen/include/Eigen/src/SparseCore/SparseCompressedBase.h:65:36:   required from ‘Eigen::Index Eigen::SparseCompressedBase<Derived>::nonZeros() const [with Derived = Eigen::SparseMatrix<double, 0, int>; Eigen::Index = long int]’
mincut.cpp:29:51:   required from here
/home/biocbuild/bbs-3.13-bioc/R/library/RcppEigen/include/Eigen/src/Core/DenseCoeffsBase.h:650:34: warning: ignoring attributes on template argument ‘Eigen::internal::packet_traits<int>::type’ {aka ‘__vector(2) long long int’} [-Wignored-attributes]
  650 |   return internal::first_aligned<int(unpacket_traits<DefaultPacketType>::alignment),Derived>(m);
      |                                  ^~~~~~~~~~~~~~~~~~~~~~~~~~~~~~~~~~~~~~~~~~~~~~~~~~
g++ -std=gnu++14 -I"/home/biocbuild/bbs-3.13-bioc/R/include" -DNDEBUG  -I'/home/biocbuild/bbs-3.13-bioc/R/library/Rcpp/include' -I'/home/biocbuild/bbs-3.13-bioc/R/library/RcppEigen/include' -I/usr/local/include  -std=c++11 -fopenmp -D_USE_KNETFILE -D_FILE_OFFSET_BITS=64 -U_FORTIFY_SOURCE -DBGZF_CACHE -I./lib `/home/biocbuild/bbs-3.13-bioc/R/bin/Rscript -e "Rcpp:::CxxFlags()"` -DEIGEN_PERMANENTLY_DISABLE_STUPID_WARNINGS -fopenmp -fpic  -g -O2  -Wall -c lib/maxflow/maxflow.cpp -o lib/maxflow/maxflow.o
ar -crus libmaxflow.a lib/maxflow/maxflow.o
ar: `u' modifier ignored since `D' is the default (see `U')
cp -r lib/maxflow "/home/biocbuild/bbs-3.13-bioc/R/library/00LOCK-martini/00new/martini/include"
mkdir -p "/home/biocbuild/bbs-3.13-bioc/R/library/00LOCK-martini/00new/martini/usrlib"
cp libmaxflow.a "/home/biocbuild/bbs-3.13-bioc/R/library/00LOCK-martini/00new/martini/usrlib"
g++ -std=gnu++14 -shared -L/home/biocbuild/bbs-3.13-bioc/R/lib -L/usr/local/lib -o martini.so RcppExports.o mincut.o -pthread -fopenmp /home/biocbuild/bbs-3.13-bioc/R/library/00LOCK-martini/00new/martini/usrlib/libmaxflow.a -fopenmp -pthread -L/home/biocbuild/bbs-3.13-bioc/R/lib -lR
installing to /home/biocbuild/bbs-3.13-bioc/R/library/00LOCK-martini/00new/martini/libs
** R
** data
*** moving datasets to lazyload DB
** inst
** byte-compile and prepare package for lazy loading
** help
*** installing help indices
** building package indices
** installing vignettes
** testing if installed package can be loaded from temporary location
** checking absolute paths in shared objects and dynamic libraries
** testing if installed package can be loaded from final location
** testing if installed package keeps a record of temporary installation path
* DONE (martini)

Tests output

martini.Rcheck/tests/testthat.Rout


R version 4.1.1 (2021-08-10) -- "Kick Things"
Copyright (C) 2021 The R Foundation for Statistical Computing
Platform: x86_64-pc-linux-gnu (64-bit)

R is free software and comes with ABSOLUTELY NO WARRANTY.
You are welcome to redistribute it under certain conditions.
Type 'license()' or 'licence()' for distribution details.

R is a collaborative project with many contributors.
Type 'contributors()' for more information and
'citation()' on how to cite R or R packages in publications.

Type 'demo()' for some demos, 'help()' for on-line help, or
'help.start()' for an HTML browser interface to help.
Type 'q()' to quit R.

> library(testthat)
> library(martini)
> library(igraph)

Attaching package: 'igraph'

The following object is masked from 'package:testthat':

    compare

The following objects are masked from 'package:stats':

    decompose, spectrum

The following object is masked from 'package:base':

    union

> 
> test_check("martini")
trying URL 'https://stringdb-static.org/download/protein.links.v11.0/9606.protein.links.v11.0.txt.gz'
Content type 'application/octet-stream' length 71241372 bytes (67.9 MB)
==================================================
downloaded 67.9 MB

══ Skipped tests ═══════════════════════════════════════════════════════════════
• On Bioconductor (3)

[ FAIL 0 | WARN 0 | SKIP 3 | PASS 232 ]
> 
> proc.time()
   user  system elapsed 
 79.825   2.958 139.022 

Example timings

martini.Rcheck/martini-Ex.timings

nameusersystemelapsed
check_installed000
get_GI_network0.0410.0000.041
get_GM_network0.0140.0000.014
get_GS_network0.0060.0000.006
get_grid0.0000.0030.003
get_gxg_biogrid000
get_gxg_string000
get_snp_modules000
is_coherent0.0000.0020.002
ldweight_edges0.0490.0000.049
mget_gxg_biogrid0.0010.0000.001
mget_gxg_string000
minigwas0.0230.0120.035
minippi0.0020.0000.002
minisnpMapping0.0020.0000.002
scones0.0370.0040.041
scones.cv0.1270.0000.127
scones.cv_0.0860.0000.085
scones_0.0260.0000.026
search_cones000
sigmod0.0210.0040.025
sigmod.cv0.120.000.12
sigmod.cv_0.0680.0000.068
sigmod_0.0290.0000.029
simulate_causal_snps0.0330.0000.034
simulate_phenotype0.0220.0120.033
subnet0.0250.0000.025
subvert0.0260.0000.025