Index of /checkResults/release/bioc-LATEST/maigesPack/raw-results/tokay2

[ICO]NameLast modifiedSizeDescription

[DIR]Parent Directory  -  
[TXT]buildbin-out.txt16-Oct-2021 04:06 7.6K 
[   ]buildbin-summary.dcf16-Oct-2021 04:06 557  
[TXT]buildsrc-out.txt16-Oct-2021 04:06 952  
[   ]buildsrc-summary.dcf16-Oct-2021 04:06 470  
[TXT]checksrc-out.txt16-Oct-2021 04:06 8.2K 
[   ]checksrc-summary.dcf16-Oct-2021 04:06 474  
[TXT]install-out.txt16-Oct-2021 04:06 8.3K 
[   ]install-summary.dcf16-Oct-2021 04:06 667