Back to Multiple platform build/check report for BioC 3.19:   simplified   long
ABCDEFGHIJKL[M]NOPQRSTUVWXYZ

This page was generated on 2024-06-11 14:41 -0400 (Tue, 11 Jun 2024).

HostnameOSArch (*)R versionInstalled pkgs
nebbiolo1Linux (Ubuntu 22.04.3 LTS)x86_644.4.0 (2024-04-24) -- "Puppy Cup" 4757
palomino3Windows Server 2022 Datacenterx644.4.0 (2024-04-24 ucrt) -- "Puppy Cup" 4491
lconwaymacOS 12.7.1 Montereyx86_644.4.0 (2024-04-24) -- "Puppy Cup" 4522
kjohnson3macOS 13.6.5 Venturaarm644.4.0 (2024-04-24) -- "Puppy Cup" 4468
Click on any hostname to see more info about the system (e.g. compilers)      (*) as reported by 'uname -p', except on Windows and Mac OS X

Package 1157/2300HostnameOS / ArchINSTALLBUILDCHECKBUILD BIN
maPredictDSC 1.42.0  (landing page)
Adi Laurentiu Tarca
Snapshot Date: 2024-06-09 14:00 -0400 (Sun, 09 Jun 2024)
git_url: https://git.bioconductor.org/packages/maPredictDSC
git_branch: RELEASE_3_19
git_last_commit: 3aadd87
git_last_commit_date: 2024-04-30 10:32:26 -0400 (Tue, 30 Apr 2024)
nebbiolo1Linux (Ubuntu 22.04.3 LTS) / x86_64  OK    OK    OK  UNNEEDED, same version is already published
palomino3Windows Server 2022 Datacenter / x64  OK    OK    OK    OK  UNNEEDED, same version is already published
lconwaymacOS 12.7.1 Monterey / x86_64  OK    OK    OK    OK  UNNEEDED, same version is already published
kjohnson3macOS 13.6.5 Ventura / arm64  OK    OK    OK    OK  UNNEEDED, same version is already published


CHECK results for maPredictDSC on palomino3

To the developers/maintainers of the maPredictDSC package:
- Allow up to 24 hours (and sometimes 48 hours) for your latest push to git@git.bioconductor.org:packages/maPredictDSC.git to reflect on this report. See Troubleshooting Build Report for more information.
- Use the following Renviron settings to reproduce errors and warnings.
- If 'R CMD check' started to fail recently on the Linux builder(s) over a missing dependency, add the missing dependency to 'Suggests:' in your DESCRIPTION file. See Renviron.bioc for more information.

raw results


Summary

Package: maPredictDSC
Version: 1.42.0
Command: F:\biocbuild\bbs-3.19-bioc\R\bin\R.exe CMD check --no-multiarch --install=check:maPredictDSC.install-out.txt --library=F:\biocbuild\bbs-3.19-bioc\R\library --no-vignettes --timings maPredictDSC_1.42.0.tar.gz
StartedAt: 2024-06-10 05:56:37 -0400 (Mon, 10 Jun 2024)
EndedAt: 2024-06-10 06:06:04 -0400 (Mon, 10 Jun 2024)
EllapsedTime: 566.6 seconds
RetCode: 0
Status:   OK  
CheckDir: maPredictDSC.Rcheck
Warnings: 0

Command output

##############################################################################
##############################################################################
###
### Running command:
###
###   F:\biocbuild\bbs-3.19-bioc\R\bin\R.exe CMD check --no-multiarch --install=check:maPredictDSC.install-out.txt --library=F:\biocbuild\bbs-3.19-bioc\R\library --no-vignettes --timings maPredictDSC_1.42.0.tar.gz
###
##############################################################################
##############################################################################


* using log directory 'F:/biocbuild/bbs-3.19-bioc/meat/maPredictDSC.Rcheck'
* using R version 4.4.0 (2024-04-24 ucrt)
* using platform: x86_64-w64-mingw32
* R was compiled by
    gcc.exe (GCC) 13.2.0
    GNU Fortran (GCC) 13.2.0
* running under: Windows Server 2022 x64 (build 20348)
* using session charset: UTF-8
* using option '--no-vignettes'
* checking for file 'maPredictDSC/DESCRIPTION' ... OK
* this is package 'maPredictDSC' version '1.42.0'
* checking package namespace information ... OK
* checking package dependencies ... NOTE
Depends: includes the non-default packages:
  'MASS', 'affy', 'limma', 'gcrma', 'ROC', 'class', 'e1071', 'caret',
  'hgu133plus2.db', 'ROCR', 'AnnotationDbi', 'LungCancerACvsSCCGEO'
Adding so many packages to the search path is excessive and importing
selectively is preferable.
* checking if this is a source package ... OK
* checking if there is a namespace ... OK
* checking for hidden files and directories ... OK
* checking for portable file names ... OK
* checking whether package 'maPredictDSC' can be installed ... OK
* checking installed package size ... OK
* checking package directory ... OK
* checking 'build' directory ... OK
* checking DESCRIPTION meta-information ... OK
* checking top-level files ... OK
* checking for left-over files ... OK
* checking index information ... OK
* checking package subdirectories ... OK
* checking code files for non-ASCII characters ... OK
* checking R files for syntax errors ... OK
* checking whether the package can be loaded ... OK
* checking whether the package can be loaded with stated dependencies ... OK
* checking whether the package can be unloaded cleanly ... OK
* checking whether the namespace can be loaded with stated dependencies ... OK
* checking whether the namespace can be unloaded cleanly ... OK
* checking dependencies in R code ... NOTE
'library' or 'require' calls to packages already attached by Depends:
  'ROC' 'ROCR' 'affy' 'caret' 'class' 'e1071' 'gcrma' 'limma'
  Please remove these calls from your code.
'library' or 'require' call to 'parallel' in package code.
  Please use :: or requireNamespace() instead.
  See section 'Suggested packages' in the 'Writing R Extensions' manual.
Packages in Depends field not imported from:
  'LungCancerACvsSCCGEO' 'ROC' 'ROCR' 'affy' 'caret' 'class' 'e1071'
  'gcrma' 'hgu133plus2.db' 'limma'
  These packages need to be imported from (in the NAMESPACE file)
  for when this namespace is loaded but not attached.
* checking S3 generic/method consistency ... OK
* checking replacement functions ... OK
* checking foreign function calls ... OK
* checking R code for possible problems ... NOTE
maPredictDSC: no visible global function definition for
  'installed.packages'
maPredictDSC: no visible global function definition for 'ReadAffy'
maPredictDSC: no visible global function definition for 'rma'
maPredictDSC: no visible global function definition for 'mas5'
maPredictDSC: no visible global function definition for 'gcrma'
maPredictDSC: no visible global function definition for 'exprs'
maPredictDSC: no visible global function definition for 'mas5calls'
maPredictDSC: no visible global function definition for 'createFolds'
maPredictDSC : mff: no visible global function definition for
  'model.matrix'
maPredictDSC : mff: no visible global function definition for 'formula'
maPredictDSC : mff: no visible global function definition for 'lmFit'
maPredictDSC : mff: no visible global function definition for
  'makeContrasts'
maPredictDSC : mff: no visible global function definition for
  'contrasts.fit'
maPredictDSC : mff: no visible global function definition for 'eBayes'
maPredictDSC : mff: no visible global function definition for
  'topTable'
maPredictDSC : mff: no visible global function definition for 'pt'
maPredictDSC : mff : wf: no visible global function definition for
  'wilcox.test'
maPredictDSC : mff: no visible global function definition for 'predict'
maPredictDSC : mff: no visible global function definition for 'knn'
maPredictDSC : mff: no visible global function definition for 'svm'
maPredictDSC : mff: no visible global function definition for
  'rocdemo.sca'
maPredictDSC : mff: no visible binding for global variable 'dxrule.sca'
maPredictDSC : mff: no visible global function definition for 'AUC'
maPredictDSC: no visible global function definition for 'mclapply'
maPredictDSC: no visible global function definition for 'sd'
maPredictDSC: no visible global function definition for 'model.matrix'
maPredictDSC: no visible global function definition for 'formula'
maPredictDSC: no visible global function definition for 'lmFit'
maPredictDSC: no visible global function definition for 'makeContrasts'
maPredictDSC: no visible global function definition for 'contrasts.fit'
maPredictDSC: no visible global function definition for 'eBayes'
maPredictDSC: no visible global function definition for 'topTable'
maPredictDSC: no visible global function definition for 'pt'
maPredictDSC : wf: no visible global function definition for
  'wilcox.test'
maPredictDSC: no visible global function definition for 'predict'
maPredictDSC: no visible global function definition for 'knn'
maPredictDSC: no visible global function definition for 'svm'
perfDSC: no visible global function definition for 'prediction'
perfDSC: no visible global function definition for 'performance'
perfDSC: no visible global function definition for 'na.omit'
perfDSC: no visible global function definition for 'trapezint'
perfDSC: no visible global function definition for 'rocdemo.sca'
perfDSC: no visible binding for global variable 'dxrule.sca'
perfDSC: no visible global function definition for 'AUC'
Undefined global functions or variables:
  AUC ReadAffy contrasts.fit createFolds dxrule.sca eBayes exprs
  formula gcrma installed.packages knn lmFit makeContrasts mas5
  mas5calls mclapply model.matrix na.omit performance predict
  prediction pt rma rocdemo.sca sd svm topTable trapezint wilcox.test
Consider adding
  importFrom("stats", "formula", "model.matrix", "na.omit", "predict",
             "pt", "sd", "wilcox.test")
  importFrom("utils", "installed.packages")
to your NAMESPACE file.
* checking Rd files ... OK
* checking Rd metadata ... OK
* checking Rd cross-references ... OK
* checking for missing documentation entries ... OK
* checking for code/documentation mismatches ... OK
* checking Rd \usage sections ... OK
* checking Rd contents ... OK
* checking for unstated dependencies in examples ... OK
* checking sizes of PDF files under 'inst/doc' ... OK
* checking files in 'vignettes' ... OK
* checking examples ... OK
Examples with CPU (user + system) or elapsed time > 5s
             user system elapsed
predictDSC 175.77   9.55  268.13
* checking for unstated dependencies in vignettes ... OK
* checking package vignettes ... OK
* checking running R code from vignettes ... SKIPPED
* checking re-building of vignette outputs ... SKIPPED
* checking PDF version of manual ... OK
* DONE

Status: 3 NOTEs
See
  'F:/biocbuild/bbs-3.19-bioc/meat/maPredictDSC.Rcheck/00check.log'
for details.


Installation output

maPredictDSC.Rcheck/00install.out

##############################################################################
##############################################################################
###
### Running command:
###
###   F:\biocbuild\bbs-3.19-bioc\R\bin\R.exe CMD INSTALL maPredictDSC
###
##############################################################################
##############################################################################


* installing to library 'F:/biocbuild/bbs-3.19-bioc/R/library'
* installing *source* package 'maPredictDSC' ...
** using staged installation
** R
** byte-compile and prepare package for lazy loading
** help
*** installing help indices
** building package indices
** installing vignettes
** testing if installed package can be loaded from temporary location
** testing if installed package can be loaded from final location
** testing if installed package keeps a record of temporary installation path
* DONE (maPredictDSC)

Tests output


Example timings

maPredictDSC.Rcheck/maPredictDSC-Ex.timings

nameusersystemelapsed
aggregateDSC000
perfDSC0.020.000.02
predictDSC175.77 9.55268.13