Switch to simplified report

Multiple platform build/check report for BioC 3.19

This page was generated on 2024-05-22 11:37:17 -0400 (Wed, 22 May 2024).

Approx. Package Snapshot Date (git pull): 2024-05-21 14:00:15 -0400 (Tue, 21 May 2024)

HostnameOSArch (*)R versionInstalled pkgs
nebbiolo1Linux (Ubuntu 22.04.3 LTS)x86_644.4.0 (2024-04-24) -- "Puppy Cup" 4751
palomino3Windows Server 2022 Datacenterx644.4.0 (2024-04-24 ucrt) -- "Puppy Cup" 4485
lconwaymacOS 12.7.1 Montereyx86_644.4.0 (2024-04-24) -- "Puppy Cup" 3444
Click on any hostname to see more info about the system (e.g. compilers)      (*) as reported by 'uname -p', except on Windows and Mac OS X

Package status is indicated by one of the following glyphs
  TIMEOUT  
INSTALL, BUILD, CHECK or BUILD BIN of package took more than 40 minutes
  ERROR  
Bad DESCRIPTION file, or INSTALL, BUILD or BUILD BIN of package failed, or CHECK produced errors
  WARNINGS  
CHECK of package produced warnings
  OK  
INSTALL, BUILD, CHECK or BUILD BIN of package went OK
  NA  
INSTALL, BUILD, CHECK or BUILD BIN result is not available because of an anomaly in the Build System
skipped
CHECK or BUILD BIN of package was skipped because the BUILD step failed
Click on any glyph in the report below to access the detailed report.
Package propagation status is indicated by one of the following LEDs
YES YES: Package was propagated because it didn't previously exist or version was bumped
NO NO: Package was not propagated because of a problem (impossible dependencies, or version lower than what is already propagated)
UNNEEDED UNNEEDED: Package was not propagated because it is already in the repository with this version. A version bump is required in order to propagate it

A crossed-out package name indicates the package is deprecated


QUICK STATSOS / ArchINSTALLBUILDCHECKBUILD BIN
nebbiolo1Linux (Ubuntu 22.04.3 LTS) / x86_64
0132287
0462254
1713711811
palomino3Windows Server 2022 Datacenter / x64
0162252
6542208
2423551809
002208
lconwaymacOS 12.7.1 Monterey / x86_64
010901198
012091079
171186821
091070
A
ABCDEFGHIJKLMNOPQRSTUVWXYZ
Package 1/2300HostnameOS / ArchINSTALLBUILDCHECKBUILD BIN
a4 1.52.0  (landing page)
Laure Cougnaud
git_last_commit: 1270e4d
git_last_commit_date: 2024-04-30 10:24:21 -0400
nebbiolo1Linux (Ubuntu 22.04.3 LTS) / x86_64  OK    OK    OK  UNNEEDED, same version is already published
palomino3Windows Server 2022 Datacenter / x64  OK    OK    OK    OK  UNNEEDED, same version is already published
lconwaymacOS 12.7.1 Monterey / x86_64  OK    ERROR  skippedskipped
kjohnson3macOS 13.6.5 Ventura / arm64see weekly results here
Package 2/2300HostnameOS / ArchINSTALLBUILDCHECKBUILD BIN
a4Base 1.52.0  (landing page)
Laure Cougnaud
git_last_commit: 7312ef9
git_last_commit_date: 2024-04-30 10:24:08 -0400
nebbiolo1Linux (Ubuntu 22.04.3 LTS) / x86_64  OK    OK    OK  UNNEEDED, same version is already published
palomino3Windows Server 2022 Datacenter / x64  OK    OK    OK    OK  UNNEEDED, same version is already published
lconwaymacOS 12.7.1 Monterey / x86_64  OK    OK    OK    OK  UNNEEDED, same version is already published
kjohnson3macOS 13.6.5 Ventura / arm64see weekly results here
Package 3/2300HostnameOS / ArchINSTALLBUILDCHECKBUILD BIN
a4Classif 1.52.0  (landing page)
Laure Cougnaud
git_last_commit: 0366c84
git_last_commit_date: 2024-04-30 10:24:14 -0400
nebbiolo1Linux (Ubuntu 22.04.3 LTS) / x86_64  OK    OK    OK  UNNEEDED, same version is already published
palomino3Windows Server 2022 Datacenter / x64  OK    OK    OK    OK  UNNEEDED, same version is already published
lconwaymacOS 12.7.1 Monterey / x86_64  OK    OK    OK    OK  UNNEEDED, same version is already published
kjohnson3macOS 13.6.5 Ventura / arm64see weekly results here
Package 4/2300HostnameOS / ArchINSTALLBUILDCHECKBUILD BIN
a4Core 1.52.0  (landing page)
Laure Cougnaud
git_last_commit: 13a748d
git_last_commit_date: 2024-04-30 10:24:16 -0400
nebbiolo1Linux (Ubuntu 22.04.3 LTS) / x86_64  OK    OK    OK  UNNEEDED, same version is already published
palomino3Windows Server 2022 Datacenter / x64  OK    OK    OK    OK  UNNEEDED, same version is already published
lconwaymacOS 12.7.1 Monterey / x86_64  OK    OK    OK    OK  UNNEEDED, same version is already published
kjohnson3macOS 13.6.5 Ventura / arm64see weekly results here
Package 5/2300HostnameOS / ArchINSTALLBUILDCHECKBUILD BIN
a4Preproc 1.52.0  (landing page)
Laure Cougnaud
git_last_commit: cfc6b6f
git_last_commit_date: 2024-04-30 10:24:11 -0400
nebbiolo1Linux (Ubuntu 22.04.3 LTS) / x86_64  OK    OK    OK  UNNEEDED, same version is already published
palomino3Windows Server 2022 Datacenter / x64  OK    OK    OK    OK  UNNEEDED, same version is already published
lconwaymacOS 12.7.1 Monterey / x86_64  OK    OK    OK    OK  UNNEEDED, same version is already published
kjohnson3macOS 13.6.5 Ventura / arm64see weekly results here
Package 6/2300HostnameOS / ArchINSTALLBUILDCHECKBUILD BIN
a4Reporting 1.52.0  (landing page)
Laure Cougnaud
git_last_commit: ce1eea6
git_last_commit_date: 2024-04-30 10:24:18 -0400
nebbiolo1Linux (Ubuntu 22.04.3 LTS) / x86_64  OK    OK    OK  UNNEEDED, same version is already published
palomino3Windows Server 2022 Datacenter / x64  OK    OK    OK    OK  UNNEEDED, same version is already published
lconwaymacOS 12.7.1 Monterey / x86_64  OK    OK    OK    OK  UNNEEDED, same version is already published
kjohnson3macOS 13.6.5 Ventura / arm64see weekly results here
Package 7/2300HostnameOS / ArchINSTALLBUILDCHECKBUILD BIN
ABarray 1.72.0  (landing page)
Yongming Andrew Sun
git_last_commit: d0660af
git_last_commit_date: 2024-04-30 10:15:35 -0400
nebbiolo1Linux (Ubuntu 22.04.3 LTS) / x86_64  OK    OK    OK  UNNEEDED, same version is already published
palomino3Windows Server 2022 Datacenter / x64  OK    OK    OK    OK  UNNEEDED, same version is already published
lconwaymacOS 12.7.1 Monterey / x86_64  OK    OK    OK    OK  UNNEEDED, same version is already published
kjohnson3macOS 13.6.5 Ventura / arm64see weekly results here
Package 8/2300HostnameOS / ArchINSTALLBUILDCHECKBUILD BIN
abseqR 1.22.0  (landing page)
JiaHong Fong
git_last_commit: 1d43107
git_last_commit_date: 2024-04-30 11:10:51 -0400
nebbiolo1Linux (Ubuntu 22.04.3 LTS) / x86_64  OK    OK    OK  UNNEEDED, same version is already published
palomino3Windows Server 2022 Datacenter / x64  OK    OK    OK    OK  UNNEEDED, same version is already published
lconwaymacOS 12.7.1 Monterey / x86_64  OK    OK    OK    OK  UNNEEDED, same version is already published
kjohnson3macOS 13.6.5 Ventura / arm64see weekly results here
Package 9/2300HostnameOS / ArchINSTALLBUILDCHECKBUILD BIN
ABSSeq 1.58.0  (landing page)
Wentao Yang
git_last_commit: 05f507f
git_last_commit_date: 2024-04-30 10:35:52 -0400
nebbiolo1Linux (Ubuntu 22.04.3 LTS) / x86_64  OK    OK    OK  UNNEEDED, same version is already published
palomino3Windows Server 2022 Datacenter / x64  OK    OK    OK    OK  UNNEEDED, same version is already published
lconwaymacOS 12.7.1 Monterey / x86_64  OK    OK    OK    OK  UNNEEDED, same version is already published
kjohnson3macOS 13.6.5 Ventura / arm64see weekly results here
Package 10/2300HostnameOS / ArchINSTALLBUILDCHECKBUILD BIN
acde 1.34.0  (landing page)
Juan Pablo Acosta
git_last_commit: e99a19b
git_last_commit_date: 2024-04-30 10:44:04 -0400
nebbiolo1Linux (Ubuntu 22.04.3 LTS) / x86_64  OK    OK    OK  UNNEEDED, same version is already published
palomino3Windows Server 2022 Datacenter / x64  OK    OK    OK    OK  UNNEEDED, same version is already published
lconwaymacOS 12.7.1 Monterey / x86_64  OK    OK    OK    OK  UNNEEDED, same version is already published
kjohnson3macOS 13.6.5 Ventura / arm64see weekly results here
Package 11/2300HostnameOS / ArchINSTALLBUILDCHECKBUILD BIN
ACE 1.22.0  (landing page)
Jos B Poell
git_last_commit: dce64ee
git_last_commit_date: 2024-04-30 11:07:49 -0400
nebbiolo1Linux (Ubuntu 22.04.3 LTS) / x86_64  OK    OK    OK  UNNEEDED, same version is already published
palomino3Windows Server 2022 Datacenter / x64  OK    OK    OK    OK  UNNEEDED, same version is already published
lconwaymacOS 12.7.1 Monterey / x86_64  OK    OK    OK    OK  UNNEEDED, same version is already published
kjohnson3macOS 13.6.5 Ventura / arm64see weekly results here
Package 12/2300HostnameOS / ArchINSTALLBUILDCHECKBUILD BIN
aCGH 1.82.0  (landing page)
Peter Dimitrov
git_last_commit: 617c195
git_last_commit_date: 2024-04-30 10:12:42 -0400
nebbiolo1Linux (Ubuntu 22.04.3 LTS) / x86_64  OK    OK    OK  UNNEEDED, same version is already published
palomino3Windows Server 2022 Datacenter / x64  OK    OK    OK    OK  UNNEEDED, same version is already published
lconwaymacOS 12.7.1 Monterey / x86_64  OK    OK    OK    OK  UNNEEDED, same version is already published
kjohnson3macOS 13.6.5 Ventura / arm64see weekly results here
Package 13/2300HostnameOS / ArchINSTALLBUILDCHECKBUILD BIN
ACME 2.60.0  (landing page)
Sean Davis
git_last_commit: 7a1f0e4
git_last_commit_date: 2024-04-30 10:16:39 -0400
nebbiolo1Linux (Ubuntu 22.04.3 LTS) / x86_64  OK    OK    WARNINGS  UNNEEDED, same version is already published
palomino3Windows Server 2022 Datacenter / x64  OK    OK    WARNINGS    OK  UNNEEDED, same version is already published
lconwaymacOS 12.7.1 Monterey / x86_64  OK    OK    OK    OK  UNNEEDED, same version is already published
kjohnson3macOS 13.6.5 Ventura / arm64see weekly results here
Package 14/2300HostnameOS / ArchINSTALLBUILDCHECKBUILD BIN
ADaCGH2 2.44.0  (landing page)
Ramon Diaz-Uriarte
git_last_commit: 8e4a752
git_last_commit_date: 2024-04-30 10:23:01 -0400
nebbiolo1Linux (Ubuntu 22.04.3 LTS) / x86_64  OK    OK    OK  UNNEEDED, same version is already published
palomino3Windows Server 2022 Datacenter / x64  OK    OK    OK    OK  UNNEEDED, same version is already published
lconwaymacOS 12.7.1 Monterey / x86_64  OK    OK    OK    OK  UNNEEDED, same version is already published
kjohnson3macOS 13.6.5 Ventura / arm64see weekly results here
Package 15/2300HostnameOS / ArchINSTALLBUILDCHECKBUILD BIN
ADAM 1.20.0  (landing page)
Jose Luiz Rybarczyk Filho
git_last_commit: 1e61670
git_last_commit_date: 2024-04-30 11:11:15 -0400
nebbiolo1Linux (Ubuntu 22.04.3 LTS) / x86_64  OK    OK    OK  UNNEEDED, same version is already published
palomino3Windows Server 2022 Datacenter / x64  OK    OK    OK    OK  UNNEEDED, same version is already published
lconwaymacOS 12.7.1 Monterey / x86_64  ERROR    ERROR  skippedskipped
kjohnson3macOS 13.6.5 Ventura / arm64see weekly results here
Package 16/2300HostnameOS / ArchINSTALLBUILDCHECKBUILD BIN
ADAMgui 1.20.0  (landing page)
Jose Luiz Rybarczyk Filho
git_last_commit: 2b9cb8d
git_last_commit_date: 2024-04-30 11:14:12 -0400
nebbiolo1Linux (Ubuntu 22.04.3 LTS) / x86_64  OK    OK    OK  UNNEEDED, same version is already published
palomino3Windows Server 2022 Datacenter / x64  OK    OK    OK    OK  UNNEEDED, same version is already published
lconwaymacOS 12.7.1 Monterey / x86_64  ERROR    ERROR  skippedskipped
kjohnson3macOS 13.6.5 Ventura / arm64see weekly results here
Package 17/2300HostnameOS / ArchINSTALLBUILDCHECKBUILD BIN
adductomicsR 1.20.0  (landing page)
Josie Hayes
git_last_commit: bc22c91
git_last_commit_date: 2024-04-30 11:12:06 -0400
nebbiolo1Linux (Ubuntu 22.04.3 LTS) / x86_64  OK    OK    WARNINGS  UNNEEDED, same version is already published
palomino3Windows Server 2022 Datacenter / x64  OK    OK    WARNINGS    OK  UNNEEDED, same version is already published
lconwaymacOS 12.7.1 Monterey / x86_64  OK    OK    WARNINGS    OK  UNNEEDED, same version is already published
kjohnson3macOS 13.6.5 Ventura / arm64see weekly results here
Package 18/2300HostnameOS / ArchINSTALLBUILDCHECKBUILD BIN
ADImpute 1.14.0  (landing page)
Ana Carolina Leote
git_last_commit: 835de28
git_last_commit_date: 2024-04-30 11:28:51 -0400
nebbiolo1Linux (Ubuntu 22.04.3 LTS) / x86_64  OK    OK    WARNINGS  UNNEEDED, same version is already published
palomino3Windows Server 2022 Datacenter / x64  OK    OK    WARNINGS    OK  UNNEEDED, same version is already published
lconwaymacOS 12.7.1 Monterey / x86_64  ERROR    ERROR  skippedskipped
kjohnson3macOS 13.6.5 Ventura / arm64see weekly results here
Package 19/2300HostnameOS / ArchINSTALLBUILDCHECKBUILD BIN
adSplit 1.74.0  (landing page)
Claudio Lottaz
git_last_commit: 3df3361
git_last_commit_date: 2024-04-30 10:15:03 -0400
nebbiolo1Linux (Ubuntu 22.04.3 LTS) / x86_64  OK    OK    OK  UNNEEDED, same version is already published
palomino3Windows Server 2022 Datacenter / x64  OK    OK    OK    OK  UNNEEDED, same version is already published
lconwaymacOS 12.7.1 Monterey / x86_64  OK    OK    OK    OK  UNNEEDED, same version is already published
kjohnson3macOS 13.6.5 Ventura / arm64see weekly results here
Package 20/2300HostnameOS / ArchINSTALLBUILDCHECKBUILD BIN
adverSCarial 1.2.0  (landing page)
Ghislain FIEVET
git_last_commit: 0edb731
git_last_commit_date: 2024-04-30 11:49:59 -0400
nebbiolo1Linux (Ubuntu 22.04.3 LTS) / x86_64  OK    OK    WARNINGS  UNNEEDED, same version is already published
palomino3Windows Server 2022 Datacenter / x64  OK    OK    WARNINGS    OK  UNNEEDED, same version is already published
lconwaymacOS 12.7.1 Monterey / x86_64  ERROR    ERROR  skippedskipped
kjohnson3macOS 13.6.5 Ventura / arm64see weekly results here
Package 21/2300HostnameOS / ArchINSTALLBUILDCHECKBUILD BIN
AffiXcan 1.22.0  (landing page)
Alessandro Lussana
git_last_commit: dfa441c
git_last_commit_date: 2024-04-30 11:09:44 -0400
nebbiolo1Linux (Ubuntu 22.04.3 LTS) / x86_64  OK    OK    OK  UNNEEDED, same version is already published
palomino3Windows Server 2022 Datacenter / x64  OK    OK    OK    OK  UNNEEDED, same version is already published
lconwaymacOS 12.7.1 Monterey / x86_64  ERROR    ERROR  skippedskipped
kjohnson3macOS 13.6.5 Ventura / arm64see weekly results here
Package 22/2300HostnameOS / ArchINSTALLBUILDCHECKBUILD BIN
affxparser 1.76.0  (landing page)
Kasper Daniel Hansen
git_last_commit: 4f86ff8
git_last_commit_date: 2024-04-30 10:14:29 -0400
nebbiolo1Linux (Ubuntu 22.04.3 LTS) / x86_64  OK    OK    WARNINGS  UNNEEDED, same version is already published
palomino3Windows Server 2022 Datacenter / x64  OK    OK    WARNINGS    OK  UNNEEDED, same version is already published
lconwaymacOS 12.7.1 Monterey / x86_64  OK    OK    WARNINGS    OK  UNNEEDED, same version is already published
kjohnson3macOS 13.6.5 Ventura / arm64see weekly results here
Package 23/2300HostnameOS / ArchINSTALLBUILDCHECKBUILD BIN
affy 1.82.0  (landing page)
Robert D. Shear
git_last_commit: fb130de
git_last_commit_date: 2024-04-30 10:11:11 -0400
nebbiolo1Linux (Ubuntu 22.04.3 LTS) / x86_64  OK    OK    WARNINGS  UNNEEDED, same version is already published
palomino3Windows Server 2022 Datacenter / x64  OK    OK    WARNINGS    OK  UNNEEDED, same version is already published
lconwaymacOS 12.7.1 Monterey / x86_64  OK    OK    WARNINGS    OK  UNNEEDED, same version is already published
kjohnson3macOS 13.6.5 Ventura / arm64see weekly results here
Package 24/2300HostnameOS / ArchINSTALLBUILDCHECKBUILD BIN
affycomp 1.80.0  (landing page)
Robert D. Shear
git_last_commit: 2b69f9c
git_last_commit_date: 2024-04-30 10:11:26 -0400
nebbiolo1Linux (Ubuntu 22.04.3 LTS) / x86_64  OK    OK    OK  UNNEEDED, same version is already published
palomino3Windows Server 2022 Datacenter / x64  OK    OK    OK    OK  UNNEEDED, same version is already published
lconwaymacOS 12.7.1 Monterey / x86_64  OK    OK    OK    OK  UNNEEDED, same version is already published
kjohnson3macOS 13.6.5 Ventura / arm64see weekly results here
Package 25/2300HostnameOS / ArchINSTALLBUILDCHECKBUILD BIN
affyContam 1.62.0  (landing page)
V. Carey
git_last_commit: b0ced2c
git_last_commit_date: 2024-04-30 10:19:01 -0400
nebbiolo1Linux (Ubuntu 22.04.3 LTS) / x86_64  OK    OK    OK  UNNEEDED, same version is already published
palomino3Windows Server 2022 Datacenter / x64  OK    OK    OK    OK  UNNEEDED, same version is already published
lconwaymacOS 12.7.1 Monterey / x86_64  OK    OK    OK    OK  UNNEEDED, same version is already published
kjohnson3macOS 13.6.5 Ventura / arm64see weekly results here
Package 26/2300HostnameOS / ArchINSTALLBUILDCHECKBUILD BIN
affycoretools 1.76.0  (landing page)
James W. MacDonald
git_last_commit: 4733a16
git_last_commit_date: 2024-04-30 10:14:41 -0400
nebbiolo1Linux (Ubuntu 22.04.3 LTS) / x86_64  OK    OK    OK  UNNEEDED, same version is already published
palomino3Windows Server 2022 Datacenter / x64  OK    OK    OK    OK  UNNEEDED, same version is already published
lconwaymacOS 12.7.1 Monterey / x86_64  ERROR    ERROR  skippedskipped
kjohnson3macOS 13.6.5 Ventura / arm64see weekly results here
Package 27/2300HostnameOS / ArchINSTALLBUILDCHECKBUILD BIN
affyILM 1.56.0  (landing page)
Myriam Kroll and Fabrice Berger
git_last_commit: ee60440
git_last_commit_date: 2024-04-30 10:22:05 -0400
nebbiolo1Linux (Ubuntu 22.04.3 LTS) / x86_64  OK    OK    OK  UNNEEDED, same version is already published
palomino3Windows Server 2022 Datacenter / x64  OK    OK    OK    OK  UNNEEDED, same version is already published
lconwaymacOS 12.7.1 Monterey / x86_64  OK    OK    OK    OK  UNNEEDED, same version is already published
kjohnson3macOS 13.6.5 Ventura / arm64see weekly results here
Package 28/2300HostnameOS / ArchINSTALLBUILDCHECKBUILD BIN
affyio 1.74.0  (landing page)
Ben Bolstad
git_last_commit: 1d0948e
git_last_commit_date: 2024-04-30 10:11:06 -0400
nebbiolo1Linux (Ubuntu 22.04.3 LTS) / x86_64  OK    OK    WARNINGS  UNNEEDED, same version is already published
palomino3Windows Server 2022 Datacenter / x64  OK    OK    WARNINGS    OK  UNNEEDED, same version is already published
lconwaymacOS 12.7.1 Monterey / x86_64  OK    OK    WARNINGS    OK  UNNEEDED, same version is already published
kjohnson3macOS 13.6.5 Ventura / arm64see weekly results here
Package 29/2300HostnameOS / ArchINSTALLBUILDCHECKBUILD BIN
affylmGUI 1.78.0  (landing page)
Gordon Smyth
git_last_commit: 2d8fe10
git_last_commit_date: 2024-04-30 10:12:27 -0400
nebbiolo1Linux (Ubuntu 22.04.3 LTS) / x86_64  OK    OK    OK  UNNEEDED, same version is already published
palomino3Windows Server 2022 Datacenter / x64  OK    OK    OK    OK  UNNEEDED, same version is already published
lconwaymacOS 12.7.1 Monterey / x86_64  OK    OK    OK    OK  UNNEEDED, same version is already published
kjohnson3macOS 13.6.5 Ventura / arm64see weekly results here
Package 30/2300HostnameOS / ArchINSTALLBUILDCHECKBUILD BIN
affyPLM 1.80.0  (landing page)
Ben Bolstad
git_last_commit: b0584ed
git_last_commit_date: 2024-04-30 10:11:47 -0400
nebbiolo1Linux (Ubuntu 22.04.3 LTS) / x86_64  OK    OK    WARNINGS  UNNEEDED, same version is already published
palomino3Windows Server 2022 Datacenter / x64  OK    OK    WARNINGS    OK  UNNEEDED, same version is already published
lconwaymacOS 12.7.1 Monterey / x86_64  OK    OK    OK    OK  UNNEEDED, same version is already published
kjohnson3macOS 13.6.5 Ventura / arm64see weekly results here
Package 31/2300HostnameOS / ArchINSTALLBUILDCHECKBUILD BIN
AffyRNADegradation 1.50.0  (landing page)
Mario Fasold
git_last_commit: 2be3cbc
git_last_commit_date: 2024-04-30 10:26:32 -0400
nebbiolo1Linux (Ubuntu 22.04.3 LTS) / x86_64  OK    OK    OK  UNNEEDED, same version is already published
palomino3Windows Server 2022 Datacenter / x64  OK    OK    OK    OK  UNNEEDED, same version is already published
lconwaymacOS 12.7.1 Monterey / x86_64  OK    OK    OK    OK  UNNEEDED, same version is already published
kjohnson3macOS 13.6.5 Ventura / arm64see weekly results here
Package 32/2300HostnameOS / ArchINSTALLBUILDCHECKBUILD BIN
AGDEX 1.52.0  (landing page)
Cuilan lani Gao
git_last_commit: 69fe01a
git_last_commit_date: 2024-04-30 10:25:41 -0400
nebbiolo1Linux (Ubuntu 22.04.3 LTS) / x86_64  OK    OK    OK  UNNEEDED, same version is already published
palomino3Windows Server 2022 Datacenter / x64  OK    OK    OK    OK  UNNEEDED, same version is already published
lconwaymacOS 12.7.1 Monterey / x86_64  OK    OK    OK    OK  UNNEEDED, same version is already published
kjohnson3macOS 13.6.5 Ventura / arm64see weekly results here
Package 33/2300HostnameOS / ArchINSTALLBUILDCHECKBUILD BIN
aggregateBioVar 1.14.0  (landing page)
Jason Ratcliff
git_last_commit: 53e2bd8
git_last_commit_date: 2024-04-30 11:27:33 -0400
nebbiolo1Linux (Ubuntu 22.04.3 LTS) / x86_64  OK    OK    OK  UNNEEDED, same version is already published
palomino3Windows Server 2022 Datacenter / x64  OK    OK    OK    OK  UNNEEDED, same version is already published
lconwaymacOS 12.7.1 Monterey / x86_64  ERROR    ERROR  skippedskipped
kjohnson3macOS 13.6.5 Ventura / arm64see weekly results here
Package 34/2300HostnameOS / ArchINSTALLBUILDCHECKBUILD BIN
agilp 3.36.0  (landing page)
Benny Chain
git_last_commit: 204ae10
git_last_commit_date: 2024-04-30 10:29:07 -0400
nebbiolo1Linux (Ubuntu 22.04.3 LTS) / x86_64  OK    OK    OK  UNNEEDED, same version is already published
palomino3Windows Server 2022 Datacenter / x64  OK    OK    OK    OK  UNNEEDED, same version is already published
lconwaymacOS 12.7.1 Monterey / x86_64  OK    OK    OK    OK  UNNEEDED, same version is already published
kjohnson3macOS 13.6.5 Ventura / arm64see weekly results here
Package 35/2300HostnameOS / ArchINSTALLBUILDCHECKBUILD BIN
AgiMicroRna 2.54.0  (landing page)
Pedro Lopez-Romero
git_last_commit: 2c8850f
git_last_commit_date: 2024-04-30 10:20:35 -0400
nebbiolo1Linux (Ubuntu 22.04.3 LTS) / x86_64  OK    OK    WARNINGS  UNNEEDED, same version is already published
palomino3Windows Server 2022 Datacenter / x64  OK    OK    WARNINGS    OK  UNNEEDED, same version is already published
lconwaymacOS 12.7.1 Monterey / x86_64  ERROR    ERROR  skippedskipped
kjohnson3macOS 13.6.5 Ventura / arm64see weekly results here
Package 36/2300HostnameOS / ArchINSTALLBUILDCHECKBUILD BIN
AHMassBank 1.4.0  (landing page)
Johannes Rainer
git_last_commit: bcc7fa7
git_last_commit_date: 2024-04-30 11:48:07 -0400
nebbiolo1Linux (Ubuntu 22.04.3 LTS) / x86_64  OK    OK    OK  UNNEEDED, same version is already published
palomino3Windows Server 2022 Datacenter / x64  OK    OK    OK    OK  UNNEEDED, same version is already published
lconwaymacOS 12.7.1 Monterey / x86_64  ERROR    ERROR  skippedskipped
kjohnson3macOS 13.6.5 Ventura / arm64see weekly results here
Package 37/2300HostnameOS / ArchINSTALLBUILDCHECKBUILD BIN
AIMS 1.36.0  (landing page)
Eric R Paquet
git_last_commit: 8c8f612
git_last_commit_date: 2024-04-30 10:40:40 -0400
nebbiolo1Linux (Ubuntu 22.04.3 LTS) / x86_64  OK    OK    OK  UNNEEDED, same version is already published
palomino3Windows Server 2022 Datacenter / x64  OK    OK    OK    OK  UNNEEDED, same version is already published
lconwaymacOS 12.7.1 Monterey / x86_64  OK    OK    OK    OK  UNNEEDED, same version is already published
kjohnson3macOS 13.6.5 Ventura / arm64see weekly results here
Package 38/2300HostnameOS / ArchINSTALLBUILDCHECKBUILD BIN
airpart 1.12.0  (landing page)
Wancen Mu
git_last_commit: 41e1b1b
git_last_commit_date: 2024-04-30 11:32:40 -0400
nebbiolo1Linux (Ubuntu 22.04.3 LTS) / x86_64  OK    OK    OK  UNNEEDED, same version is already published
palomino3Windows Server 2022 Datacenter / x64  OK    OK    OK    OK  UNNEEDED, same version is already published
lconwaymacOS 12.7.1 Monterey / x86_64  ERROR    ERROR  skippedskipped
kjohnson3macOS 13.6.5 Ventura / arm64see weekly results here
Package 39/2300HostnameOS / ArchINSTALLBUILDCHECKBUILD BIN
alabaster 1.4.0  (landing page)
Aaron Lun
git_last_commit: 67f4462
git_last_commit_date: 2024-04-30 11:47:44 -0400
nebbiolo1Linux (Ubuntu 22.04.3 LTS) / x86_64  OK    OK    OK  UNNEEDED, same version is already published
palomino3Windows Server 2022 Datacenter / x64  OK    OK    OK    OK  UNNEEDED, same version is already published
lconwaymacOS 12.7.1 Monterey / x86_64  ERROR    ERROR  skippedskipped
kjohnson3macOS 13.6.5 Ventura / arm64see weekly results here
Package 40/2300HostnameOS / ArchINSTALLBUILDCHECKBUILD BIN
alabaster.base 1.4.1  (landing page)
Aaron Lun
git_last_commit: be210ea
git_last_commit_date: 2024-05-03 03:04:31 -0400
nebbiolo1Linux (Ubuntu 22.04.3 LTS) / x86_64  OK    OK    WARNINGS  UNNEEDED, same version is already published
palomino3Windows Server 2022 Datacenter / x64  OK    OK    OK    OK  UNNEEDED, same version is already published
lconwaymacOS 12.7.1 Monterey / x86_64  OK    OK    WARNINGS    OK  UNNEEDED, same version is already published
kjohnson3macOS 13.6.5 Ventura / arm64see weekly results here
Package 41/2300HostnameOS / ArchINSTALLBUILDCHECKBUILD BIN
alabaster.bumpy 1.4.0  (landing page)
Aaron Lun
git_last_commit: 31e3931
git_last_commit_date: 2024-04-30 11:47:33 -0400
nebbiolo1Linux (Ubuntu 22.04.3 LTS) / x86_64  OK    OK    OK  UNNEEDED, same version is already published
palomino3Windows Server 2022 Datacenter / x64  OK    OK    OK    OK  UNNEEDED, same version is already published
lconwaymacOS 12.7.1 Monterey / x86_64  OK    OK    OK    OK  UNNEEDED, same version is already published
kjohnson3macOS 13.6.5 Ventura / arm64see weekly results here
Package 42/2300HostnameOS / ArchINSTALLBUILDCHECKBUILD BIN
alabaster.files 1.2.0  (landing page)
Aaron Lun
git_last_commit: f83d648
git_last_commit_date: 2024-04-30 11:50:16 -0400
nebbiolo1Linux (Ubuntu 22.04.3 LTS) / x86_64  OK    OK    OK  UNNEEDED, same version is already published
palomino3Windows Server 2022 Datacenter / x64  OK    OK    OK    OK  UNNEEDED, same version is already published
lconwaymacOS 12.7.1 Monterey / x86_64  OK    ERROR  skippedskipped
kjohnson3macOS 13.6.5 Ventura / arm64see weekly results here
Package 43/2300HostnameOS / ArchINSTALLBUILDCHECKBUILD BIN
alabaster.mae 1.4.0  (landing page)
Aaron Lun
git_last_commit: 4496e39
git_last_commit_date: 2024-04-30 11:47:36 -0400
nebbiolo1Linux (Ubuntu 22.04.3 LTS) / x86_64  OK    OK    OK  UNNEEDED, same version is already published
palomino3Windows Server 2022 Datacenter / x64  OK    OK    OK    OK  UNNEEDED, same version is already published
lconwaymacOS 12.7.1 Monterey / x86_64  ERROR    ERROR  skippedskipped
kjohnson3macOS 13.6.5 Ventura / arm64see weekly results here
Package 44/2300HostnameOS / ArchINSTALLBUILDCHECKBUILD BIN
alabaster.matrix 1.4.0  (landing page)
Aaron Lun
git_last_commit: d0aba74
git_last_commit_date: 2024-04-30 11:47:22 -0400
nebbiolo1Linux (Ubuntu 22.04.3 LTS) / x86_64  OK    OK    OK  UNNEEDED, same version is already published
palomino3Windows Server 2022 Datacenter / x64  OK    OK    OK    OK  UNNEEDED, same version is already published
lconwaymacOS 12.7.1 Monterey / x86_64  ERROR    ERROR  skippedskipped
kjohnson3macOS 13.6.5 Ventura / arm64see weekly results here
Package 45/2300HostnameOS / ArchINSTALLBUILDCHECKBUILD BIN
alabaster.ranges 1.4.1  (landing page)
Aaron Lun
git_last_commit: 4760e5b
git_last_commit_date: 2024-05-20 19:07:39 -0400
nebbiolo1Linux (Ubuntu 22.04.3 LTS) / x86_64  OK    OK    OK  YES
palomino3Windows Server 2022 Datacenter / x64  OK    OK    OK    OK  YES
lconwaymacOS 12.7.1 Monterey / x86_64  OK    OK    OK    OK  YES
kjohnson3macOS 13.6.5 Ventura / arm64see weekly results here
Package 46/2300HostnameOS / ArchINSTALLBUILDCHECKBUILD BIN
alabaster.sce 1.4.0  (landing page)
Aaron Lun
git_last_commit: 5d6e1fa
git_last_commit_date: 2024-04-30 11:47:28 -0400
nebbiolo1Linux (Ubuntu 22.04.3 LTS) / x86_64  OK    OK    OK  UNNEEDED, same version is already published
palomino3Windows Server 2022 Datacenter / x64  OK    OK    OK    OK  UNNEEDED, same version is already published
lconwaymacOS 12.7.1 Monterey / x86_64  ERROR    ERROR  skippedskipped
kjohnson3macOS 13.6.5 Ventura / arm64see weekly results here
Package 47/2300HostnameOS / ArchINSTALLBUILDCHECKBUILD BIN
alabaster.schemas 1.4.0  (landing page)
Aaron Lun
git_last_commit: f6c71eb
git_last_commit_date: 2024-04-30 11:47:08 -0400
nebbiolo1Linux (Ubuntu 22.04.3 LTS) / x86_64  OK    OK    OK  UNNEEDED, same version is already published
palomino3Windows Server 2022 Datacenter / x64  OK    OK    OK    OK  UNNEEDED, same version is already published
lconwaymacOS 12.7.1 Monterey / x86_64  OK    OK    OK    OK  UNNEEDED, same version is already published
kjohnson3macOS 13.6.5 Ventura / arm64see weekly results here
Package 48/2300HostnameOS / ArchINSTALLBUILDCHECKBUILD BIN
alabaster.se 1.4.1  (landing page)
Aaron Lun
git_last_commit: eb38c1c
git_last_commit_date: 2024-05-21 11:33:29 -0400
nebbiolo1Linux (Ubuntu 22.04.3 LTS) / x86_64  OK    OK    OK  YES
palomino3Windows Server 2022 Datacenter / x64  OK    OK    OK    OK  YES
lconwaymacOS 12.7.1 Monterey / x86_64  ERROR    ERROR  skippedskipped
kjohnson3macOS 13.6.5 Ventura / arm64see weekly results here
Package 49/2300HostnameOS / ArchINSTALLBUILDCHECKBUILD BIN
alabaster.spatial 1.4.0  (landing page)
Aaron Lun
git_last_commit: 8ea05f7
git_last_commit_date: 2024-04-30 11:47:30 -0400
nebbiolo1Linux (Ubuntu 22.04.3 LTS) / x86_64  OK    OK    OK  UNNEEDED, same version is already published
palomino3Windows Server 2022 Datacenter / x64  OK    OK    OK    OK  UNNEEDED, same version is already published
lconwaymacOS 12.7.1 Monterey / x86_64  ERROR    ERROR  skippedskipped
kjohnson3macOS 13.6.5 Ventura / arm64see weekly results here
Package 50/2300HostnameOS / ArchINSTALLBUILDCHECKBUILD BIN
alabaster.string 1.4.0  (landing page)
Aaron Lun
git_last_commit: 76512fc
git_last_commit_date: 2024-04-30 11:47:39 -0400
nebbiolo1Linux (Ubuntu 22.04.3 LTS) / x86_64  OK    OK    OK  UNNEEDED, same version is already published
palomino3Windows Server 2022 Datacenter / x64  OK    OK    OK    OK  UNNEEDED, same version is already published
lconwaymacOS 12.7.1 Monterey / x86_64  OK    OK    OK    OK  UNNEEDED, same version is already published
kjohnson3macOS 13.6.5 Ventura / arm64see weekly results here
Package 51/2300HostnameOS / ArchINSTALLBUILDCHECKBUILD BIN
alabaster.vcf 1.4.0  (landing page)
Aaron Lun
git_last_commit: 87779af
git_last_commit_date: 2024-04-30 11:47:41 -0400
nebbiolo1Linux (Ubuntu 22.04.3 LTS) / x86_64  OK    OK    OK  UNNEEDED, same version is already published
palomino3Windows Server 2022 Datacenter / x64  OK    OK    OK    OK  UNNEEDED, same version is already published
lconwaymacOS 12.7.1 Monterey / x86_64  ERROR    ERROR  skippedskipped
kjohnson3macOS 13.6.5 Ventura / arm64see weekly results here
Package 52/2300HostnameOS / ArchINSTALLBUILDCHECKBUILD BIN
ALDEx2 1.36.0  (landing page)
Greg Gloor
git_last_commit: c7a4c4b
git_last_commit_date: 2024-04-30 10:39:09 -0400
nebbiolo1Linux (Ubuntu 22.04.3 LTS) / x86_64  OK    OK    OK  UNNEEDED, same version is already published
palomino3Windows Server 2022 Datacenter / x64  OK    OK    OK    OK  UNNEEDED, same version is already published
lconwaymacOS 12.7.1 Monterey / x86_64  ERROR    ERROR  skippedskipped
kjohnson3macOS 13.6.5 Ventura / arm64see weekly results here
Package 53/2300HostnameOS / ArchINSTALLBUILDCHECKBUILD BIN
alevinQC 1.20.0  (landing page)
Charlotte Soneson
git_last_commit: fb2d731
git_last_commit_date: 2024-04-30 11:12:34 -0400
nebbiolo1Linux (Ubuntu 22.04.3 LTS) / x86_64  OK    OK    OK  UNNEEDED, same version is already published
palomino3Windows Server 2022 Datacenter / x64  OK    OK    OK    OK  UNNEEDED, same version is already published
lconwaymacOS 12.7.1 Monterey / x86_64  OK    OK    OK    OK  UNNEEDED, same version is already published
kjohnson3macOS 13.6.5 Ventura / arm64see weekly results here
Package 54/2300HostnameOS / ArchINSTALLBUILDCHECKBUILD BIN
AllelicImbalance 1.42.0  (landing page)
Jesper R Gadin
git_last_commit: 4dc686c
git_last_commit_date: 2024-04-30 10:33:42 -0400
nebbiolo1Linux (Ubuntu 22.04.3 LTS) / x86_64  OK    OK    OK  UNNEEDED, same version is already published
palomino3Windows Server 2022 Datacenter / x64  OK    OK    OK    OK  UNNEEDED, same version is already published
lconwaymacOS 12.7.1 Monterey / x86_64  ERROR    ERROR  skippedskipped
kjohnson3macOS 13.6.5 Ventura / arm64see weekly results here
Package 55/2300HostnameOS / ArchINSTALLBUILDCHECKBUILD BIN
AlphaBeta 1.18.0  (landing page)
Yadollah Shahryary Dizaji
git_last_commit: 95b1f5f
git_last_commit_date: 2024-04-30 11:16:22 -0400
nebbiolo1Linux (Ubuntu 22.04.3 LTS) / x86_64  OK    OK    OK  UNNEEDED, same version is already published
palomino3Windows Server 2022 Datacenter / x64  OK    OK    OK    OK  UNNEEDED, same version is already published
lconwaymacOS 12.7.1 Monterey / x86_64  OK    OK    OK    OK  UNNEEDED, same version is already published
kjohnson3macOS 13.6.5 Ventura / arm64see weekly results here
Package 56/2300HostnameOS / ArchINSTALLBUILDCHECKBUILD BIN
AlphaMissenseR 1.0.1  (landing page)
Martin Morgan
git_last_commit: 637b27f
git_last_commit_date: 2024-05-09 14:28:08 -0400
nebbiolo1Linux (Ubuntu 22.04.3 LTS) / x86_64  OK    OK    ERROR  
palomino3Windows Server 2022 Datacenter / x64  OK    OK    ERROR    OK  
lconwaymacOS 12.7.1 Monterey / x86_64  OK    ERROR  skippedskipped
kjohnson3macOS 13.6.5 Ventura / arm64see weekly results here
Package 57/2300HostnameOS / ArchINSTALLBUILDCHECKBUILD BIN
AlpsNMR 4.6.0  (landing page)
Sergio Oller Moreno
git_last_commit: 75a7fce
git_last_commit_date: 2024-04-30 11:29:26 -0400
nebbiolo1Linux (Ubuntu 22.04.3 LTS) / x86_64  OK    OK    OK  UNNEEDED, same version is already published
palomino3Windows Server 2022 Datacenter / x64  OK    OK    OK    OK  UNNEEDED, same version is already published
lconwaymacOS 12.7.1 Monterey / x86_64  OK    OK    ERROR    OK  
kjohnson3macOS 13.6.5 Ventura / arm64see weekly results here
Package 58/2300HostnameOS / ArchINSTALLBUILDCHECKBUILD BIN
altcdfenvs 2.66.0  (landing page)
Laurent Gautier
git_last_commit: 34a3f5b
git_last_commit_date: 2024-04-30 10:12:20 -0400
nebbiolo1Linux (Ubuntu 22.04.3 LTS) / x86_64  OK    OK    OK  UNNEEDED, same version is already published
palomino3Windows Server 2022 Datacenter / x64  OK    OK    OK    OK  UNNEEDED, same version is already published
lconwaymacOS 12.7.1 Monterey / x86_64  OK    OK    OK    OK  UNNEEDED, same version is already published
kjohnson3macOS 13.6.5 Ventura / arm64see weekly results here
Package 59/2300HostnameOS / ArchINSTALLBUILDCHECKBUILD BIN
AMARETTO 1.20.0  (landing page)
Olivier Gevaert
git_last_commit: f5a7f19
git_last_commit_date: 2024-04-30 11:13:14 -0400
nebbiolo1Linux (Ubuntu 22.04.3 LTS) / x86_64  OK    OK    WARNINGS  UNNEEDED, same version is already published
palomino3Windows Server 2022 Datacenter / x64  OK    OK    WARNINGS    OK  UNNEEDED, same version is already published
lconwaymacOS 12.7.1 Monterey / x86_64  ERROR    ERROR  skippedskipped
kjohnson3macOS 13.6.5 Ventura / arm64see weekly results here
Package 60/2300HostnameOS / ArchINSTALLBUILDCHECKBUILD BIN
AMOUNTAIN 1.30.0  (landing page)
Dong Li
git_last_commit: 358c532
git_last_commit_date: 2024-04-30 10:52:13 -0400
nebbiolo1Linux (Ubuntu 22.04.3 LTS) / x86_64  OK    OK    OK  UNNEEDED, same version is already published
palomino3Windows Server 2022 Datacenter / x64  OK    OK    OK    OK  UNNEEDED, same version is already published
lconwaymacOS 12.7.1 Monterey / x86_64  OK    OK    OK    OK  UNNEEDED, same version is already published
kjohnson3macOS 13.6.5 Ventura / arm64see weekly results here
Package 61/2300HostnameOS / ArchINSTALLBUILDCHECKBUILD BIN
amplican 1.26.0  (landing page)
Eivind Valen
git_last_commit: 0d1f719
git_last_commit_date: 2024-04-30 11:00:30 -0400
nebbiolo1Linux (Ubuntu 22.04.3 LTS) / x86_64  OK    OK    OK  UNNEEDED, same version is already published
palomino3Windows Server 2022 Datacenter / x64  OK    OK    OK    OK  UNNEEDED, same version is already published
lconwaymacOS 12.7.1 Monterey / x86_64  ERROR    ERROR  skippedskipped
kjohnson3macOS 13.6.5 Ventura / arm64see weekly results here
Package 62/2300HostnameOS / ArchINSTALLBUILDCHECKBUILD BIN
Anaquin 2.28.0  (landing page)
Ted Wong
git_last_commit: b547d11
git_last_commit_date: 2024-04-30 10:53:11 -0400
nebbiolo1Linux (Ubuntu 22.04.3 LTS) / x86_64  OK    OK    OK  UNNEEDED, same version is already published
palomino3Windows Server 2022 Datacenter / x64  OK    OK    OK    OK  UNNEEDED, same version is already published
lconwaymacOS 12.7.1 Monterey / x86_64  ERROR    ERROR  skippedskipped
kjohnson3macOS 13.6.5 Ventura / arm64see weekly results here
Package 63/2300HostnameOS / ArchINSTALLBUILDCHECKBUILD BIN
ANCOMBC 2.6.0  (landing page)
Huang Lin
git_last_commit: 8fcfec8
git_last_commit_date: 2024-04-30 11:26:51 -0400
nebbiolo1Linux (Ubuntu 22.04.3 LTS) / x86_64  OK    OK    OK  UNNEEDED, same version is already published
palomino3Windows Server 2022 Datacenter / x64  OK    OK    OK    OK  UNNEEDED, same version is already published
lconwaymacOS 12.7.1 Monterey / x86_64  ERROR    ERROR  skippedskipped
kjohnson3macOS 13.6.5 Ventura / arm64see weekly results here
Package 64/2300HostnameOS / ArchINSTALLBUILDCHECKBUILD BIN
AneuFinder 1.32.0  (landing page)
Aaron Taudt
git_last_commit: c7a1f18
git_last_commit_date: 2024-04-30 10:49:35 -0400
nebbiolo1Linux (Ubuntu 22.04.3 LTS) / x86_64  OK    OK    OK  UNNEEDED, same version is already published
palomino3Windows Server 2022 Datacenter / x64  OK    OK    OK    OK  UNNEEDED, same version is already published
lconwaymacOS 12.7.1 Monterey / x86_64  ERROR    ERROR  skippedskipped
kjohnson3macOS 13.6.5 Ventura / arm64see weekly results here
Package 65/2300HostnameOS / ArchINSTALLBUILDCHECKBUILD BIN
ANF 1.26.0  (landing page)
Tianle Ma
git_last_commit: 4177bef
git_last_commit_date: 2024-04-30 11:01:21 -0400
nebbiolo1Linux (Ubuntu 22.04.3 LTS) / x86_64  OK    OK    OK  UNNEEDED, same version is already published
palomino3Windows Server 2022 Datacenter / x64  OK    OK    OK    OK  UNNEEDED, same version is already published
lconwaymacOS 12.7.1 Monterey / x86_64  OK    OK    OK    OK  UNNEEDED, same version is already published
kjohnson3macOS 13.6.5 Ventura / arm64see weekly results here
Package 66/2300HostnameOS / ArchINSTALLBUILDCHECKBUILD BIN
animalcules 1.20.0  (landing page)
Jessica McClintock
git_last_commit: bed4447
git_last_commit_date: 2024-04-30 11:14:46 -0400
nebbiolo1Linux (Ubuntu 22.04.3 LTS) / x86_64  OK    OK    OK  UNNEEDED, same version is already published
palomino3Windows Server 2022 Datacenter / x64  OK    OK    OK    OK  UNNEEDED, same version is already published
lconwaymacOS 12.7.1 Monterey / x86_64  ERROR    ERROR  skippedskipped
kjohnson3macOS 13.6.5 Ventura / arm64see weekly results here
Package 67/2300HostnameOS / ArchINSTALLBUILDCHECKBUILD BIN
annaffy 1.76.0  (landing page)
Colin A. Smith
git_last_commit: 9a34961
git_last_commit_date: 2024-04-30 10:11:35 -0400
nebbiolo1Linux (Ubuntu 22.04.3 LTS) / x86_64  OK    OK    WARNINGS  UNNEEDED, same version is already published
palomino3Windows Server 2022 Datacenter / x64  OK    OK    WARNINGS    OK  UNNEEDED, same version is already published
lconwaymacOS 12.7.1 Monterey / x86_64  OK    OK    WARNINGS    OK  UNNEEDED, same version is already published
kjohnson3macOS 13.6.5 Ventura / arm64see weekly results here
Package 68/2300HostnameOS / ArchINSTALLBUILDCHECKBUILD BIN
annmap 1.46.0  (landing page)
Chris Wirth
git_last_commit: e6a0bcc
git_last_commit_date: 2024-04-30 10:27:57 -0400
nebbiolo1Linux (Ubuntu 22.04.3 LTS) / x86_64  OK    OK    WARNINGS  UNNEEDED, same version is already published
palomino3Windows Server 2022 Datacenter / x64... NOT SUPPORTED ...
lconwaymacOS 12.7.1 Monterey / x86_64  OK    OK    ERROR    OK  
kjohnson3macOS 13.6.5 Ventura / arm64see weekly results here
Package 69/2300HostnameOS / ArchINSTALLBUILDCHECKBUILD BIN
annotate 1.82.0  (landing page)
Bioconductor Package Maintainer
git_last_commit: 9710d81
git_last_commit_date: 2024-04-30 10:10:49 -0400
nebbiolo1Linux (Ubuntu 22.04.3 LTS) / x86_64  OK    OK    OK  UNNEEDED, same version is already published
palomino3Windows Server 2022 Datacenter / x64  OK    OK    ERROR    OK  
lconwaymacOS 12.7.1 Monterey / x86_64  OK    OK    OK    OK  UNNEEDED, same version is already published
kjohnson3macOS 13.6.5 Ventura / arm64see weekly results here
Package 70/2300HostnameOS / ArchINSTALLBUILDCHECKBUILD BIN
AnnotationDbi 1.66.0  (landing page)
Bioconductor Package Maintainer
git_last_commit: 989c1dc
git_last_commit_date: 2024-04-30 10:16:08 -0400
nebbiolo1Linux (Ubuntu 22.04.3 LTS) / x86_64  OK    OK    WARNINGS  UNNEEDED, same version is already published
palomino3Windows Server 2022 Datacenter / x64  OK    OK    WARNINGS    OK  UNNEEDED, same version is already published
lconwaymacOS 12.7.1 Monterey / x86_64  OK    ERROR  skippedskipped
kjohnson3macOS 13.6.5 Ventura / arm64see weekly results here
Package 71/2300HostnameOS / ArchINSTALLBUILDCHECKBUILD BIN
AnnotationFilter 1.28.0  (landing page)
Bioconductor Package Maintainer
git_last_commit: 61709ad
git_last_commit_date: 2024-04-30 10:57:18 -0400
nebbiolo1Linux (Ubuntu 22.04.3 LTS) / x86_64  OK    OK    OK  UNNEEDED, same version is already published
palomino3Windows Server 2022 Datacenter / x64  OK    OK    OK    OK  UNNEEDED, same version is already published
lconwaymacOS 12.7.1 Monterey / x86_64  OK    OK    OK    OK  UNNEEDED, same version is already published
kjohnson3macOS 13.6.5 Ventura / arm64see weekly results here
Package 72/2300HostnameOS / ArchINSTALLBUILDCHECKBUILD BIN
AnnotationForge 1.46.0  (landing page)
Bioconductor Package Maintainer
git_last_commit: 50d6713
git_last_commit_date: 2024-04-30 10:28:08 -0400
nebbiolo1Linux (Ubuntu 22.04.3 LTS) / x86_64  OK    OK    OK  UNNEEDED, same version is already published
palomino3Windows Server 2022 Datacenter / x64  OK    OK    OK    OK  UNNEEDED, same version is already published
lconwaymacOS 12.7.1 Monterey / x86_64  OK    ERROR  skippedskipped
kjohnson3macOS 13.6.5 Ventura / arm64see weekly results here
Package 73/2300HostnameOS / ArchINSTALLBUILDCHECKBUILD BIN
AnnotationHub 3.12.0  (landing page)
Bioconductor Package Maintainer
git_last_commit: 7c17d78
git_last_commit_date: 2024-04-30 10:31:16 -0400
nebbiolo1Linux (Ubuntu 22.04.3 LTS) / x86_64  OK    OK    OK  UNNEEDED, same version is already published
palomino3Windows Server 2022 Datacenter / x64  OK    OK    OK    OK  UNNEEDED, same version is already published
lconwaymacOS 12.7.1 Monterey / x86_64  OK    ERROR  skippedskipped
kjohnson3macOS 13.6.5 Ventura / arm64see weekly results here
Package 74/2300HostnameOS / ArchINSTALLBUILDCHECKBUILD BIN
AnnotationHubData 1.34.0  (landing page)
Bioconductor Package Maintainer
git_last_commit: f7d9109
git_last_commit_date: 2024-04-30 10:45:30 -0400
nebbiolo1Linux (Ubuntu 22.04.3 LTS) / x86_64  OK    OK    WARNINGS  UNNEEDED, same version is already published
palomino3Windows Server 2022 Datacenter / x64  OK    OK    WARNINGS    OK  UNNEEDED, same version is already published
lconwaymacOS 12.7.1 Monterey / x86_64  ERROR    ERROR  skippedskipped
kjohnson3macOS 13.6.5 Ventura / arm64see weekly results here
Package 75/2300HostnameOS / ArchINSTALLBUILDCHECKBUILD BIN
annotationTools 1.78.0  (landing page)
Alexandre Kuhn
git_last_commit: 77efe7f
git_last_commit_date: 2024-04-30 10:16:31 -0400
nebbiolo1Linux (Ubuntu 22.04.3 LTS) / x86_64  OK    OK    OK  UNNEEDED, same version is already published
palomino3Windows Server 2022 Datacenter / x64  OK    OK    OK    OK  UNNEEDED, same version is already published
lconwaymacOS 12.7.1 Monterey / x86_64  OK    OK    OK    OK  UNNEEDED, same version is already published
kjohnson3macOS 13.6.5 Ventura / arm64see weekly results here
Package 76/2300HostnameOS / ArchINSTALLBUILDCHECKBUILD BIN
annotatr 1.30.0  (landing page)
Raymond G. Cavalcante
git_last_commit: aa1c8ba
git_last_commit_date: 2024-04-30 10:54:39 -0400
nebbiolo1Linux (Ubuntu 22.04.3 LTS) / x86_64  OK    OK    OK  UNNEEDED, same version is already published
palomino3Windows Server 2022 Datacenter / x64  OK    OK    OK    OK  UNNEEDED, same version is already published
lconwaymacOS 12.7.1 Monterey / x86_64  ERROR    ERROR  skippedskipped
kjohnson3macOS 13.6.5 Ventura / arm64see weekly results here
Package 77/2300HostnameOS / ArchINSTALLBUILDCHECKBUILD BIN
anota 1.52.0  (landing page)
Ola Larsson
git_last_commit: 73a9d51
git_last_commit_date: 2024-04-30 10:24:23 -0400
nebbiolo1Linux (Ubuntu 22.04.3 LTS) / x86_64  OK    OK    OK  UNNEEDED, same version is already published
palomino3Windows Server 2022 Datacenter / x64  OK    OK    OK    OK  UNNEEDED, same version is already published
lconwaymacOS 12.7.1 Monterey / x86_64  OK    OK    OK    OK  UNNEEDED, same version is already published
kjohnson3macOS 13.6.5 Ventura / arm64see weekly results here
Package 78/2300HostnameOS / ArchINSTALLBUILDCHECKBUILD BIN
anota2seq 1.26.0  (landing page)
Christian Oertlin , Ola Larsson
git_last_commit: 9699192
git_last_commit_date: 2024-04-30 11:01:24 -0400
nebbiolo1Linux (Ubuntu 22.04.3 LTS) / x86_64  OK    OK    WARNINGS  UNNEEDED, same version is already published
palomino3Windows Server 2022 Datacenter / x64  OK    OK    OK    OK  UNNEEDED, same version is already published
lconwaymacOS 12.7.1 Monterey / x86_64  ERROR    ERROR  skippedskipped
kjohnson3macOS 13.6.5 Ventura / arm64see weekly results here
Package 79/2300HostnameOS / ArchINSTALLBUILDCHECKBUILD BIN
antiProfiles 1.44.0  (landing page)
Hector Corrada Bravo
git_last_commit: d4ac485
git_last_commit_date: 2024-04-30 10:31:31 -0400
nebbiolo1Linux (Ubuntu 22.04.3 LTS) / x86_64  OK    OK    OK  UNNEEDED, same version is already published
palomino3Windows Server 2022 Datacenter / x64  OK    OK    OK    OK  UNNEEDED, same version is already published
lconwaymacOS 12.7.1 Monterey / x86_64  OK    OK    OK    OK  UNNEEDED, same version is already published
kjohnson3macOS 13.6.5 Ventura / arm64see weekly results here
Package 80/2300HostnameOS / ArchINSTALLBUILDCHECKBUILD BIN
AnVIL 1.16.0  (landing page)
Marcel Ramos
git_last_commit: c4ed2db
git_last_commit_date: 2024-04-30 11:24:08 -0400
nebbiolo1Linux (Ubuntu 22.04.3 LTS) / x86_64  OK    OK    WARNINGS  UNNEEDED, same version is already published
palomino3Windows Server 2022 Datacenter / x64  OK    OK    WARNINGS    OK  UNNEEDED, same version is already published
lconwaymacOS 12.7.1 Monterey / x86_64  OK    OK    WARNINGS    OK  UNNEEDED, same version is already published
kjohnson3macOS 13.6.5 Ventura / arm64see weekly results here
Package 81/2300HostnameOS / ArchINSTALLBUILDCHECKBUILD BIN
AnVILBilling 1.14.0  (landing page)
Vince Carey
git_last_commit: 4f76977
git_last_commit_date: 2024-04-30 11:28:46 -0400
nebbiolo1Linux (Ubuntu 22.04.3 LTS) / x86_64  OK    OK    OK  UNNEEDED, same version is already published
palomino3Windows Server 2022 Datacenter / x64  OK    OK    OK    OK  UNNEEDED, same version is already published
lconwaymacOS 12.7.1 Monterey / x86_64  OK    OK    OK    OK  UNNEEDED, same version is already published
kjohnson3macOS 13.6.5 Ventura / arm64see weekly results here
Package 82/2300HostnameOS / ArchINSTALLBUILDCHECKBUILD BIN
AnVILPublish 1.14.0  (landing page)
Marcel Ramos
git_last_commit: 5012b42
git_last_commit_date: 2024-04-30 11:28:19 -0400
nebbiolo1Linux (Ubuntu 22.04.3 LTS) / x86_64  OK    OK    OK  UNNEEDED, same version is already published
palomino3Windows Server 2022 Datacenter / x64  OK    OK    OK    OK  UNNEEDED, same version is already published
lconwaymacOS 12.7.1 Monterey / x86_64  OK    OK    OK    OK  UNNEEDED, same version is already published
kjohnson3macOS 13.6.5 Ventura / arm64see weekly results here
Package 83/2300HostnameOS / ArchINSTALLBUILDCHECKBUILD BIN
AnVILWorkflow 1.4.0  (landing page)
Sehyun Oh
git_last_commit: c7d0e1b
git_last_commit_date: 2024-04-30 11:47:14 -0400
nebbiolo1Linux (Ubuntu 22.04.3 LTS) / x86_64  OK    OK    WARNINGS  UNNEEDED, same version is already published
palomino3Windows Server 2022 Datacenter / x64  OK    OK    WARNINGS    OK  UNNEEDED, same version is already published
lconwaymacOS 12.7.1 Monterey / x86_64  OK    OK    WARNINGS    OK  UNNEEDED, same version is already published
kjohnson3macOS 13.6.5 Ventura / arm64see weekly results here
Package 84/2300HostnameOS / ArchINSTALLBUILDCHECKBUILD BIN
APAlyzer 1.18.0  (landing page)
Ruijia Wang
git_last_commit: 2f81d23
git_last_commit_date: 2024-04-30 11:16:25 -0400
nebbiolo1Linux (Ubuntu 22.04.3 LTS) / x86_64  OK    OK    WARNINGS  UNNEEDED, same version is already published
palomino3Windows Server 2022 Datacenter / x64  OK    OK    WARNINGS    OK  UNNEEDED, same version is already published
lconwaymacOS 12.7.1 Monterey / x86_64  ERROR    ERROR  skippedskipped
kjohnson3macOS 13.6.5 Ventura / arm64see weekly results here
Package 85/2300HostnameOS / ArchINSTALLBUILDCHECKBUILD BIN
apComplex 2.70.0  (landing page)
Denise Scholtens
git_last_commit: fed5999
git_last_commit_date: 2024-04-30 10:13:29 -0400
nebbiolo1Linux (Ubuntu 22.04.3 LTS) / x86_64  OK    OK    OK  UNNEEDED, same version is already published
palomino3Windows Server 2022 Datacenter / x64  OK    OK    OK    OK  UNNEEDED, same version is already published
lconwaymacOS 12.7.1 Monterey / x86_64  OK    OK    OK    OK  UNNEEDED, same version is already published
kjohnson3macOS 13.6.5 Ventura / arm64see weekly results here
Package 86/2300HostnameOS / ArchINSTALLBUILDCHECKBUILD BIN
apeglm 1.26.0  (landing page)
Anqi Zhu
git_last_commit: cfac223
git_last_commit_date: 2024-04-30 11:00:17 -0400
nebbiolo1Linux (Ubuntu 22.04.3 LTS) / x86_64  OK    OK    OK  UNNEEDED, same version is already published
palomino3Windows Server 2022 Datacenter / x64  OK    OK    OK    OK  UNNEEDED, same version is already published
lconwaymacOS 12.7.1 Monterey / x86_64  ERROR    ERROR  skippedskipped
kjohnson3macOS 13.6.5 Ventura / arm64see weekly results here
Package 87/2300HostnameOS / ArchINSTALLBUILDCHECKBUILD BIN
APL 1.8.0  (landing page)
Clemens Kohl
git_last_commit: 243dbb8
git_last_commit_date: 2024-04-30 11:42:44 -0400
nebbiolo1Linux (Ubuntu 22.04.3 LTS) / x86_64  OK    OK    OK  UNNEEDED, same version is already published
palomino3Windows Server 2022 Datacenter / x64  OK    OK    OK    OK  UNNEEDED, same version is already published
lconwaymacOS 12.7.1 Monterey / x86_64  ERROR    ERROR  skippedskipped
kjohnson3macOS 13.6.5 Ventura / arm64see weekly results here
Package 88/2300HostnameOS / ArchINSTALLBUILDCHECKBUILD BIN
appreci8R 1.22.0  (landing page)
Sarah Sandmann
git_last_commit: 0629a87
git_last_commit_date: 2024-04-30 11:07:43 -0400
nebbiolo1Linux (Ubuntu 22.04.3 LTS) / x86_64  OK    OK    OK  UNNEEDED, same version is already published
palomino3Windows Server 2022 Datacenter / x64  OK    OK    OK    OK  UNNEEDED, same version is already published
lconwaymacOS 12.7.1 Monterey / x86_64  ERROR    ERROR  skippedskipped
kjohnson3macOS 13.6.5 Ventura / arm64see weekly results here
Package 89/2300HostnameOS / ArchINSTALLBUILDCHECKBUILD BIN
aroma.light 3.34.0  (landing page)
Henrik Bengtsson
git_last_commit: 8ae145c
git_last_commit_date: 2024-04-30 10:15:42 -0400
nebbiolo1Linux (Ubuntu 22.04.3 LTS) / x86_64  OK    OK    OK  UNNEEDED, same version is already published
palomino3Windows Server 2022 Datacenter / x64  OK    OK    OK    OK  UNNEEDED, same version is already published
lconwaymacOS 12.7.1 Monterey / x86_64  OK    OK    OK    OK  UNNEEDED, same version is already published
kjohnson3macOS 13.6.5 Ventura / arm64see weekly results here
Package 90/2300HostnameOS / ArchINSTALLBUILDCHECKBUILD BIN
ArrayExpress 1.64.0  (landing page)
Jose Marugan
git_last_commit: d95a2bf
git_last_commit_date: 2024-04-30 10:18:48 -0400
nebbiolo1Linux (Ubuntu 22.04.3 LTS) / x86_64  OK    OK    OK  UNNEEDED, same version is already published
palomino3Windows Server 2022 Datacenter / x64  OK    OK    OK    OK  UNNEEDED, same version is already published
lconwaymacOS 12.7.1 Monterey / x86_64  ERROR    ERROR  skippedskipped
kjohnson3macOS 13.6.5 Ventura / arm64see weekly results here
Package 91/2300HostnameOS / ArchINSTALLBUILDCHECKBUILD BIN
arrayMvout 1.62.0  (landing page)
V. Carey
git_last_commit: e02bb8e
git_last_commit_date: 2024-04-30 10:19:04 -0400
nebbiolo1Linux (Ubuntu 22.04.3 LTS) / x86_64  OK    OK    OK  UNNEEDED, same version is already published
palomino3Windows Server 2022 Datacenter / x64  OK    OK    OK    OK  UNNEEDED, same version is already published
lconwaymacOS 12.7.1 Monterey / x86_64  ERROR    ERROR  skippedskipped
kjohnson3macOS 13.6.5 Ventura / arm64see weekly results here
Package 92/2300HostnameOS / ArchINSTALLBUILDCHECKBUILD BIN
arrayQuality 1.82.0  (landing page)
Agnes Paquet
git_last_commit: 4c5e116
git_last_commit_date: 2024-04-30 10:12:22 -0400
nebbiolo1Linux (Ubuntu 22.04.3 LTS) / x86_64  OK    OK    WARNINGS  UNNEEDED, same version is already published
palomino3Windows Server 2022 Datacenter / x64  OK    OK    WARNINGS    OK  UNNEEDED, same version is already published
lconwaymacOS 12.7.1 Monterey / x86_64  OK    OK    WARNINGS    OK  UNNEEDED, same version is already published
kjohnson3macOS 13.6.5 Ventura / arm64see weekly results here
Package 93/2300HostnameOS / ArchINSTALLBUILDCHECKBUILD BIN
arrayQualityMetrics 3.60.0  (landing page)
Mike Smith
git_last_commit: 85b2952
git_last_commit_date: 2024-04-30 10:17:13 -0400
nebbiolo1Linux (Ubuntu 22.04.3 LTS) / x86_64  OK    OK    OK  UNNEEDED, same version is already published
palomino3Windows Server 2022 Datacenter / x64  OK    OK    OK    OK  UNNEEDED, same version is already published
lconwaymacOS 12.7.1 Monterey / x86_64  OK    OK    OK    OK  UNNEEDED, same version is already published
kjohnson3macOS 13.6.5 Ventura / arm64see weekly results here
Package 94/2300HostnameOS / ArchINSTALLBUILDCHECKBUILD BIN
ARRmNormalization 1.44.0  (landing page)
Jean-Philippe Fortin
git_last_commit: aff3728
git_last_commit_date: 2024-04-30 10:30:47 -0400
nebbiolo1Linux (Ubuntu 22.04.3 LTS) / x86_64  OK    OK    OK  UNNEEDED, same version is already published
palomino3Windows Server 2022 Datacenter / x64  OK    OK    OK    OK  UNNEEDED, same version is already published
lconwaymacOS 12.7.1 Monterey / x86_64  OK    OK    OK    OK  UNNEEDED, same version is already published
kjohnson3macOS 13.6.5 Ventura / arm64see weekly results here
Package 95/2300HostnameOS / ArchINSTALLBUILDCHECKBUILD BIN
artMS 1.22.0  (landing page)
David Jimenez-Morales
git_last_commit: b75f560
git_last_commit_date: 2024-04-30 11:10:48 -0400
nebbiolo1Linux (Ubuntu 22.04.3 LTS) / x86_64  OK    OK    OK  UNNEEDED, same version is already published
palomino3Windows Server 2022 Datacenter / x64  OK    OK    OK    OK  UNNEEDED, same version is already published
lconwaymacOS 12.7.1 Monterey / x86_64  OK    OK    OK    OK  UNNEEDED, same version is already published
kjohnson3macOS 13.6.5 Ventura / arm64see weekly results here
Package 96/2300HostnameOS / ArchINSTALLBUILDCHECKBUILD BIN
ASAFE 1.30.0  (landing page)
Qian Zhang
git_last_commit: 4d2dec3
git_last_commit_date: 2024-04-30 10:52:28 -0400
nebbiolo1Linux (Ubuntu 22.04.3 LTS) / x86_64  OK    OK    OK  UNNEEDED, same version is already published
palomino3Windows Server 2022 Datacenter / x64  OK    OK    OK    OK  UNNEEDED, same version is already published
lconwaymacOS 12.7.1 Monterey / x86_64  OK    OK    OK    OK  UNNEEDED, same version is already published
kjohnson3macOS 13.6.5 Ventura / arm64see weekly results here
Package 97/2300HostnameOS / ArchINSTALLBUILDCHECKBUILD BIN
ASEB 1.48.0  (landing page)
Likun Wang
git_last_commit: 4a8359e
git_last_commit_date: 2024-04-30 10:26:29 -0400
nebbiolo1Linux (Ubuntu 22.04.3 LTS) / x86_64  OK    OK    WARNINGS  UNNEEDED, same version is already published
palomino3Windows Server 2022 Datacenter / x64  OK    OK    OK    OK  UNNEEDED, same version is already published
lconwaymacOS 12.7.1 Monterey / x86_64  OK    OK    WARNINGS    OK  UNNEEDED, same version is already published
kjohnson3macOS 13.6.5 Ventura / arm64see weekly results here
Package 98/2300HostnameOS / ArchINSTALLBUILDCHECKBUILD BIN
ASGSCA 1.38.0  (landing page)
Hela Romdhani
git_last_commit: ab462ba
git_last_commit_date: 2024-04-30 10:39:29 -0400
nebbiolo1Linux (Ubuntu 22.04.3 LTS) / x86_64  OK    OK    OK  UNNEEDED, same version is already published
palomino3Windows Server 2022 Datacenter / x64  OK    OK    OK    OK  UNNEEDED, same version is already published
lconwaymacOS 12.7.1 Monterey / x86_64  OK    OK    OK    OK  UNNEEDED, same version is already published
kjohnson3macOS 13.6.5 Ventura / arm64see weekly results here
Package 99/2300HostnameOS / ArchINSTALLBUILDCHECKBUILD BIN
ASICS 2.20.0  (landing page)
Gaëlle Lefort
git_last_commit: 94de18c
git_last_commit_date: 2024-04-30 11:05:13 -0400
nebbiolo1Linux (Ubuntu 22.04.3 LTS) / x86_64  OK    OK    OK  UNNEEDED, same version is already published
palomino3Windows Server 2022 Datacenter / x64  OK    OK    OK    OK  UNNEEDED, same version is already published
lconwaymacOS 12.7.1 Monterey / x86_64  ERROR    ERROR  skippedskipped
kjohnson3macOS 13.6.5 Ventura / arm64see weekly results here
Package 100/2300HostnameOS / ArchINSTALLBUILDCHECKBUILD BIN
ASpli 2.14.0  (landing page)
Ariel Chernomoretz
git_last_commit: 11a1f6e
git_last_commit_date: 2024-04-30 10:52:43 -0400
nebbiolo1Linux (Ubuntu 22.04.3 LTS) / x86_64  OK    OK    WARNINGS  UNNEEDED, same version is already published
palomino3Windows Server 2022 Datacenter / x64  OK    OK    WARNINGS    OK  UNNEEDED, same version is already published
lconwaymacOS 12.7.1 Monterey / x86_64  ERROR    ERROR  skippedskipped
kjohnson3macOS 13.6.5 Ventura / arm64see weekly results here
Package 101/2300HostnameOS / ArchINSTALLBUILDCHECKBUILD BIN
AssessORF 1.22.0  (landing page)
Deepank Korandla
git_last_commit: 4bbec4f
git_last_commit_date: 2024-04-30 11:10:45 -0400
nebbiolo1Linux (Ubuntu 22.04.3 LTS) / x86_64  OK    OK    OK  UNNEEDED, same version is already published
palomino3Windows Server 2022 Datacenter / x64  OK    OK    OK    OK  UNNEEDED, same version is already published
lconwaymacOS 12.7.1 Monterey / x86_64  OK    OK    OK    OK  UNNEEDED, same version is already published
kjohnson3macOS 13.6.5 Ventura / arm64see weekly results here
Package 102/2300HostnameOS / ArchINSTALLBUILDCHECKBUILD BIN
ASSET 2.22.0  (landing page)
Samsiddhi Bhattacharjee
git_last_commit: 5b28cda
git_last_commit_date: 2024-04-30 10:33:06 -0400
nebbiolo1Linux (Ubuntu 22.04.3 LTS) / x86_64  OK    OK    OK  UNNEEDED, same version is already published
palomino3Windows Server 2022 Datacenter / x64  OK    OK    OK    OK  UNNEEDED, same version is already published
lconwaymacOS 12.7.1 Monterey / x86_64  OK    OK    OK    OK  UNNEEDED, same version is already published
kjohnson3macOS 13.6.5 Ventura / arm64see weekly results here
Package 103/2300HostnameOS / ArchINSTALLBUILDCHECKBUILD BIN
ASSIGN 1.40.0  (landing page)
Ying Shen , W. Evan Johnson
git_last_commit: 857753f
git_last_commit_date: 2024-04-30 10:35:49 -0400
nebbiolo1Linux (Ubuntu 22.04.3 LTS) / x86_64  OK    OK    OK  UNNEEDED, same version is already published
palomino3Windows Server 2022 Datacenter / x64  OK    OK    OK    OK  UNNEEDED, same version is already published
lconwaymacOS 12.7.1 Monterey / x86_64  OK    OK    OK    OK  UNNEEDED, same version is already published
kjohnson3macOS 13.6.5 Ventura / arm64see weekly results here
Package 104/2300HostnameOS / ArchINSTALLBUILDCHECKBUILD BIN
ASURAT 1.8.0  (landing page)
Keita Iida
git_last_commit: a233c14
git_last_commit_date: 2024-04-30 11:41:17 -0400
nebbiolo1Linux (Ubuntu 22.04.3 LTS) / x86_64  OK    OK    OK  UNNEEDED, same version is already published
palomino3Windows Server 2022 Datacenter / x64  OK    OK    OK    OK  UNNEEDED, same version is already published
lconwaymacOS 12.7.1 Monterey / x86_64  ERROR    ERROR  skippedskipped
kjohnson3macOS 13.6.5 Ventura / arm64see weekly results here
Package 105/2300HostnameOS / ArchINSTALLBUILDCHECKBUILD BIN
ATACCoGAPS 1.6.0  (landing page)
Rossin Erbe
git_last_commit: d9555fb
git_last_commit_date: 2024-04-30 11:43:31 -0400
nebbiolo1Linux (Ubuntu 22.04.3 LTS) / x86_64  OK    OK    OK  UNNEEDED, same version is already published
palomino3Windows Server 2022 Datacenter / x64  OK    OK    OK    OK  UNNEEDED, same version is already published
lconwaymacOS 12.7.1 Monterey / x86_64  ERROR    ERROR  skippedskipped
kjohnson3macOS 13.6.5 Ventura / arm64see weekly results here
Package 106/2300HostnameOS / ArchINSTALLBUILDCHECKBUILD BIN
ATACseqQC 1.28.0  (landing page)
Jianhong Ou
git_last_commit: dd1def6
git_last_commit_date: 2024-04-30 10:58:06 -0400
nebbiolo1Linux (Ubuntu 22.04.3 LTS) / x86_64  OK    OK    OK  UNNEEDED, same version is already published
palomino3Windows Server 2022 Datacenter / x64  OK    OK    OK    OK  UNNEEDED, same version is already published
lconwaymacOS 12.7.1 Monterey / x86_64  ERROR    ERROR  skippedskipped
kjohnson3macOS 13.6.5 Ventura / arm64see weekly results here
Package 107/2300HostnameOS / ArchINSTALLBUILDCHECKBUILD BIN
ATACseqTFEA 1.6.0  (landing page)
Jianhong Ou
git_last_commit: 9d17d68
git_last_commit_date: 2024-04-30 11:44:07 -0400
nebbiolo1Linux (Ubuntu 22.04.3 LTS) / x86_64  OK    OK    OK  UNNEEDED, same version is already published
palomino3Windows Server 2022 Datacenter / x64  OK    OK    OK    OK  UNNEEDED, same version is already published
lconwaymacOS 12.7.1 Monterey / x86_64  ERROR    ERROR  skippedskipped
kjohnson3macOS 13.6.5 Ventura / arm64see weekly results here
Package 108/2300HostnameOS / ArchINSTALLBUILDCHECKBUILD BIN
atena 1.10.0  (landing page)
Robert Castelo
git_last_commit: 7e1c59e
git_last_commit_date: 2024-04-30 11:37:21 -0400
nebbiolo1Linux (Ubuntu 22.04.3 LTS) / x86_64  OK    OK    OK  UNNEEDED, same version is already published
palomino3Windows Server 2022 Datacenter / x64  OK    OK    OK    OK  UNNEEDED, same version is already published
lconwaymacOS 12.7.1 Monterey / x86_64  ERROR    ERROR  skippedskipped
kjohnson3macOS 13.6.5 Ventura / arm64see weekly results here
Package 109/2300HostnameOS / ArchINSTALLBUILDCHECKBUILD BIN
atSNP 1.20.0  (landing page)
Sunyoung Shin
git_last_commit: 01ca80b
git_last_commit_date: 2024-04-30 11:12:29 -0400
nebbiolo1Linux (Ubuntu 22.04.3 LTS) / x86_64  OK    OK    OK  UNNEEDED, same version is already published
palomino3Windows Server 2022 Datacenter / x64  OK    OK    OK    OK  UNNEEDED, same version is already published
lconwaymacOS 12.7.1 Monterey / x86_64  ERROR    ERROR  skippedskipped
kjohnson3macOS 13.6.5 Ventura / arm64see weekly results here
Package 110/2300HostnameOS / ArchINSTALLBUILDCHECKBUILD BIN
attract 1.56.0  (landing page)
Samuel Zimmerman
git_last_commit: bbedc77
git_last_commit_date: 2024-04-30 10:22:07 -0400
nebbiolo1Linux (Ubuntu 22.04.3 LTS) / x86_64  OK    OK    OK  UNNEEDED, same version is already published
palomino3Windows Server 2022 Datacenter / x64  OK    OK    OK    OK  UNNEEDED, same version is already published
lconwaymacOS 12.7.1 Monterey / x86_64  OK    OK    OK    OK  UNNEEDED, same version is already published
kjohnson3macOS 13.6.5 Ventura / arm64see weekly results here
Package 111/2300HostnameOS / ArchINSTALLBUILDCHECKBUILD BIN
AUCell 1.26.0  (landing page)
Gert Hulselmans
git_last_commit: eb8e5c7
git_last_commit_date: 2024-04-30 11:00:40 -0400
nebbiolo1Linux (Ubuntu 22.04.3 LTS) / x86_64  OK    OK    OK  UNNEEDED, same version is already published
palomino3Windows Server 2022 Datacenter / x64  OK    OK    OK    OK  UNNEEDED, same version is already published
lconwaymacOS 12.7.1 Monterey / x86_64  ERROR    ERROR  skippedskipped
kjohnson3macOS 13.6.5 Ventura / arm64see weekly results here
Package 112/2300HostnameOS / ArchINSTALLBUILDCHECKBUILD BIN
autonomics 1.12.0  (landing page)
Aditya Bhagwat
git_last_commit: a23e37e
git_last_commit_date: 2024-04-30 11:31:54 -0400
nebbiolo1Linux (Ubuntu 22.04.3 LTS) / x86_64  OK    OK    OK  UNNEEDED, same version is already published
palomino3Windows Server 2022 Datacenter / x64  OK    OK    OK    OK  UNNEEDED, same version is already published
lconwaymacOS 12.7.1 Monterey / x86_64  ERROR    ERROR  skippedskipped
kjohnson3macOS 13.6.5 Ventura / arm64see weekly results here
Package 113/2300HostnameOS / ArchINSTALLBUILDCHECKBUILD BIN
AWFisher 1.18.0  (landing page)
Zhiguang Huo
git_last_commit: 3b4c8a8
git_last_commit_date: 2024-04-30 11:15:50 -0400
nebbiolo1Linux (Ubuntu 22.04.3 LTS) / x86_64  OK    OK    OK  UNNEEDED, same version is already published
palomino3Windows Server 2022 Datacenter / x64  OK    OK    OK    OK  UNNEEDED, same version is already published
lconwaymacOS 12.7.1 Monterey / x86_64  OK    OK    OK    OK  UNNEEDED, same version is already published
kjohnson3macOS 13.6.5 Ventura / arm64see weekly results here
Package 114/2300HostnameOS / ArchINSTALLBUILDCHECKBUILD BIN
awst 1.12.0  (landing page)
Davide Risso
git_last_commit: 8f7055e
git_last_commit_date: 2024-04-30 11:33:51 -0400
nebbiolo1Linux (Ubuntu 22.04.3 LTS) / x86_64  OK    OK    OK  UNNEEDED, same version is already published
palomino3Windows Server 2022 Datacenter / x64  OK    OK    OK    OK  UNNEEDED, same version is already published
lconwaymacOS 12.7.1 Monterey / x86_64  ERROR    ERROR  skippedskipped
kjohnson3macOS 13.6.5 Ventura / arm64see weekly results here
B
ABCDEFGHIJKLMNOPQRSTUVWXYZ
Package 115/2300HostnameOS / ArchINSTALLBUILDCHECKBUILD BIN
BaalChIP 1.30.0  (landing page)
Ines de Santiago
git_last_commit: a8a0dc9
git_last_commit_date: 2024-04-30 10:53:36 -0400
nebbiolo1Linux (Ubuntu 22.04.3 LTS) / x86_64  OK    OK    WARNINGS  UNNEEDED, same version is already published
palomino3Windows Server 2022 Datacenter / x64  OK    OK    WARNINGS    OK  UNNEEDED, same version is already published
lconwaymacOS 12.7.1 Monterey / x86_64  ERROR    ERROR  skippedskipped
kjohnson3macOS 13.6.5 Ventura / arm64see weekly results here
Package 116/2300HostnameOS / ArchINSTALLBUILDCHECKBUILD BIN
bacon 1.32.0  (landing page)
Maarten van Iterson
git_last_commit: 044c505
git_last_commit_date: 2024-04-30 10:49:08 -0400
nebbiolo1Linux (Ubuntu 22.04.3 LTS) / x86_64  OK    OK    OK  UNNEEDED, same version is already published
palomino3Windows Server 2022 Datacenter / x64  OK    OK    OK    OK  UNNEEDED, same version is already published
lconwaymacOS 12.7.1 Monterey / x86_64  OK    OK    OK    OK  UNNEEDED, same version is already published
kjohnson3macOS 13.6.5 Ventura / arm64see weekly results here
Package 117/2300HostnameOS / ArchINSTALLBUILDCHECKBUILD BIN
BADER 1.42.0  (landing page)
Andreas Neudecker
git_last_commit: 336311e
git_last_commit_date: 2024-04-30 10:33:21 -0400
nebbiolo1Linux (Ubuntu 22.04.3 LTS) / x86_64  OK    OK    OK  UNNEEDED, same version is already published
palomino3Windows Server 2022 Datacenter / x64  OK    OK    OK    OK  UNNEEDED, same version is already published
lconwaymacOS 12.7.1 Monterey / x86_64  OK    OK    OK    OK  UNNEEDED, same version is already published
kjohnson3macOS 13.6.5 Ventura / arm64see weekly results here
Package 118/2300HostnameOS / ArchINSTALLBUILDCHECKBUILD BIN
BadRegionFinder 1.32.0  (landing page)
Sarah Sandmann
git_last_commit: dd70f4c
git_last_commit_date: 2024-04-30 10:49:59 -0400
nebbiolo1Linux (Ubuntu 22.04.3 LTS) / x86_64  OK    OK    OK  UNNEEDED, same version is already published
palomino3Windows Server 2022 Datacenter / x64  OK    OK    OK    OK  UNNEEDED, same version is already published
lconwaymacOS 12.7.1 Monterey / x86_64  ERROR    ERROR  skippedskipped
kjohnson3macOS 13.6.5 Ventura / arm64see weekly results here
Package 119/2300HostnameOS / ArchINSTALLBUILDCHECKBUILD BIN
BAGS 2.44.0  (landing page)
Alejandro Quiroz-Zarate
git_last_commit: a9ca789
git_last_commit_date: 2024-04-30 10:26:46 -0400
nebbiolo1Linux (Ubuntu 22.04.3 LTS) / x86_64  OK    OK    OK  UNNEEDED, same version is already published
palomino3Windows Server 2022 Datacenter / x64  OK    OK    OK    OK  UNNEEDED, same version is already published
lconwaymacOS 12.7.1 Monterey / x86_64  OK    OK    OK    OK  UNNEEDED, same version is already published
kjohnson3macOS 13.6.5 Ventura / arm64see weekly results here
Package 120/2300HostnameOS / ArchINSTALLBUILDCHECKBUILD BIN
ballgown 2.36.0  (landing page)
Jack Fu
git_last_commit: 952db93
git_last_commit_date: 2024-04-30 10:37:38 -0400
nebbiolo1Linux (Ubuntu 22.04.3 LTS) / x86_64  OK    OK    OK  UNNEEDED, same version is already published
palomino3Windows Server 2022 Datacenter / x64  OK    OK    OK    OK  UNNEEDED, same version is already published
lconwaymacOS 12.7.1 Monterey / x86_64  ERROR    ERROR  skippedskipped
kjohnson3macOS 13.6.5 Ventura / arm64see weekly results here
Package 121/2300HostnameOS / ArchINSTALLBUILDCHECKBUILD BIN
bambu 3.6.0  (landing page)
Ying Chen
git_last_commit: f32777f
git_last_commit_date: 2024-04-30 11:28:33 -0400
nebbiolo1Linux (Ubuntu 22.04.3 LTS) / x86_64  OK    OK    OK  UNNEEDED, same version is already published
palomino3Windows Server 2022 Datacenter / x64  OK    OK    OK    OK  UNNEEDED, same version is already published
lconwaymacOS 12.7.1 Monterey / x86_64  ERROR    ERROR  skippedskipped
kjohnson3macOS 13.6.5 Ventura / arm64see weekly results here
Package 122/2300HostnameOS / ArchINSTALLBUILDCHECKBUILD BIN
bamsignals 1.36.0  (landing page)
Johannes Helmuth
git_last_commit: 5b8df63
git_last_commit_date: 2024-04-30 10:42:21 -0400
nebbiolo1Linux (Ubuntu 22.04.3 LTS) / x86_64  OK    OK    OK  UNNEEDED, same version is already published
palomino3Windows Server 2022 Datacenter / x64  OK    OK    OK    OK  UNNEEDED, same version is already published
lconwaymacOS 12.7.1 Monterey / x86_64  OK    OK    OK    OK  UNNEEDED, same version is already published
kjohnson3macOS 13.6.5 Ventura / arm64see weekly results here
Package 123/2300HostnameOS / ArchINSTALLBUILDCHECKBUILD BIN
BANDITS 1.20.0  (landing page)
Simone Tiberi
git_last_commit: 558700a
git_last_commit_date: 2024-04-30 11:14:02 -0400
nebbiolo1Linux (Ubuntu 22.04.3 LTS) / x86_64  OK    OK    OK  UNNEEDED, same version is already published
palomino3Windows Server 2022 Datacenter / x64  OK    OK    OK    OK  UNNEEDED, same version is already published
lconwaymacOS 12.7.1 Monterey / x86_64  OK    OK    ERROR    OK  
kjohnson3macOS 13.6.5 Ventura / arm64see weekly results here
Package 124/2300HostnameOS / ArchINSTALLBUILDCHECKBUILD BIN
bandle 1.8.0  (landing page)
Oliver M. Crook
git_last_commit: 4ff13d5
git_last_commit_date: 2024-04-30 11:41:48 -0400
nebbiolo1Linux (Ubuntu 22.04.3 LTS) / x86_64  OK    OK    OK  UNNEEDED, same version is already published
palomino3Windows Server 2022 Datacenter / x64  OK    OK    OK    OK  UNNEEDED, same version is already published
lconwaymacOS 12.7.1 Monterey / x86_64  ERROR    ERROR  skippedskipped
kjohnson3macOS 13.6.5 Ventura / arm64see weekly results here
Package 125/2300HostnameOS / ArchINSTALLBUILDCHECKBUILD BIN
Banksy 1.0.0  (landing page)
Joseph Lee
git_last_commit: 938cbff
git_last_commit_date: 2024-04-30 11:53:33 -0400
nebbiolo1Linux (Ubuntu 22.04.3 LTS) / x86_64  OK    OK    OK  UNNEEDED, same version is already published
palomino3Windows Server 2022 Datacenter / x64  OK    OK    OK    OK  UNNEEDED, same version is already published
lconwaymacOS 12.7.1 Monterey / x86_64  ERROR    ERROR  skippedskipped
kjohnson3macOS 13.6.5 Ventura / arm64see weekly results here
Package 126/2300HostnameOS / ArchINSTALLBUILDCHECKBUILD BIN
banocc 1.28.0  (landing page)
George Weingart
git_last_commit: 12c9e57
git_last_commit_date: 2024-04-30 10:57:29 -0400
nebbiolo1Linux (Ubuntu 22.04.3 LTS) / x86_64  OK    OK    OK  UNNEEDED, same version is already published
palomino3Windows Server 2022 Datacenter / x64  OK    OK    OK    OK  UNNEEDED, same version is already published
lconwaymacOS 12.7.1 Monterey / x86_64  OK    OK    OK    OK  UNNEEDED, same version is already published
kjohnson3macOS 13.6.5 Ventura / arm64see weekly results here
Package 127/2300HostnameOS / ArchINSTALLBUILDCHECKBUILD BIN
barcodetrackR 1.12.0  (landing page)
Diego Alexander Espinoza
git_last_commit: 586dd00
git_last_commit_date: 2024-04-30 11:32:45 -0400
nebbiolo1Linux (Ubuntu 22.04.3 LTS) / x86_64  OK    OK    OK  UNNEEDED, same version is already published
palomino3Windows Server 2022 Datacenter / x64  OK    OK    OK    OK  UNNEEDED, same version is already published
lconwaymacOS 12.7.1 Monterey / x86_64  ERROR    ERROR  skippedskipped
kjohnson3macOS 13.6.5 Ventura / arm64see weekly results here
Package 128/2300HostnameOS / ArchINSTALLBUILDCHECKBUILD BIN
basecallQC 1.28.0  (landing page)
Thomas Carroll
git_last_commit: 536aad0
git_last_commit_date: 2024-04-30 10:57:34 -0400
nebbiolo1Linux (Ubuntu 22.04.3 LTS) / x86_64  OK    OK    OK  UNNEEDED, same version is already published
palomino3Windows Server 2022 Datacenter / x64  OK    OK    OK    OK  UNNEEDED, same version is already published
lconwaymacOS 12.7.1 Monterey / x86_64  ERROR    ERROR  skippedskipped
kjohnson3macOS 13.6.5 Ventura / arm64see weekly results here
Package 129/2300HostnameOS / ArchINSTALLBUILDCHECKBUILD BIN
BaseSpaceR 1.48.0  (landing page)
Jared O'Connell
git_last_commit: 795aa31
git_last_commit_date: 2024-04-30 10:31:05 -0400
nebbiolo1Linux (Ubuntu 22.04.3 LTS) / x86_64  OK    OK    WARNINGS  UNNEEDED, same version is already published
palomino3Windows Server 2022 Datacenter / x64  OK    OK    WARNINGS    OK  UNNEEDED, same version is already published
lconwaymacOS 12.7.1 Monterey / x86_64  OK    OK    WARNINGS    OK  UNNEEDED, same version is already published
kjohnson3macOS 13.6.5 Ventura / arm64see weekly results here
Package 130/2300HostnameOS / ArchINSTALLBUILDCHECKBUILD BIN
Basic4Cseq 1.40.0  (landing page)
Carolin Walter
git_last_commit: 608abbc
git_last_commit_date: 2024-04-30 10:35:18 -0400
nebbiolo1Linux (Ubuntu 22.04.3 LTS) / x86_64  OK    OK    OK  UNNEEDED, same version is already published
palomino3Windows Server 2022 Datacenter / x64  OK    OK    OK    OK  UNNEEDED, same version is already published
lconwaymacOS 12.7.1 Monterey / x86_64  ERROR    ERROR  skippedskipped
kjohnson3macOS 13.6.5 Ventura / arm64see weekly results here
Package 131/2300HostnameOS / ArchINSTALLBUILDCHECKBUILD BIN
BASiCS 2.16.0  (landing page)
Catalina Vallejos
git_last_commit: e753c97
git_last_commit_date: 2024-04-30 11:01:01 -0400
nebbiolo1Linux (Ubuntu 22.04.3 LTS) / x86_64  OK    OK    OK  UNNEEDED, same version is already published
palomino3Windows Server 2022 Datacenter / x64  OK    OK    OK    OK  UNNEEDED, same version is already published
lconwaymacOS 12.7.1 Monterey / x86_64  ERROR    ERROR  skippedskipped
kjohnson3macOS 13.6.5 Ventura / arm64see weekly results here
Package 132/2300HostnameOS / ArchINSTALLBUILDCHECKBUILD BIN
BASiCStan 1.6.0  (landing page)
Alan O'Callaghan
git_last_commit: 83ee6f9
git_last_commit_date: 2024-04-30 11:44:12 -0400
nebbiolo1Linux (Ubuntu 22.04.3 LTS) / x86_64  OK    OK    OK  UNNEEDED, same version is already published
palomino3Windows Server 2022 Datacenter / x64  OK    OK    OK    OK  UNNEEDED, same version is already published
lconwaymacOS 12.7.1 Monterey / x86_64  ERROR    ERROR  skippedskipped
kjohnson3macOS 13.6.5 Ventura / arm64see weekly results here
Package 133/2300HostnameOS / ArchINSTALLBUILDCHECKBUILD BIN
BasicSTARRseq 1.32.0  (landing page)
Annika Buerger
git_last_commit: 898c66e
git_last_commit_date: 2024-04-30 10:48:02 -0400
nebbiolo1Linux (Ubuntu 22.04.3 LTS) / x86_64  OK    OK    OK  UNNEEDED, same version is already published
palomino3Windows Server 2022 Datacenter / x64  OK    OK    OK    OK  UNNEEDED, same version is already published
lconwaymacOS 12.7.1 Monterey / x86_64  ERROR    ERROR  skippedskipped
kjohnson3macOS 13.6.5 Ventura / arm64see weekly results here
Package 134/2300HostnameOS / ArchINSTALLBUILDCHECKBUILD BIN
basilisk 1.16.0  (landing page)
Aaron Lun
git_last_commit: 0a27ae6
git_last_commit_date: 2024-04-30 11:20:50 -0400
nebbiolo1Linux (Ubuntu 22.04.3 LTS) / x86_64  OK    OK    OK  UNNEEDED, same version is already published
palomino3Windows Server 2022 Datacenter / x64  OK    OK    OK    OK  UNNEEDED, same version is already published
lconwaymacOS 12.7.1 Monterey / x86_64  OK    OK    TIMEOUT    OK  
kjohnson3macOS 13.6.5 Ventura / arm64see weekly results here
Package 135/2300HostnameOS / ArchINSTALLBUILDCHECKBUILD BIN
basilisk.utils 1.16.0  (landing page)
Aaron Lun
git_last_commit: 04f649c
git_last_commit_date: 2024-04-30 11:21:03 -0400
nebbiolo1Linux (Ubuntu 22.04.3 LTS) / x86_64  OK    OK    OK  UNNEEDED, same version is already published
palomino3Windows Server 2022 Datacenter / x64  OK    OK    OK    OK  UNNEEDED, same version is already published
lconwaymacOS 12.7.1 Monterey / x86_64  OK    OK    OK    OK  UNNEEDED, same version is already published
kjohnson3macOS 13.6.5 Ventura / arm64see weekly results here
Package 136/2300HostnameOS / ArchINSTALLBUILDCHECKBUILD BIN
batchelor 1.20.0  (landing page)
Aaron Lun
git_last_commit: d14eff8
git_last_commit_date: 2024-04-30 11:13:32 -0400
nebbiolo1Linux (Ubuntu 22.04.3 LTS) / x86_64  OK    OK    OK  UNNEEDED, same version is already published
palomino3Windows Server 2022 Datacenter / x64  OK    OK    OK    OK  UNNEEDED, same version is already published
lconwaymacOS 12.7.1 Monterey / x86_64  ERROR    ERROR  skippedskipped
kjohnson3macOS 13.6.5 Ventura / arm64see weekly results here
Package 137/2300HostnameOS / ArchINSTALLBUILDCHECKBUILD BIN
BatchQC 2.0.0  (landing page)
Jessica McClintock
git_last_commit: 906d8d9
git_last_commit_date: 2024-04-30 10:50:17 -0400
nebbiolo1Linux (Ubuntu 22.04.3 LTS) / x86_64  OK    OK    OK  UNNEEDED, same version is already published
palomino3Windows Server 2022 Datacenter / x64  OK    OK    OK    OK  UNNEEDED, same version is already published
lconwaymacOS 12.7.1 Monterey / x86_64  ERROR    ERROR  skippedskipped
kjohnson3macOS 13.6.5 Ventura / arm64see weekly results here
Package 138/2300HostnameOS / ArchINSTALLBUILDCHECKBUILD BIN
BayesKnockdown 1.30.0  (landing page)
William Chad Young
git_last_commit: 36122ca
git_last_commit_date: 2024-04-30 10:52:49 -0400
nebbiolo1Linux (Ubuntu 22.04.3 LTS) / x86_64  OK    OK    OK  UNNEEDED, same version is already published
palomino3Windows Server 2022 Datacenter / x64  OK    OK    OK    OK  UNNEEDED, same version is already published
lconwaymacOS 12.7.1 Monterey / x86_64  OK    OK    OK    OK  UNNEEDED, same version is already published
kjohnson3macOS 13.6.5 Ventura / arm64see weekly results here
Package 139/2300HostnameOS / ArchINSTALLBUILDCHECKBUILD BIN
BayesSpace 1.14.0  (landing page)
Matt Stone
git_last_commit: 0016140
git_last_commit_date: 2024-04-30 11:27:53 -0400
nebbiolo1Linux (Ubuntu 22.04.3 LTS) / x86_64  OK    OK    OK  UNNEEDED, same version is already published
palomino3Windows Server 2022 Datacenter / x64  OK    OK    OK    OK  UNNEEDED, same version is already published
lconwaymacOS 12.7.1 Monterey / x86_64  ERROR    ERROR  skippedskipped
kjohnson3macOS 13.6.5 Ventura / arm64see weekly results here
Package 140/2300HostnameOS / ArchINSTALLBUILDCHECKBUILD BIN
bayNorm 1.22.0  (landing page)
Wenhao Tang
git_last_commit: fd9cbc8
git_last_commit_date: 2024-04-30 11:10:04 -0400
nebbiolo1Linux (Ubuntu 22.04.3 LTS) / x86_64  OK    OK    OK  UNNEEDED, same version is already published
palomino3Windows Server 2022 Datacenter / x64  OK    OK    OK    OK  UNNEEDED, same version is already published
lconwaymacOS 12.7.1 Monterey / x86_64  ERROR    ERROR  skippedskipped
kjohnson3macOS 13.6.5 Ventura / arm64see weekly results here
Package 141/2300HostnameOS / ArchINSTALLBUILDCHECKBUILD BIN
baySeq 2.38.0  (landing page)
Samuel Granjeaud
git_last_commit: f27f3dd
git_last_commit_date: 2024-04-30 11:55:46 -0400
nebbiolo1Linux (Ubuntu 22.04.3 LTS) / x86_64  OK    OK    OK  UNNEEDED, same version is already published
palomino3Windows Server 2022 Datacenter / x64  OK    OK    OK    OK  UNNEEDED, same version is already published
lconwaymacOS 12.7.1 Monterey / x86_64  OK    OK    OK    OK  UNNEEDED, same version is already published
kjohnson3macOS 13.6.5 Ventura / arm64see weekly results here
Package 142/2300HostnameOS / ArchINSTALLBUILDCHECKBUILD BIN
BBCAnalyzer 1.34.0  (landing page)
Sarah Sandmann
git_last_commit: 05d5712
git_last_commit_date: 2024-04-30 10:45:13 -0400
nebbiolo1Linux (Ubuntu 22.04.3 LTS) / x86_64  OK    OK    OK  UNNEEDED, same version is already published
palomino3Windows Server 2022 Datacenter / x64  OK    OK    WARNINGS    OK  UNNEEDED, same version is already published
lconwaymacOS 12.7.1 Monterey / x86_64  ERROR    ERROR  skippedskipped
kjohnson3macOS 13.6.5 Ventura / arm64see weekly results here
Package 143/2300HostnameOS / ArchINSTALLBUILDCHECKBUILD BIN
BCRANK 1.66.0  (landing page)
Adam Ameur
git_last_commit: ab25af6
git_last_commit_date: 2024-04-30 10:17:43 -0400
nebbiolo1Linux (Ubuntu 22.04.3 LTS) / x86_64  OK    OK    OK  UNNEEDED, same version is already published
palomino3Windows Server 2022 Datacenter / x64  OK    OK    OK    OK  UNNEEDED, same version is already published
lconwaymacOS 12.7.1 Monterey / x86_64  OK    OK    OK    OK  UNNEEDED, same version is already published
kjohnson3macOS 13.6.5 Ventura / arm64see weekly results here
Package 144/2300HostnameOS / ArchINSTALLBUILDCHECKBUILD BIN
bcSeq 1.26.0  (landing page)
Jiaxing Lin
git_last_commit: 69bf97b
git_last_commit_date: 2024-04-30 11:02:42 -0400
nebbiolo1Linux (Ubuntu 22.04.3 LTS) / x86_64  OK    OK    WARNINGS  UNNEEDED, same version is already published
palomino3Windows Server 2022 Datacenter / x64  OK    OK    WARNINGS    OK  UNNEEDED, same version is already published
lconwaymacOS 12.7.1 Monterey / x86_64  OK    OK    OK    OK  UNNEEDED, same version is already published
kjohnson3macOS 13.6.5 Ventura / arm64see weekly results here
Package 145/2300HostnameOS / ArchINSTALLBUILDCHECKBUILD BIN
BDMMAcorrect 1.22.0  (landing page)
ZHENWEI DAI
git_last_commit: 2bae112
git_last_commit_date: 2024-04-30 11:11:05 -0400
nebbiolo1Linux (Ubuntu 22.04.3 LTS) / x86_64  OK    OK    ERROR  
palomino3Windows Server 2022 Datacenter / x64  OK    OK    OK    OK  UNNEEDED, same version is already published
lconwaymacOS 12.7.1 Monterey / x86_64  ERROR    ERROR  skippedskipped
kjohnson3macOS 13.6.5 Ventura / arm64see weekly results here
Package 146/2300HostnameOS / ArchINSTALLBUILDCHECKBUILD BIN
beachmat 2.20.0  (landing page)
Aaron Lun
git_last_commit: fe0b119
git_last_commit_date: 2024-04-30 10:59:08 -0400
nebbiolo1Linux (Ubuntu 22.04.3 LTS) / x86_64  OK    OK    OK  UNNEEDED, same version is already published
palomino3Windows Server 2022 Datacenter / x64  OK    OK    OK    OK  UNNEEDED, same version is already published
lconwaymacOS 12.7.1 Monterey / x86_64  ERROR    ERROR  skippedskipped
kjohnson3macOS 13.6.5 Ventura / arm64see weekly results here
Package 147/2300HostnameOS / ArchINSTALLBUILDCHECKBUILD BIN
beachmat.hdf5 1.2.0  (landing page)
Aaron Lun
git_last_commit: 4e2ef7a
git_last_commit_date: 2024-04-30 11:50:56 -0400
nebbiolo1Linux (Ubuntu 22.04.3 LTS) / x86_64  OK    OK    WARNINGS  UNNEEDED, same version is already published
palomino3Windows Server 2022 Datacenter / x64  OK    OK    OK    OK  UNNEEDED, same version is already published
lconwaymacOS 12.7.1 Monterey / x86_64  ERROR    ERROR  skippedskipped
kjohnson3macOS 13.6.5 Ventura / arm64see weekly results here
Package 148/2300HostnameOS / ArchINSTALLBUILDCHECKBUILD BIN
beadarray 2.54.0  (landing page)
Mark Dunning
git_last_commit: 696d598
git_last_commit_date: 2024-04-30 10:14:58 -0400
nebbiolo1Linux (Ubuntu 22.04.3 LTS) / x86_64  OK    OK    OK  UNNEEDED, same version is already published
palomino3Windows Server 2022 Datacenter / x64  OK    OK    OK    OK  UNNEEDED, same version is already published
lconwaymacOS 12.7.1 Monterey / x86_64  OK    OK    ERROR    OK  
kjohnson3macOS 13.6.5 Ventura / arm64see weekly results here
Package 149/2300HostnameOS / ArchINSTALLBUILDCHECKBUILD BIN
beadarraySNP 1.70.0  (landing page)
Jan Oosting
git_last_commit: fffacab
git_last_commit_date: 2024-04-30 10:15:52 -0400
nebbiolo1Linux (Ubuntu 22.04.3 LTS) / x86_64  OK    OK    ERROR  
palomino3Windows Server 2022 Datacenter / x64  OK    OK    ERROR    OK  
lconwaymacOS 12.7.1 Monterey / x86_64  OK    OK    ERROR    OK  
kjohnson3macOS 13.6.5 Ventura / arm64see weekly results here
Package 150/2300HostnameOS / ArchINSTALLBUILDCHECKBUILD BIN
BeadDataPackR 1.56.0  (landing page)
Mike Smith
git_last_commit: 21c457e
git_last_commit_date: 2024-04-30 10:21:32 -0400
nebbiolo1Linux (Ubuntu 22.04.3 LTS) / x86_64  OK    OK    OK  UNNEEDED, same version is already published
palomino3Windows Server 2022 Datacenter / x64  OK    OK    OK    OK  UNNEEDED, same version is already published
lconwaymacOS 12.7.1 Monterey / x86_64  OK    OK    OK    OK  UNNEEDED, same version is already published
kjohnson3macOS 13.6.5 Ventura / arm64see weekly results here
Package 151/2300HostnameOS / ArchINSTALLBUILDCHECKBUILD BIN
BEARscc 1.24.0  (landing page)
Benjamin Schuster-Boeckler
git_last_commit: 44d2522
git_last_commit_date: 2024-04-30 11:03:44 -0400
nebbiolo1Linux (Ubuntu 22.04.3 LTS) / x86_64  OK    OK    OK  UNNEEDED, same version is already published
palomino3Windows Server 2022 Datacenter / x64  OK    OK    OK    OK  UNNEEDED, same version is already published
lconwaymacOS 12.7.1 Monterey / x86_64  ERROR    ERROR  skippedskipped
kjohnson3macOS 13.6.5 Ventura / arm64see weekly results here
Package 152/2300HostnameOS / ArchINSTALLBUILDCHECKBUILD BIN
BEAT 1.42.0  (landing page)
Kemal Akman
git_last_commit: 4cbe33f
git_last_commit_date: 2024-04-30 10:34:47 -0400
nebbiolo1Linux (Ubuntu 22.04.3 LTS) / x86_64  OK    OK    OK  UNNEEDED, same version is already published
palomino3Windows Server 2022 Datacenter / x64  OK    OK    OK    OK  UNNEEDED, same version is already published
lconwaymacOS 12.7.1 Monterey / x86_64  ERROR    ERROR  skippedskipped
kjohnson3macOS 13.6.5 Ventura / arm64see weekly results here
Package 153/2300HostnameOS / ArchINSTALLBUILDCHECKBUILD BIN
BEclear 2.20.0  (landing page)
Livia Rasp
git_last_commit: 56d8c71
git_last_commit_date: 2024-04-30 10:43:53 -0400
nebbiolo1Linux (Ubuntu 22.04.3 LTS) / x86_64  OK    OK    OK  UNNEEDED, same version is already published
palomino3Windows Server 2022 Datacenter / x64  OK    OK    OK    OK  UNNEEDED, same version is already published
lconwaymacOS 12.7.1 Monterey / x86_64  OK    OK    OK    OK  UNNEEDED, same version is already published
kjohnson3macOS 13.6.5 Ventura / arm64see weekly results here
Package 154/2300HostnameOS / ArchINSTALLBUILDCHECKBUILD BIN
beer 1.8.0  (landing page)
Athena Chen
git_last_commit: c94d6a4
git_last_commit_date: 2024-04-30 11:40:18 -0400
nebbiolo1Linux (Ubuntu 22.04.3 LTS) / x86_64  OK    OK    OK  UNNEEDED, same version is already published
palomino3Windows Server 2022 Datacenter / x64  OK    OK    OK    OK  UNNEEDED, same version is already published
lconwaymacOS 12.7.1 Monterey / x86_64  ERROR    ERROR  skippedskipped
kjohnson3macOS 13.6.5 Ventura / arm64see weekly results here
Package 155/2300HostnameOS / ArchINSTALLBUILDCHECKBUILD BIN
benchdamic 1.10.0  (landing page)
Matteo Calgaro
git_last_commit: 8e9ad07
git_last_commit_date: 2024-04-30 11:38:25 -0400
nebbiolo1Linux (Ubuntu 22.04.3 LTS) / x86_64  OK    OK    OK  UNNEEDED, same version is already published
palomino3Windows Server 2022 Datacenter / x64  OK    OK    OK    OK  UNNEEDED, same version is already published
lconwaymacOS 12.7.1 Monterey / x86_64  ERROR    ERROR  skippedskipped
kjohnson3macOS 13.6.5 Ventura / arm64see weekly results here
Package 156/2300HostnameOS / ArchINSTALLBUILDCHECKBUILD BIN
BERT 1.0.0  (landing page)
Yannis Schumann
git_last_commit: 9a6bbaa
git_last_commit_date: 2024-04-30 11:53:11 -0400
nebbiolo1Linux (Ubuntu 22.04.3 LTS) / x86_64  OK    OK    OK  UNNEEDED, same version is already published
palomino3Windows Server 2022 Datacenter / x64  OK    OK    OK    OK  UNNEEDED, same version is already published
lconwaymacOS 12.7.1 Monterey / x86_64  ERROR    ERROR  skippedskipped
kjohnson3macOS 13.6.5 Ventura / arm64see weekly results here
Package 157/2300HostnameOS / ArchINSTALLBUILDCHECKBUILD BIN
betaHMM 1.0.0  (landing page)
Koyel Majumdar
git_last_commit: efa317d
git_last_commit_date: 2024-04-30 11:53:25 -0400
nebbiolo1Linux (Ubuntu 22.04.3 LTS) / x86_64  OK    OK    OK  UNNEEDED, same version is already published
palomino3Windows Server 2022 Datacenter / x64  OK    OK    OK    OK  UNNEEDED, same version is already published
lconwaymacOS 12.7.1 Monterey / x86_64  ERROR    ERROR  skippedskipped
kjohnson3macOS 13.6.5 Ventura / arm64see weekly results here
Package 158/2300HostnameOS / ArchINSTALLBUILDCHECKBUILD BIN
bettr 1.0.0  (landing page)
Charlotte Soneson
git_last_commit: fa4e76a
git_last_commit_date: 2024-04-30 11:54:51 -0400
nebbiolo1Linux (Ubuntu 22.04.3 LTS) / x86_64  OK    OK    OK  UNNEEDED, same version is already published
palomino3Windows Server 2022 Datacenter / x64  OK    OK    OK    OK  UNNEEDED, same version is already published
lconwaymacOS 12.7.1 Monterey / x86_64  ERROR    ERROR  skippedskipped
kjohnson3macOS 13.6.5 Ventura / arm64see weekly results here
Package 159/2300HostnameOS / ArchINSTALLBUILDCHECKBUILD BIN
BG2 1.4.0  (landing page)
Jacob Williams
git_last_commit: 9e5b543
git_last_commit_date: 2024-04-30 11:46:39 -0400
nebbiolo1Linux (Ubuntu 22.04.3 LTS) / x86_64  OK    OK    OK  UNNEEDED, same version is already published
palomino3Windows Server 2022 Datacenter / x64  OK    OK    OK    OK  UNNEEDED, same version is already published
lconwaymacOS 12.7.1 Monterey / x86_64  OK    OK    OK    OK  UNNEEDED, same version is already published
kjohnson3macOS 13.6.5 Ventura / arm64see weekly results here
Package 160/2300HostnameOS / ArchINSTALLBUILDCHECKBUILD BIN
BgeeCall 1.20.0  (landing page)
Julien Wollbrett
git_last_commit: 5624a94
git_last_commit_date: 2024-04-30 11:20:00 -0400
nebbiolo1Linux (Ubuntu 22.04.3 LTS) / x86_64  OK    OK    ERROR  
palomino3Windows Server 2022 Datacenter / x64  OK    OK    OK    OK  UNNEEDED, same version is already published
lconwaymacOS 12.7.1 Monterey / x86_64  ERROR    ERROR  skippedskipped
kjohnson3macOS 13.6.5 Ventura / arm64see weekly results here
Package 161/2300HostnameOS / ArchINSTALLBUILDCHECKBUILD BIN
BgeeDB 2.30.0  (landing page)
Julien Wollbrett , Julien Roux , Andrea Komljenovic , Frederic Bastian
git_last_commit: d32830f
git_last_commit_date: 2024-04-30 10:50:28 -0400
nebbiolo1Linux (Ubuntu 22.04.3 LTS) / x86_64  OK    OK    OK  UNNEEDED, same version is already published
palomino3Windows Server 2022 Datacenter / x64  OK    OK    OK    OK  UNNEEDED, same version is already published
lconwaymacOS 12.7.1 Monterey / x86_64  OK    OK    OK    OK  UNNEEDED, same version is already published
kjohnson3macOS 13.6.5 Ventura / arm64see weekly results here
Package 162/2300HostnameOS / ArchINSTALLBUILDCHECKBUILD BIN
bgx 1.70.0  (landing page)
Ernest Turro
git_last_commit: 83539c4
git_last_commit_date: 2024-04-30 10:16:51 -0400
nebbiolo1Linux (Ubuntu 22.04.3 LTS) / x86_64  OK    OK    OK  UNNEEDED, same version is already published
palomino3Windows Server 2022 Datacenter / x64  OK    OK    OK    OK  UNNEEDED, same version is already published
lconwaymacOS 12.7.1 Monterey / x86_64  OK    OK    WARNINGS    OK  UNNEEDED, same version is already published
kjohnson3macOS 13.6.5 Ventura / arm64see weekly results here
Package 163/2300HostnameOS / ArchINSTALLBUILDCHECKBUILD BIN
BHC 1.56.0  (landing page)
Rich Savage
git_last_commit: 29dfdc8
git_last_commit_date: 2024-04-30 10:22:12 -0400
nebbiolo1Linux (Ubuntu 22.04.3 LTS) / x86_64  OK    OK    OK  UNNEEDED, same version is already published
palomino3Windows Server 2022 Datacenter / x64  OK    OK    OK    OK  UNNEEDED, same version is already published
lconwaymacOS 12.7.1 Monterey / x86_64  ERROR    ERROR  skippedskipped
kjohnson3macOS 13.6.5 Ventura / arm64see weekly results here
Package 164/2300HostnameOS / ArchINSTALLBUILDCHECKBUILD BIN
BicARE 1.62.0  (landing page)
Pierre Gestraud
git_last_commit: 7d2bddf
git_last_commit_date: 2024-04-30 10:19:07 -0400
nebbiolo1Linux (Ubuntu 22.04.3 LTS) / x86_64  OK    OK    OK  UNNEEDED, same version is already published
palomino3Windows Server 2022 Datacenter / x64  OK    OK    OK    OK  UNNEEDED, same version is already published
lconwaymacOS 12.7.1 Monterey / x86_64  OK    OK    OK    OK  UNNEEDED, same version is already published
kjohnson3macOS 13.6.5 Ventura / arm64see weekly results here
Package 165/2300HostnameOS / ArchINSTALLBUILDCHECKBUILD BIN
BiFET 1.24.0  (landing page)
Ahrim Youn
git_last_commit: c4f9fb6
git_last_commit_date: 2024-04-30 11:03:20 -0400
nebbiolo1Linux (Ubuntu 22.04.3 LTS) / x86_64  OK    OK    OK  UNNEEDED, same version is already published
palomino3Windows Server 2022 Datacenter / x64  OK    OK    OK    OK  UNNEEDED, same version is already published
lconwaymacOS 12.7.1 Monterey / x86_64  OK    OK    OK    OK  UNNEEDED, same version is already published
kjohnson3macOS 13.6.5 Ventura / arm64see weekly results here
Package 166/2300HostnameOS / ArchINSTALLBUILDCHECKBUILD BIN
BiGGR 1.40.0  (landing page)
Anand K. Gavai
git_last_commit: 1cf007f
git_last_commit_date: 2024-04-30 10:33:16 -0400
nebbiolo1Linux (Ubuntu 22.04.3 LTS) / x86_64  OK    OK    OK  UNNEEDED, same version is already published
palomino3Windows Server 2022 Datacenter / x64  OK    OK    OK    OK  UNNEEDED, same version is already published
lconwaymacOS 12.7.1 Monterey / x86_64... NOT SUPPORTED ...
kjohnson3macOS 13.6.5 Ventura / arm64see weekly results here
Package 167/2300HostnameOS / ArchINSTALLBUILDCHECKBUILD BIN
bigmelon 1.30.0  (landing page)
Leonard C. Schalkwyk
git_last_commit: fa5690c
git_last_commit_date: 2024-04-30 10:53:41 -0400
nebbiolo1Linux (Ubuntu 22.04.3 LTS) / x86_64  OK    OK    WARNINGS  UNNEEDED, same version is already published
palomino3Windows Server 2022 Datacenter / x64  OK    OK    WARNINGS    OK  UNNEEDED, same version is already published
lconwaymacOS 12.7.1 Monterey / x86_64  ERROR    ERROR  skippedskipped
kjohnson3macOS 13.6.5 Ventura / arm64see weekly results here
Package 168/2300HostnameOS / ArchINSTALLBUILDCHECKBUILD BIN
BindingSiteFinder 2.2.0  (landing page)
Mirko Brüggemann
git_last_commit: 1e3a377
git_last_commit_date: 2024-04-30 11:36:02 -0400
nebbiolo1Linux (Ubuntu 22.04.3 LTS) / x86_64  OK    OK    OK  UNNEEDED, same version is already published
palomino3Windows Server 2022 Datacenter / x64  OK    OK    OK    OK  UNNEEDED, same version is already published
lconwaymacOS 12.7.1 Monterey / x86_64  ERROR    ERROR  skippedskipped
kjohnson3macOS 13.6.5 Ventura / arm64see weekly results here
Package 169/2300HostnameOS / ArchINSTALLBUILDCHECKBUILD BIN
bioassayR 1.42.0  (landing page)
Daniela Cassol
git_last_commit: d6ed4d1
git_last_commit_date: 2024-04-30 10:33:45 -0400
nebbiolo1Linux (Ubuntu 22.04.3 LTS) / x86_64  OK    OK    OK  UNNEEDED, same version is already published
palomino3Windows Server 2022 Datacenter / x64  OK    OK    OK    OK  UNNEEDED, same version is already published
lconwaymacOS 12.7.1 Monterey / x86_64  OK    OK    OK    OK  UNNEEDED, same version is already published
kjohnson3macOS 13.6.5 Ventura / arm64see weekly results here
Package 170/2300HostnameOS / ArchINSTALLBUILDCHECKBUILD BIN
Biobase 2.64.0  (landing page)
Bioconductor Package Maintainer
git_last_commit: a3b75b7
git_last_commit_date: 2024-04-30 10:10:44 -0400
nebbiolo1Linux (Ubuntu 22.04.3 LTS) / x86_64  OK    OK    OK  UNNEEDED, same version is already published
palomino3Windows Server 2022 Datacenter / x64  OK    OK    OK    OK  UNNEEDED, same version is already published
lconwaymacOS 12.7.1 Monterey / x86_64  OK    OK    OK    OK  UNNEEDED, same version is already published
kjohnson3macOS 13.6.5 Ventura / arm64see weekly results here
Package 171/2300HostnameOS / ArchINSTALLBUILDCHECKBUILD BIN
biobroom 1.36.0  (landing page)
John D. Storey and Andrew J. Bass
git_last_commit: ada46e7
git_last_commit_date: 2024-04-30 10:46:34 -0400
nebbiolo1Linux (Ubuntu 22.04.3 LTS) / x86_64  OK    OK    WARNINGS  UNNEEDED, same version is already published
palomino3Windows Server 2022 Datacenter / x64  OK    OK    WARNINGS    OK  UNNEEDED, same version is already published
lconwaymacOS 12.7.1 Monterey / x86_64  OK    ERROR  skippedskipped
kjohnson3macOS 13.6.5 Ventura / arm64see weekly results here
Package 172/2300HostnameOS / ArchINSTALLBUILDCHECKBUILD BIN
biobtreeR 1.16.0  (landing page)
Tamer Gur
git_last_commit: 21d9111
git_last_commit_date: 2024-04-30 11:19:41 -0400
nebbiolo1Linux (Ubuntu 22.04.3 LTS) / x86_64  OK    OK    OK  UNNEEDED, same version is already published
palomino3Windows Server 2022 Datacenter / x64  OK    OK    OK    OK  UNNEEDED, same version is already published
lconwaymacOS 12.7.1 Monterey / x86_64  OK    OK    OK    OK  UNNEEDED, same version is already published
kjohnson3macOS 13.6.5 Ventura / arm64see weekly results here
Package 173/2300HostnameOS / ArchINSTALLBUILDCHECKBUILD BIN
bioCancer 1.32.0  (landing page)
Karim Mezhoud
git_last_commit: c9ec0e2
git_last_commit_date: 2024-04-30 10:51:18 -0400
nebbiolo1Linux (Ubuntu 22.04.3 LTS) / x86_64  OK    OK    OK  UNNEEDED, same version is already published
palomino3Windows Server 2022 Datacenter / x64  OK    OK    OK    OK  UNNEEDED, same version is already published
lconwaymacOS 12.7.1 Monterey / x86_64  ERROR    ERROR  skippedskipped
kjohnson3macOS 13.6.5 Ventura / arm64see weekly results here
Package 174/2300HostnameOS / ArchINSTALLBUILDCHECKBUILD BIN
BioCartaImage 1.2.0  (landing page)
Zuguang Gu
git_last_commit: 3419e9f
git_last_commit_date: 2024-04-30 11:52:14 -0400
nebbiolo1Linux (Ubuntu 22.04.3 LTS) / x86_64  OK    OK    OK  UNNEEDED, same version is already published
palomino3Windows Server 2022 Datacenter / x64  OK    OK    OK    OK  UNNEEDED, same version is already published
lconwaymacOS 12.7.1 Monterey / x86_64  OK    OK    OK    OK  UNNEEDED, same version is already published
kjohnson3macOS 13.6.5 Ventura / arm64see weekly results here
Package 175/2300HostnameOS / ArchINSTALLBUILDCHECKBUILD BIN
BiocBaseUtils 1.6.0  (landing page)
Marcel Ramos
git_last_commit: 2a04686
git_last_commit_date: 2024-04-30 11:42:47 -0400
nebbiolo1Linux (Ubuntu 22.04.3 LTS) / x86_64  OK    OK    OK  UNNEEDED, same version is already published
palomino3Windows Server 2022 Datacenter / x64  OK    OK    OK    OK  UNNEEDED, same version is already published
lconwaymacOS 12.7.1 Monterey / x86_64  OK    OK    OK    OK  UNNEEDED, same version is already published
kjohnson3macOS 13.6.5 Ventura / arm64see weekly results here
Package 176/2300HostnameOS / ArchINSTALLBUILDCHECKBUILD BIN
BiocBook 1.2.0  (landing page)
Jacques Serizay
git_last_commit: 0377652
git_last_commit_date: 2024-04-30 11:52:05 -0400
nebbiolo1Linux (Ubuntu 22.04.3 LTS) / x86_64  OK    OK    OK  UNNEEDED, same version is already published
palomino3Windows Server 2022 Datacenter / x64  OK    OK    ERROR    OK  
lconwaymacOS 12.7.1 Monterey / x86_64  OK    OK    OK    OK  UNNEEDED, same version is already published
kjohnson3macOS 13.6.5 Ventura / arm64see weekly results here
Package 177/2300HostnameOS / ArchINSTALLBUILDCHECKBUILD BIN
BiocCheck 1.40.0  (landing page)
Marcel Ramos
git_last_commit: ca6d2f9
git_last_commit_date: 2024-04-30 10:36:02 -0400
nebbiolo1Linux (Ubuntu 22.04.3 LTS) / x86_64  OK    OK    OK  UNNEEDED, same version is already published
palomino3Windows Server 2022 Datacenter / x64  OK    OK    OK    OK  UNNEEDED, same version is already published
lconwaymacOS 12.7.1 Monterey / x86_64  OK    OK    OK    OK  UNNEEDED, same version is already published
kjohnson3macOS 13.6.5 Ventura / arm64see weekly results here
Package 178/2300HostnameOS / ArchINSTALLBUILDCHECKBUILD BIN
BiocFHIR 1.6.0  (landing page)
Vincent Carey
git_last_commit: 11ce6e3
git_last_commit_date: 2024-04-30 11:45:41 -0400
nebbiolo1Linux (Ubuntu 22.04.3 LTS) / x86_64  OK    OK    OK  UNNEEDED, same version is already published
palomino3Windows Server 2022 Datacenter / x64  OK    OK    OK    OK  UNNEEDED, same version is already published
lconwaymacOS 12.7.1 Monterey / x86_64  OK    OK    OK    OK  UNNEEDED, same version is already published
kjohnson3macOS 13.6.5 Ventura / arm64see weekly results here
Package 179/2300HostnameOS / ArchINSTALLBUILDCHECKBUILD BIN
BiocFileCache 2.12.0  (landing page)
Lori Shepherd
git_last_commit: a655653
git_last_commit_date: 2024-04-30 10:56:59 -0400
nebbiolo1Linux (Ubuntu 22.04.3 LTS) / x86_64  OK    OK    OK  UNNEEDED, same version is already published
palomino3Windows Server 2022 Datacenter / x64  OK    OK    OK    OK  UNNEEDED, same version is already published
lconwaymacOS 12.7.1 Monterey / x86_64  OK    ERROR  skippedskipped
kjohnson3macOS 13.6.5 Ventura / arm64see weekly results here
Package 180/2300HostnameOS / ArchINSTALLBUILDCHECKBUILD BIN
BiocGenerics 0.50.0  (landing page)
Hervé Pagès
git_last_commit: d23d8dd
git_last_commit_date: 2024-04-30 10:26:27 -0400
nebbiolo1Linux (Ubuntu 22.04.3 LTS) / x86_64  OK    OK    WARNINGS  UNNEEDED, same version is already published
palomino3Windows Server 2022 Datacenter / x64  OK    OK    WARNINGS    OK  UNNEEDED, same version is already published
lconwaymacOS 12.7.1 Monterey / x86_64  OK    OK    ERROR    OK  
kjohnson3macOS 13.6.5 Ventura / arm64see weekly results here
Package 181/2300HostnameOS / ArchINSTALLBUILDCHECKBUILD BIN
biocGraph 1.66.0  (landing page)
Florian Hahne
git_last_commit: c5ef9ee
git_last_commit_date: 2024-04-30 10:17:03 -0400
nebbiolo1Linux (Ubuntu 22.04.3 LTS) / x86_64  OK    OK    OK  UNNEEDED, same version is already published
palomino3Windows Server 2022 Datacenter / x64  OK    OK    OK    OK  UNNEEDED, same version is already published
lconwaymacOS 12.7.1 Monterey / x86_64  OK    OK    OK    OK  UNNEEDED, same version is already published
kjohnson3macOS 13.6.5 Ventura / arm64see weekly results here
Package 182/2300HostnameOS / ArchINSTALLBUILDCHECKBUILD BIN
BiocHail 1.4.0  (landing page)
Vincent Carey
git_last_commit: 9d40c00
git_last_commit_date: 2024-04-30 11:49:16 -0400
nebbiolo1Linux (Ubuntu 22.04.3 LTS) / x86_64  OK    OK    OK  UNNEEDED, same version is already published
palomino3Windows Server 2022 Datacenter / x64... NOT SUPPORTED ...
lconwaymacOS 12.7.1 Monterey / x86_64... NOT SUPPORTED ...
kjohnson3macOS 13.6.5 Ventura / arm64see weekly results here
Package 183/2300HostnameOS / ArchINSTALLBUILDCHECKBUILD BIN
BiocHubsShiny 1.4.0  (landing page)
Marcel Ramos
git_last_commit: a060bc7
git_last_commit_date: 2024-04-30 11:47:03 -0400
nebbiolo1Linux (Ubuntu 22.04.3 LTS) / x86_64  OK    OK    OK  UNNEEDED, same version is already published
palomino3Windows Server 2022 Datacenter / x64  OK    OK    OK    OK  UNNEEDED, same version is already published
lconwaymacOS 12.7.1 Monterey / x86_64  OK    OK    OK    OK  UNNEEDED, same version is already published
kjohnson3macOS 13.6.5 Ventura / arm64see weekly results here
Package 184/2300HostnameOS / ArchINSTALLBUILDCHECKBUILD BIN
BiocIO 1.14.0  (landing page)
Marcel Ramos
git_last_commit: ecae62e
git_last_commit_date: 2024-04-30 11:26:18 -0400
nebbiolo1Linux (Ubuntu 22.04.3 LTS) / x86_64  OK    OK    OK  UNNEEDED, same version is already published
palomino3Windows Server 2022 Datacenter / x64  OK    OK    OK    OK  UNNEEDED, same version is already published
lconwaymacOS 12.7.1 Monterey / x86_64  OK    OK    OK    OK  UNNEEDED, same version is already published
kjohnson3macOS 13.6.5 Ventura / arm64see weekly results here
Package 185/2300HostnameOS / ArchINSTALLBUILDCHECKBUILD BIN
BiocNeighbors 1.22.0  (landing page)
Aaron Lun
git_last_commit: c9f4480
git_last_commit_date: 2024-04-30 11:07:34 -0400
nebbiolo1Linux (Ubuntu 22.04.3 LTS) / x86_64  OK    OK    WARNINGS  UNNEEDED, same version is already published
palomino3Windows Server 2022 Datacenter / x64  OK    OK    WARNINGS    OK  UNNEEDED, same version is already published
lconwaymacOS 12.7.1 Monterey / x86_64  OK    OK    WARNINGS    OK  UNNEEDED, same version is already published
kjohnson3macOS 13.6.5 Ventura / arm64see weekly results here
Package 186/2300HostnameOS / ArchINSTALLBUILDCHECKBUILD BIN
BiocOncoTK 1.24.0  (landing page)
VJ Carey
git_last_commit: 73631bd
git_last_commit_date: 2024-04-30 11:06:23 -0400
nebbiolo1Linux (Ubuntu 22.04.3 LTS) / x86_64  OK    OK    OK  UNNEEDED, same version is already published
palomino3Windows Server 2022 Datacenter / x64  OK    OK    OK    OK  UNNEEDED, same version is already published
lconwaymacOS 12.7.1 Monterey / x86_64  ERROR    ERROR  skippedskipped
kjohnson3macOS 13.6.5 Ventura / arm64see weekly results here
Package 187/2300HostnameOS / ArchINSTALLBUILDCHECKBUILD BIN
BioCor 1.28.0  (landing page)
Lluís Revilla Sancho
git_last_commit: 0edd7da
git_last_commit_date: 2024-04-30 10:56:56 -0400
nebbiolo1Linux (Ubuntu 22.04.3 LTS) / x86_64  OK    OK    OK  UNNEEDED, same version is already published
palomino3Windows Server 2022 Datacenter / x64  OK    OK    OK    OK  UNNEEDED, same version is already published
lconwaymacOS 12.7.1 Monterey / x86_64  OK    ERROR  skippedskipped
kjohnson3macOS 13.6.5 Ventura / arm64see weekly results here
Package 188/2300HostnameOS / ArchINSTALLBUILDCHECKBUILD BIN
BiocParallel 1.38.0  (landing page)
Martin Morgan
git_last_commit: d180bc0
git_last_commit_date: 2024-04-30 10:29:39 -0400
nebbiolo1Linux (Ubuntu 22.04.3 LTS) / x86_64  OK    OK    OK  UNNEEDED, same version is already published
palomino3Windows Server 2022 Datacenter / x64  OK    OK    OK    OK  UNNEEDED, same version is already published
lconwaymacOS 12.7.1 Monterey / x86_64  OK    ERROR  skippedskipped
kjohnson3macOS 13.6.5 Ventura / arm64see weekly results here
Package 189/2300HostnameOS / ArchINSTALLBUILDCHECKBUILD BIN
BiocPkgTools 1.22.0  (landing page)
Sean Davis
git_last_commit: 551f1bd
git_last_commit_date: 2024-04-30 11:09:06 -0400
nebbiolo1Linux (Ubuntu 22.04.3 LTS) / x86_64  OK    OK    OK  UNNEEDED, same version is already published
palomino3Windows Server 2022 Datacenter / x64  OK    OK    OK    OK  UNNEEDED, same version is already published
lconwaymacOS 12.7.1 Monterey / x86_64  OK    OK    ERROR    OK  
kjohnson3macOS 13.6.5 Ventura / arm64see weekly results here
Package 190/2300HostnameOS / ArchINSTALLBUILDCHECKBUILD BIN
biocroxytest 1.0.0  (landing page)
Francesc Catala-Moll
git_last_commit: c8048b1
git_last_commit_date: 2024-04-30 11:53:56 -0400
nebbiolo1Linux (Ubuntu 22.04.3 LTS) / x86_64  OK    OK    OK  UNNEEDED, same version is already published
palomino3Windows Server 2022 Datacenter / x64  OK    OK    OK    OK  UNNEEDED, same version is already published
lconwaymacOS 12.7.1 Monterey / x86_64  OK    OK    OK    OK  UNNEEDED, same version is already published
kjohnson3macOS 13.6.5 Ventura / arm64see weekly results here
Package 191/2300HostnameOS / ArchINSTALLBUILDCHECKBUILD BIN
BiocSet 1.18.0  (landing page)
Kayla Morrell
git_last_commit: 7209e02
git_last_commit_date: 2024-04-30 11:19:16 -0400
nebbiolo1Linux (Ubuntu 22.04.3 LTS) / x86_64  OK    OK    OK  UNNEEDED, same version is already published
palomino3Windows Server 2022 Datacenter / x64  OK    OK    OK    OK  UNNEEDED, same version is already published
lconwaymacOS 12.7.1 Monterey / x86_64  OK    ERROR  skippedskipped
kjohnson3macOS 13.6.5 Ventura / arm64see weekly results here
Package 192/2300HostnameOS / ArchINSTALLBUILDCHECKBUILD BIN
BiocSingular 1.20.0  (landing page)
Aaron Lun
git_last_commit: c5dafa5
git_last_commit_date: 2024-04-30 11:12:31 -0400
nebbiolo1Linux (Ubuntu 22.04.3 LTS) / x86_64  OK    OK    OK  UNNEEDED, same version is already published
palomino3Windows Server 2022 Datacenter / x64  OK    OK    OK    OK  UNNEEDED, same version is already published
lconwaymacOS 12.7.1 Monterey / x86_64  ERROR    ERROR  skippedskipped
kjohnson3macOS 13.6.5 Ventura / arm64see weekly results here
Package 193/2300HostnameOS / ArchINSTALLBUILDCHECKBUILD BIN
BiocSklearn 1.26.0  (landing page)
Vince Carey
git_last_commit: 62ea8f1
git_last_commit_date: 2024-04-30 10:59:33 -0400
nebbiolo1Linux (Ubuntu 22.04.3 LTS) / x86_64  OK    OK    OK  UNNEEDED, same version is already published
palomino3Windows Server 2022 Datacenter / x64  OK    OK    OK    OK  UNNEEDED, same version is already published
lconwaymacOS 12.7.1 Monterey / x86_64  ERROR    ERROR  skippedskipped
kjohnson3macOS 13.6.5 Ventura / arm64see weekly results here
Package 194/2300HostnameOS / ArchINSTALLBUILDCHECKBUILD BIN
BiocStyle 2.32.0  (landing page)
Bioconductor Package
git_last_commit: c441a64
git_last_commit_date: 2024-04-30 10:32:29 -0400
nebbiolo1Linux (Ubuntu 22.04.3 LTS) / x86_64  OK    OK    OK  UNNEEDED, same version is already published
palomino3Windows Server 2022 Datacenter / x64  OK    OK    OK    OK  UNNEEDED, same version is already published
lconwaymacOS 12.7.1 Monterey / x86_64  OK    OK    OK    OK  UNNEEDED, same version is already published
kjohnson3macOS 13.6.5 Ventura / arm64see weekly results here
Package 195/2300HostnameOS / ArchINSTALLBUILDCHECKBUILD BIN
biocthis 1.14.0  (landing page)
Leonardo Collado-Torres
git_last_commit: 6ac94d1
git_last_commit_date: 2024-04-30 11:28:14 -0400
nebbiolo1Linux (Ubuntu 22.04.3 LTS) / x86_64  OK    OK    OK  UNNEEDED, same version is already published
palomino3Windows Server 2022 Datacenter / x64  OK    OK    OK    OK  UNNEEDED, same version is already published
lconwaymacOS 12.7.1 Monterey / x86_64  OK    OK    OK    OK  UNNEEDED, same version is already published
kjohnson3macOS 13.6.5 Ventura / arm64see weekly results here
Package 196/2300HostnameOS / ArchINSTALLBUILDCHECKBUILD BIN
BiocVersion 3.19.1  (landing page)
Bioconductor Package Maintainer
git_last_commit: 99e637d
git_last_commit_date: 2023-10-25 15:37:46 -0400
nebbiolo1Linux (Ubuntu 22.04.3 LTS) / x86_64  OK    OK    OK  UNNEEDED, same version is already published
palomino3Windows Server 2022 Datacenter / x64  OK    OK    OK    OK  UNNEEDED, same version is already published
lconwaymacOS 12.7.1 Monterey / x86_64  OK    OK    OK    OK  UNNEEDED, same version is already published
kjohnson3macOS 13.6.5 Ventura / arm64see weekly results here
Package 197/2300HostnameOS / ArchINSTALLBUILDCHECKBUILD BIN
biocViews 1.72.0  (landing page)
Bioconductor Package Maintainer
git_last_commit: 96cdfeb
git_last_commit_date: 2024-04-30 10:14:31 -0400
nebbiolo1Linux (Ubuntu 22.04.3 LTS) / x86_64  OK    OK    WARNINGS  UNNEEDED, same version is already published
palomino3Windows Server 2022 Datacenter / x64  OK    OK    WARNINGS    OK  UNNEEDED, same version is already published
lconwaymacOS 12.7.1 Monterey / x86_64  OK    OK    WARNINGS    OK  UNNEEDED, same version is already published
kjohnson3macOS 13.6.5 Ventura / arm64see weekly results here