Back to Multiple platform build/check report for BioC 3.18:   simplified   long
ABCDEFGHIJK[L]MNOPQRSTUVWXYZ

This page was generated on 2024-03-29 11:35:18 -0400 (Fri, 29 Mar 2024).

HostnameOSArch (*)R versionInstalled pkgs
nebbiolo2Linux (Ubuntu 22.04.3 LTS)x86_644.3.3 (2024-02-29) -- "Angel Food Cake" 4669
palomino4Windows Server 2022 Datacenterx644.3.3 (2024-02-29 ucrt) -- "Angel Food Cake" 4404
merida1macOS 12.7.1 Montereyx86_644.3.3 (2024-02-29) -- "Angel Food Cake" 4427
Click on any hostname to see more info about the system (e.g. compilers)      (*) as reported by 'uname -p', except on Windows and Mac OS X

All results for package limma


To the developers/maintainers of the limma package:
- Allow up to 24 hours (and sometimes 48 hours) for your latest push to git@git.bioconductor.org:packages/limma.git to reflect on this report. See Troubleshooting Build Report for more information.
- Use the following Renviron settings to reproduce errors and warnings.
- If 'R CMD check' started to fail recently on the Linux builder(s) over a missing dependency, add the missing dependency to 'Suggests:' in your DESCRIPTION file. See Renviron.bioc for more information.

raw results

Package 1094/2266HostnameOS / ArchINSTALLBUILDCHECKBUILD BIN
limma 3.58.1  (landing page)
Gordon Smyth
Snapshot Date: 2024-03-27 14:05:05 -0400 (Wed, 27 Mar 2024)
git_url: https://git.bioconductor.org/packages/limma
git_branch: RELEASE_3_18
git_last_commit: 27e81a0
git_last_commit_date: 2023-10-30 16:50:54 -0400 (Mon, 30 Oct 2023)
nebbiolo2Linux (Ubuntu 22.04.3 LTS) / x86_64  OK    OK    OK  UNNEEDED, same version is already published
palomino4Windows Server 2022 Datacenter / x64  OK    OK    OK    OK  UNNEEDED, same version is already published
merida1macOS 12.7.1 Monterey / x86_64  OK    OK    OK    OK  UNNEEDED, same version is already published
kjohnson1macOS 13.6.1 Ventura / arm64see weekly results here

Results for Bioconductor software packages that depend directly on package limma

QUICK STATSOS / ArchINSTALLBUILDCHECKBUILD BIN
nebbiolo2Linux (Ubuntu 22.04.3 LTS) / x86_64
01240
07234
11042181
palomino4Windows Server 2022 Datacenter / x64
02237
06233
0341189
00233
merida1macOS 12.7.1 Monterey / x86_64
02239
09232
1345183
00232
Package 1/241HostnameOS / ArchINSTALLBUILDCHECKBUILD BIN
a4Base 1.50.0  (landing page)
Laure Cougnaud
git_last_commit: 26439bb
git_last_commit_date: 2023-10-24 09:46:28 -0400
nebbiolo2Linux (Ubuntu 22.04.3 LTS) / x86_64  OK    OK    OK  UNNEEDED, same version is already published
palomino4Windows Server 2022 Datacenter / x64  OK    OK    OK    OK  UNNEEDED, same version is already published
merida1macOS 12.7.1 Monterey / x86_64  OK    OK    OK    OK  UNNEEDED, same version is already published
kjohnson1macOS 13.6.1 Ventura / arm64see weekly results here
Package 2/241HostnameOS / ArchINSTALLBUILDCHECKBUILD BIN
ABSSeq 1.56.0  (landing page)
Wentao Yang
git_last_commit: 60fbebd
git_last_commit_date: 2023-10-24 09:58:17 -0400
nebbiolo2Linux (Ubuntu 22.04.3 LTS) / x86_64  OK    OK    OK  UNNEEDED, same version is already published
palomino4Windows Server 2022 Datacenter / x64  OK    OK    OK    OK  UNNEEDED, same version is already published
merida1macOS 12.7.1 Monterey / x86_64  OK    OK    OK    OK  UNNEEDED, same version is already published
kjohnson1macOS 13.6.1 Ventura / arm64see weekly results here
Package 3/241HostnameOS / ArchINSTALLBUILDCHECKBUILD BIN
affycoretools 1.74.0  (landing page)
James W. MacDonald
git_last_commit: c04ad6f
git_last_commit_date: 2023-10-24 09:35:49 -0400
nebbiolo2Linux (Ubuntu 22.04.3 LTS) / x86_64  OK    OK    OK  UNNEEDED, same version is already published
palomino4Windows Server 2022 Datacenter / x64  OK    OK    OK    OK  UNNEEDED, same version is already published
merida1macOS 12.7.1 Monterey / x86_64  OK    OK    OK    OK  UNNEEDED, same version is already published
kjohnson1macOS 13.6.1 Ventura / arm64see weekly results here
Package 4/241HostnameOS / ArchINSTALLBUILDCHECKBUILD BIN
affylmGUI 1.76.0  (landing page)
Gordon Smyth
git_last_commit: d6a5c35
git_last_commit_date: 2023-10-24 09:33:21 -0400
nebbiolo2Linux (Ubuntu 22.04.3 LTS) / x86_64  OK    OK    OK  UNNEEDED, same version is already published
palomino4Windows Server 2022 Datacenter / x64  OK    OK    OK    OK  UNNEEDED, same version is already published
merida1macOS 12.7.1 Monterey / x86_64  OK    OK    OK    OK  UNNEEDED, same version is already published
kjohnson1macOS 13.6.1 Ventura / arm64see weekly results here
Package 5/241HostnameOS / ArchINSTALLBUILDCHECKBUILD BIN
AgiMicroRna 2.52.0  (landing page)
Pedro Lopez-Romero
git_last_commit: 73e65fb
git_last_commit_date: 2023-10-24 09:42:33 -0400
nebbiolo2Linux (Ubuntu 22.04.3 LTS) / x86_64  OK    OK    WARNINGS  UNNEEDED, same version is already published
palomino4Windows Server 2022 Datacenter / x64  OK    OK    WARNINGS    OK  UNNEEDED, same version is already published
merida1macOS 12.7.1 Monterey / x86_64  OK    OK    WARNINGS    OK  UNNEEDED, same version is already published
kjohnson1macOS 13.6.1 Ventura / arm64see weekly results here
Package 6/241HostnameOS / ArchINSTALLBUILDCHECKBUILD BIN
AMARETTO 1.18.0  (landing page)
Olivier Gevaert
git_last_commit: 3b428a9
git_last_commit_date: 2023-10-24 11:12:01 -0400
nebbiolo2Linux (Ubuntu 22.04.3 LTS) / x86_64  OK    OK    TIMEOUT  
palomino4Windows Server 2022 Datacenter / x64  OK    OK    WARNINGS    OK  UNNEEDED, same version is already published
merida1macOS 12.7.1 Monterey / x86_64  OK    OK    WARNINGS    OK  UNNEEDED, same version is already published
kjohnson1macOS 13.6.1 Ventura / arm64see weekly results here
Package 7/241HostnameOS / ArchINSTALLBUILDCHECKBUILD BIN
animalcules 1.18.3  (landing page)
Jessica McClintock
git_last_commit: 8e8e658
git_last_commit_date: 2024-02-02 16:30:32 -0400
nebbiolo2Linux (Ubuntu 22.04.3 LTS) / x86_64  OK    OK    OK  UNNEEDED, same version is already published
palomino4Windows Server 2022 Datacenter / x64  OK    OK    OK    OK  UNNEEDED, same version is already published
merida1macOS 12.7.1 Monterey / x86_64  OK    OK    OK    OK  UNNEEDED, same version is already published
kjohnson1macOS 13.6.1 Ventura / arm64see weekly results here
Package 8/241HostnameOS / ArchINSTALLBUILDCHECKBUILD BIN
anota2seq 1.24.0  (landing page)
Christian Oertlin , Ola Larsson
git_last_commit: aca5ad9
git_last_commit_date: 2023-10-24 11:00:23 -0400
nebbiolo2Linux (Ubuntu 22.04.3 LTS) / x86_64  OK    OK    WARNINGS  UNNEEDED, same version is already published
palomino4Windows Server 2022 Datacenter / x64  OK    OK    OK    OK  UNNEEDED, same version is already published
merida1macOS 12.7.1 Monterey / x86_64  OK    OK    OK    OK  UNNEEDED, same version is already published
kjohnson1macOS 13.6.1 Ventura / arm64see weekly results here
Package 9/241HostnameOS / ArchINSTALLBUILDCHECKBUILD BIN
ArrayExpress 1.62.0  (landing page)
Jose Marugan
git_last_commit: 52f3e7c
git_last_commit_date: 2023-10-24 09:40:42 -0400
nebbiolo2Linux (Ubuntu 22.04.3 LTS) / x86_64  OK    OK    OK  UNNEEDED, same version is already published
palomino4Windows Server 2022 Datacenter / x64  OK    OK    OK    OK  UNNEEDED, same version is already published
merida1macOS 12.7.1 Monterey / x86_64  OK    OK    OK    OK  UNNEEDED, same version is already published
kjohnson1macOS 13.6.1 Ventura / arm64see weekly results here
Package 10/241HostnameOS / ArchINSTALLBUILDCHECKBUILD BIN
arrayQuality 1.80.0  (landing page)
Agnes Paquet
git_last_commit: 0c752d2
git_last_commit_date: 2023-10-24 09:33:15 -0400
nebbiolo2Linux (Ubuntu 22.04.3 LTS) / x86_64  OK    OK    WARNINGS  UNNEEDED, same version is already published
palomino4Windows Server 2022 Datacenter / x64  OK    OK    WARNINGS    OK  UNNEEDED, same version is already published
merida1macOS 12.7.1 Monterey / x86_64  OK    OK    WARNINGS    OK  UNNEEDED, same version is already published
kjohnson1macOS 13.6.1 Ventura / arm64see weekly results here
Package 11/241HostnameOS / ArchINSTALLBUILDCHECKBUILD BIN
arrayQualityMetrics 3.58.0  (landing page)
Mike Smith
git_last_commit: bfaad3b
git_last_commit_date: 2023-10-24 09:38:50 -0400
nebbiolo2Linux (Ubuntu 22.04.3 LTS) / x86_64  OK    OK    OK  UNNEEDED, same version is already published
palomino4Windows Server 2022 Datacenter / x64  OK    OK    OK    OK  UNNEEDED, same version is already published
merida1macOS 12.7.1 Monterey / x86_64  OK    OK    OK    OK  UNNEEDED, same version is already published
kjohnson1macOS 13.6.1 Ventura / arm64see weekly results here
Package 12/241HostnameOS / ArchINSTALLBUILDCHECKBUILD BIN
artMS 1.20.0  (landing page)
David Jimenez-Morales
git_last_commit: cc581a0
git_last_commit_date: 2023-10-24 11:09:13 -0400
nebbiolo2Linux (Ubuntu 22.04.3 LTS) / x86_64  OK    OK    OK  UNNEEDED, same version is already published
palomino4Windows Server 2022 Datacenter / x64  OK    OK    OK    OK  UNNEEDED, same version is already published
merida1macOS 12.7.1 Monterey / x86_64  OK    OK    OK    OK  UNNEEDED, same version is already published
kjohnson1macOS 13.6.1 Ventura / arm64see weekly results here
Package 13/241HostnameOS / ArchINSTALLBUILDCHECKBUILD BIN
ASpli 2.12.0  (landing page)
Ariel Chernomoretz
git_last_commit: bf94d05
git_last_commit_date: 2023-10-24 10:51:51 -0400
nebbiolo2Linux (Ubuntu 22.04.3 LTS) / x86_64  OK    OK    WARNINGS  UNNEEDED, same version is already published
palomino4Windows Server 2022 Datacenter / x64  OK    OK    WARNINGS    OK  UNNEEDED, same version is already published
merida1macOS 12.7.1 Monterey / x86_64  OK    OK    WARNINGS    OK  UNNEEDED, same version is already published
kjohnson1macOS 13.6.1 Ventura / arm64see weekly results here
Package 14/241HostnameOS / ArchINSTALLBUILDCHECKBUILD BIN
ATACseqQC 1.26.0  (landing page)
Jianhong Ou
git_last_commit: 415dbcb
git_last_commit_date: 2023-10-24 10:57:16 -0400
nebbiolo2Linux (Ubuntu 22.04.3 LTS) / x86_64  OK    OK    OK  UNNEEDED, same version is already published
palomino4Windows Server 2022 Datacenter / x64  OK    OK    OK    OK  UNNEEDED, same version is already published
merida1macOS 12.7.1 Monterey / x86_64  OK    OK    OK    OK  UNNEEDED, same version is already published
kjohnson1macOS 13.6.1 Ventura / arm64see weekly results here
Package 15/241HostnameOS / ArchINSTALLBUILDCHECKBUILD BIN
ATACseqTFEA 1.4.0  (landing page)
Jianhong Ou
git_last_commit: a8b0929
git_last_commit_date: 2023-10-24 11:43:31 -0400
nebbiolo2Linux (Ubuntu 22.04.3 LTS) / x86_64  OK    OK    OK  UNNEEDED, same version is already published
palomino4Windows Server 2022 Datacenter / x64  OK    OK    OK    OK  UNNEEDED, same version is already published
merida1macOS 12.7.1 Monterey / x86_64  OK    OK    OK    OK  UNNEEDED, same version is already published
kjohnson1macOS 13.6.1 Ventura / arm64see weekly results here
Package 16/241HostnameOS / ArchINSTALLBUILDCHECKBUILD BIN
attract 1.54.0  (landing page)
Samuel Zimmerman
git_last_commit: 602c7c7
git_last_commit_date: 2023-10-24 09:44:13 -0400
nebbiolo2Linux (Ubuntu 22.04.3 LTS) / x86_64  OK    OK    OK  UNNEEDED, same version is already published
palomino4Windows Server 2022 Datacenter / x64  OK    OK    OK    OK  UNNEEDED, same version is already published
merida1macOS 12.7.1 Monterey / x86_64  OK    OK    OK    OK  UNNEEDED, same version is already published
kjohnson1macOS 13.6.1 Ventura / arm64see weekly results here
Package 17/241HostnameOS / ArchINSTALLBUILDCHECKBUILD BIN
autonomics 1.10.2  (landing page)
Aditya Bhagwat
git_last_commit: 230045c
git_last_commit_date: 2023-11-08 04:08:57 -0400
nebbiolo2Linux (Ubuntu 22.04.3 LTS) / x86_64  OK    ERROR  skipped
palomino4Windows Server 2022 Datacenter / x64  OK    OK    OK    OK  UNNEEDED, same version is already published
merida1macOS 12.7.1 Monterey / x86_64  OK    ERROR  skippedskipped
kjohnson1macOS 13.6.1 Ventura / arm64see weekly results here
Package 18/241HostnameOS / ArchINSTALLBUILDCHECKBUILD BIN
AWFisher 1.16.0  (landing page)
Zhiguang Huo
git_last_commit: 76256c8
git_last_commit_date: 2023-10-24 11:15:06 -0400
nebbiolo2Linux (Ubuntu 22.04.3 LTS) / x86_64  OK    OK    OK  UNNEEDED, same version is already published
palomino4Windows Server 2022 Datacenter / x64  OK    OK    OK    OK  UNNEEDED, same version is already published
merida1macOS 12.7.1 Monterey / x86_64  OK    OK    OK    OK  UNNEEDED, same version is already published
kjohnson1macOS 13.6.1 Ventura / arm64see weekly results here
Package 19/241HostnameOS / ArchINSTALLBUILDCHECKBUILD BIN
ballgown 2.34.0  (landing page)
Jack Fu
git_last_commit: a7bfd55
git_last_commit_date: 2023-10-24 10:00:15 -0400
nebbiolo2Linux (Ubuntu 22.04.3 LTS) / x86_64  OK    OK    OK  UNNEEDED, same version is already published
palomino4Windows Server 2022 Datacenter / x64  OK    OK    OK    OK  UNNEEDED, same version is already published
merida1macOS 12.7.1 Monterey / x86_64  OK    OK    OK    OK  UNNEEDED, same version is already published
kjohnson1macOS 13.6.1 Ventura / arm64see weekly results here
Package 20/241HostnameOS / ArchINSTALLBUILDCHECKBUILD BIN
BatchQC 1.30.0  (landing page)
Solaiappan Manimaran
git_last_commit: 3ece1d7
git_last_commit_date: 2023-10-24 10:49:29 -0400
nebbiolo2Linux (Ubuntu 22.04.3 LTS) / x86_64  OK    OK    OK  UNNEEDED, same version is already published
palomino4Windows Server 2022 Datacenter / x64  OK    OK    OK    OK  UNNEEDED, same version is already published
merida1macOS 12.7.1 Monterey / x86_64  OK    OK    OK    OK  UNNEEDED, same version is already published
kjohnson1macOS 13.6.1 Ventura / arm64see weekly results here
Package 21/241HostnameOS / ArchINSTALLBUILDCHECKBUILD BIN
beadarray 2.52.0  (landing page)
Mark Dunning
git_last_commit: 3a4da33
git_last_commit_date: 2023-10-24 09:36:14 -0400
nebbiolo2Linux (Ubuntu 22.04.3 LTS) / x86_64  OK    OK    OK  UNNEEDED, same version is already published
palomino4Windows Server 2022 Datacenter / x64  OK    OK    OK    OK  UNNEEDED, same version is already published
merida1macOS 12.7.1 Monterey / x86_64  OK    OK    OK    OK  UNNEEDED, same version is already published
kjohnson1macOS 13.6.1 Ventura / arm64see weekly results here
Package 22/241HostnameOS / ArchINSTALLBUILDCHECKBUILD BIN
benchdamic 1.8.2  (landing page)
Matteo Calgaro
git_last_commit: c22b193
git_last_commit_date: 2024-03-06 05:03:42 -0400
nebbiolo2Linux (Ubuntu 22.04.3 LTS) / x86_64  OK    OK    OK  UNNEEDED, same version is already published
palomino4Windows Server 2022 Datacenter / x64  OK    OK    OK    OK  UNNEEDED, same version is already published
merida1macOS 12.7.1 Monterey / x86_64  OK    OK    OK    OK  UNNEEDED, same version is already published
kjohnson1macOS 13.6.1 Ventura / arm64see weekly results here
Package 23/241HostnameOS / ArchINSTALLBUILDCHECKBUILD BIN
biotmle 1.26.0  (landing page)
Nima Hejazi
git_last_commit: e95f9b0
git_last_commit_date: 2023-10-24 10:56:59 -0400
nebbiolo2Linux (Ubuntu 22.04.3 LTS) / x86_64  OK    OK    OK  UNNEEDED, same version is already published
palomino4Windows Server 2022 Datacenter / x64  OK    OK    OK    OK  UNNEEDED, same version is already published
merida1macOS 12.7.1 Monterey / x86_64  OK    OK    OK    OK  UNNEEDED, same version is already published
kjohnson1macOS 13.6.1 Ventura / arm64see weekly results here
Package 24/241HostnameOS / ArchINSTALLBUILDCHECKBUILD BIN
BLMA 1.26.0  (landing page)
Hung Nguyen
git_last_commit: c63d0ef
git_last_commit_date: 2023-10-24 10:57:02 -0400
nebbiolo2Linux (Ubuntu 22.04.3 LTS) / x86_64  OK    OK    OK  UNNEEDED, same version is already published
palomino4Windows Server 2022 Datacenter / x64  OK    OK    OK    OK  UNNEEDED, same version is already published
merida1macOS 12.7.1 Monterey / x86_64  OK    OK    OK    OK  UNNEEDED, same version is already published
kjohnson1macOS 13.6.1 Ventura / arm64see weekly results here
Package 25/241HostnameOS / ArchINSTALLBUILDCHECKBUILD BIN
BloodGen3Module 1.10.0  (landing page)
Darawan Rinchai
git_last_commit: 388b9c6
git_last_commit_date: 2023-10-24 11:33:38 -0400
nebbiolo2Linux (Ubuntu 22.04.3 LTS) / x86_64  OK    OK    WARNINGS  UNNEEDED, same version is already published
palomino4Windows Server 2022 Datacenter / x64  OK    OK    WARNINGS    OK  UNNEEDED, same version is already published
merida1macOS 12.7.1 Monterey / x86_64  OK    OK    WARNINGS    OK  UNNEEDED, same version is already published
kjohnson1macOS 13.6.1 Ventura / arm64see weekly results here
Package 26/241HostnameOS / ArchINSTALLBUILDCHECKBUILD BIN
bnem 1.10.0  (landing page)
Martin Pirkl
git_last_commit: ba0965c
git_last_commit_date: 2023-10-24 11:28:26 -0400
nebbiolo2Linux (Ubuntu 22.04.3 LTS) / x86_64  OK    OK    OK  UNNEEDED, same version is already published
palomino4Windows Server 2022 Datacenter / x64  OK    OK    OK    OK  UNNEEDED, same version is already published
merida1macOS 12.7.1 Monterey / x86_64  OK    OK    OK    OK  UNNEEDED, same version is already published
kjohnson1macOS 13.6.1 Ventura / arm64see weekly results here
Package 27/241HostnameOS / ArchINSTALLBUILDCHECKBUILD BIN
bsseq 1.38.0  (landing page)
Kasper Daniel Hansen
git_last_commit: 392e22c
git_last_commit_date: 2023-10-24 09:50:39 -0400
nebbiolo2Linux (Ubuntu 22.04.3 LTS) / x86_64  OK    OK    OK  UNNEEDED, same version is already published
palomino4Windows Server 2022 Datacenter / x64  OK    OK    OK    OK  UNNEEDED, same version is already published
merida1macOS 12.7.1 Monterey / x86_64  OK    OK    OK    OK  UNNEEDED, same version is already published
kjohnson1macOS 13.6.1 Ventura / arm64see weekly results here
Package 28/241HostnameOS / ArchINSTALLBUILDCHECKBUILD BIN
BubbleTree 2.32.0  (landing page)
Todd Creasy , Wei Zhu
git_last_commit: eea5b5e
git_last_commit_date: 2023-10-24 10:41:33 -0400
nebbiolo2Linux (Ubuntu 22.04.3 LTS) / x86_64  OK    OK    OK  UNNEEDED, same version is already published
palomino4Windows Server 2022 Datacenter / x64  OK    OK    OK    OK  UNNEEDED, same version is already published
merida1macOS 12.7.1 Monterey / x86_64  OK    OK    OK    OK  UNNEEDED, same version is already published
kjohnson1macOS 13.6.1 Ventura / arm64see weekly results here
Package 29/241HostnameOS / ArchINSTALLBUILDCHECKBUILD BIN
bumphunter 1.44.0  (landing page)
Tamilselvi Guharaj
git_last_commit: 084be68
git_last_commit_date: 2023-10-24 09:52:09 -0400
nebbiolo2Linux (Ubuntu 22.04.3 LTS) / x86_64  OK    OK    OK  UNNEEDED, same version is already published
palomino4Windows Server 2022 Datacenter / x64  OK    OK    OK    OK  UNNEEDED, same version is already published
merida1macOS 12.7.1 Monterey / x86_64  OK    OK    OK    OK  UNNEEDED, same version is already published
kjohnson1macOS 13.6.1 Ventura / arm64see weekly results here
Package 30/241HostnameOS / ArchINSTALLBUILDCHECKBUILD BIN
CancerSubtypes 1.28.0  (landing page)
Taosheng Xu
git_last_commit: 03e787b
git_last_commit_date: 2023-10-24 10:52:09 -0400
nebbiolo2Linux (Ubuntu 22.04.3 LTS) / x86_64  OK    OK    ERROR  
palomino4Windows Server 2022 Datacenter / x64  OK    OK    WARNINGS    OK  UNNEEDED, same version is already published
merida1macOS 12.7.1 Monterey / x86_64  OK    OK    WARNINGS    OK  UNNEEDED, same version is already published
kjohnson1macOS 13.6.1 Ventura / arm64see weekly results here
Package 31/241HostnameOS / ArchINSTALLBUILDCHECKBUILD BIN
casper 2.36.0  (landing page)
David Rossell
git_last_commit: 10bb585
git_last_commit_date: 2023-10-24 09:52:32 -0400
nebbiolo2Linux (Ubuntu 22.04.3 LTS) / x86_64  OK    OK    OK  UNNEEDED, same version is already published
palomino4Windows Server 2022 Datacenter / x64  OK    OK    WARNINGS    OK  UNNEEDED, same version is already published
merida1macOS 12.7.1 Monterey / x86_64  OK    ERROR  skippedskipped
kjohnson1macOS 13.6.1 Ventura / arm64see weekly results here
Package 32/241HostnameOS / ArchINSTALLBUILDCHECKBUILD BIN
cghMCR 1.60.0  (landing page)
J. Zhang
git_last_commit: f965259
git_last_commit_date: 2023-10-24 09:36:40 -0400
nebbiolo2Linux (Ubuntu 22.04.3 LTS) / x86_64  OK    OK    WARNINGS  UNNEEDED, same version is already published
palomino4Windows Server 2022 Datacenter / x64  OK    OK    WARNINGS    OK  UNNEEDED, same version is already published
merida1macOS 12.7.1 Monterey / x86_64  OK    OK    WARNINGS    OK  UNNEEDED, same version is already published
kjohnson1macOS 13.6.1 Ventura / arm64see weekly results here
Package 33/241HostnameOS / ArchINSTALLBUILDCHECKBUILD BIN
ChAMP 2.32.0  (landing page)
Yuan Tian
git_last_commit: 95ac946
git_last_commit_date: 2023-10-24 09:56:34 -0400
nebbiolo2Linux (Ubuntu 22.04.3 LTS) / x86_64  OK    OK    WARNINGS  UNNEEDED, same version is already published
palomino4Windows Server 2022 Datacenter / x64  OK    OK    WARNINGS    OK  UNNEEDED, same version is already published
merida1macOS 12.7.1 Monterey / x86_64  OK    OK    WARNINGS    OK  UNNEEDED, same version is already published
kjohnson1macOS 13.6.1 Ventura / arm64see weekly results here
Package 34/241HostnameOS / ArchINSTALLBUILDCHECKBUILD BIN
ChIPComp 1.32.0  (landing page)
Li Chen
git_last_commit: 46346bb
git_last_commit_date: 2023-10-24 10:44:51 -0400
nebbiolo2Linux (Ubuntu 22.04.3 LTS) / x86_64  OK    OK    OK  UNNEEDED, same version is already published
palomino4Windows Server 2022 Datacenter / x64  OK    OK    OK    OK  UNNEEDED, same version is already published
merida1macOS 12.7.1 Monterey / x86_64  OK    OK    OK    OK  UNNEEDED, same version is already published
kjohnson1macOS 13.6.1 Ventura / arm64see weekly results here
Package 35/241HostnameOS / ArchINSTALLBUILDCHECKBUILD BIN
clippda 1.52.0  (landing page)
Stephen Nyangoma
git_last_commit: 8f0ec8a
git_last_commit_date: 2023-10-24 09:42:30 -0400
nebbiolo2Linux (Ubuntu 22.04.3 LTS) / x86_64  OK    OK    OK  UNNEEDED, same version is already published
palomino4Windows Server 2022 Datacenter / x64  OK    OK    OK    OK  UNNEEDED, same version is already published
merida1macOS 12.7.1 Monterey / x86_64  OK    OK    OK    OK  UNNEEDED, same version is already published
kjohnson1macOS 13.6.1 Ventura / arm64see weekly results here
Package 36/241HostnameOS / ArchINSTALLBUILDCHECKBUILD BIN
clusterExperiment 2.22.0  (landing page)
Elizabeth Purdom
git_last_commit: e99c78d
git_last_commit_date: 2023-10-24 10:51:18 -0400
nebbiolo2Linux (Ubuntu 22.04.3 LTS) / x86_64  OK    OK    WARNINGS  UNNEEDED, same version is already published
palomino4Windows Server 2022 Datacenter / x64  OK    OK    WARNINGS    OK  UNNEEDED, same version is already published
merida1macOS 12.7.1 Monterey / x86_64  OK    OK    WARNINGS    OK  UNNEEDED, same version is already published
kjohnson1macOS 13.6.1 Ventura / arm64see weekly results here
Package 37/241HostnameOS / ArchINSTALLBUILDCHECKBUILD BIN
CNVRanger 1.18.1  (landing page)
Ludwig Geistlinger
git_last_commit: bccc306
git_last_commit_date: 2024-02-24 16:54:29 -0400
nebbiolo2Linux (Ubuntu 22.04.3 LTS) / x86_64  OK    ERROR  skipped
palomino4Windows Server 2022 Datacenter / x64  OK    OK    OK    OK  UNNEEDED, same version is already published
merida1macOS 12.7.1 Monterey / x86_64  OK    OK    OK    OK  UNNEEDED, same version is already published
kjohnson1macOS 13.6.1 Ventura / arm64see weekly results here
Package 38/241HostnameOS / ArchINSTALLBUILDCHECKBUILD BIN
codelink 1.70.0  (landing page)
Diego Diez
git_last_commit: 2bef0c7
git_last_commit_date: 2023-10-24 09:36:06 -0400
nebbiolo2Linux (Ubuntu 22.04.3 LTS) / x86_64  OK    OK    OK  UNNEEDED, same version is already published
palomino4Windows Server 2022 Datacenter / x64  OK    OK    OK    OK  UNNEEDED, same version is already published
merida1macOS 12.7.1 Monterey / x86_64  OK    OK    OK    OK  UNNEEDED, same version is already published
kjohnson1macOS 13.6.1 Ventura / arm64see weekly results here
Package 39/241HostnameOS / ArchINSTALLBUILDCHECKBUILD BIN
combi 1.14.0  (landing page)
Stijn Hawinkel
git_last_commit: 79a4a97
git_last_commit_date: 2023-10-24 11:20:28 -0400
nebbiolo2Linux (Ubuntu 22.04.3 LTS) / x86_64  OK    OK    OK  UNNEEDED, same version is already published
palomino4Windows Server 2022 Datacenter / x64  OK    OK    OK    OK  UNNEEDED, same version is already published
merida1macOS 12.7.1 Monterey / x86_64  OK    OK    OK    OK  UNNEEDED, same version is already published
kjohnson1macOS 13.6.1 Ventura / arm64see weekly results here
Package 40/241HostnameOS / ArchINSTALLBUILDCHECKBUILD BIN
compcodeR 1.38.0  (landing page)
Charlotte Soneson
git_last_commit: 1bea8af
git_last_commit_date: 2023-10-24 09:58:44 -0400
nebbiolo2Linux (Ubuntu 22.04.3 LTS) / x86_64  OK    OK    OK  UNNEEDED, same version is already published
palomino4Windows Server 2022 Datacenter / x64  OK    OK    OK    OK  UNNEEDED, same version is already published
merida1macOS 12.7.1 Monterey / x86_64  OK    OK    OK    OK  UNNEEDED, same version is already published
kjohnson1macOS 13.6.1 Ventura / arm64see weekly results here
Package 41/241HostnameOS / ArchINSTALLBUILDCHECKBUILD BIN
CONFESS 1.30.0  (landing page)
Diana LOW
git_last_commit: 641088d
git_last_commit_date: 2023-10-24 10:49:18 -0400
nebbiolo2Linux (Ubuntu 22.04.3 LTS) / x86_64  OK    OK    WARNINGS  UNNEEDED, same version is already published
palomino4Windows Server 2022 Datacenter / x64  OK    OK    WARNINGS    OK  UNNEEDED, same version is already published
merida1macOS 12.7.1 Monterey / x86_64  OK    OK    WARNINGS    OK  UNNEEDED, same version is already published
kjohnson1macOS 13.6.1 Ventura / arm64see weekly results here
Package 42/241HostnameOS / ArchINSTALLBUILDCHECKBUILD BIN
consensusDE 1.20.0  (landing page)
Ashley J. Waardenberg
git_last_commit: 8cccaad
git_last_commit_date: 2023-10-24 11:09:05 -0400
nebbiolo2Linux (Ubuntu 22.04.3 LTS) / x86_64  OK    OK    OK  UNNEEDED, same version is already published
palomino4Windows Server 2022 Datacenter / x64  OK    OK    OK    OK  UNNEEDED, same version is already published
merida1macOS 12.7.1 Monterey / x86_64  OK    OK    OK    OK  UNNEEDED, same version is already published
kjohnson1macOS 13.6.1 Ventura / arm64see weekly results here
Package 43/241HostnameOS / ArchINSTALLBUILDCHECKBUILD BIN
consensusOV 1.24.0  (landing page)
Benjamin Haibe-Kains
git_last_commit: d805368
git_last_commit_date: 2023-10-24 10:58:16 -0400
nebbiolo2Linux (Ubuntu 22.04.3 LTS) / x86_64  OK    OK    OK  UNNEEDED, same version is already published
palomino4Windows Server 2022 Datacenter / x64  OK    OK    OK    OK  UNNEEDED, same version is already published
merida1macOS 12.7.1 Monterey / x86_64  OK    OK    OK    OK  UNNEEDED, same version is already published
kjohnson1macOS 13.6.1 Ventura / arm64see weekly results here
Package 44/241HostnameOS / ArchINSTALLBUILDCHECKBUILD BIN
convert 1.78.0  (landing page)
Yee Hwa (Jean) Yang
git_last_commit: 398d7e4
git_last_commit_date: 2023-10-24 09:33:30 -0400
nebbiolo2Linux (Ubuntu 22.04.3 LTS) / x86_64  OK    OK    OK  UNNEEDED, same version is already published
palomino4Windows Server 2022 Datacenter / x64  OK    OK    OK    OK  UNNEEDED, same version is already published
merida1macOS 12.7.1 Monterey / x86_64  OK    OK    OK    OK  UNNEEDED, same version is already published
kjohnson1macOS 13.6.1 Ventura / arm64see weekly results here
Package 45/241HostnameOS / ArchINSTALLBUILDCHECKBUILD BIN
Cormotif 1.48.0  (landing page)
Yingying Wei
git_last_commit: ed355f1
git_last_commit_date: 2023-10-24 09:47:15 -0400
nebbiolo2Linux (Ubuntu 22.04.3 LTS) / x86_64  OK    OK    OK  UNNEEDED, same version is already published
palomino4Windows Server 2022 Datacenter / x64  OK    OK    OK    OK  UNNEEDED, same version is already published
merida1macOS 12.7.1 Monterey / x86_64  OK    OK    OK    OK  UNNEEDED, same version is already published
kjohnson1macOS 13.6.1 Ventura / arm64see weekly results here
Package 46/241HostnameOS / ArchINSTALLBUILDCHECKBUILD BIN
crlmm 1.60.0  (landing page)
Benilton S Carvalho
git_last_commit: 1271399
git_last_commit_date: 2023-10-24 09:41:39 -0400
nebbiolo2Linux (Ubuntu 22.04.3 LTS) / x86_64  OK    OK    WARNINGS  UNNEEDED, same version is already published
palomino4Windows Server 2022 Datacenter / x64  OK    OK    WARNINGS    OK  UNNEEDED, same version is already published
merida1macOS 12.7.1 Monterey / x86_64  OK    OK    WARNINGS    OK  UNNEEDED, same version is already published
kjohnson1macOS 13.6.1 Ventura / arm64see weekly results here
Package 47/241HostnameOS / ArchINSTALLBUILDCHECKBUILD BIN
crossmeta 1.28.0  (landing page)
Alex Pickering
git_last_commit: 3ae7537
git_last_commit_date: 2023-10-24 10:50:52 -0400
nebbiolo2Linux (Ubuntu 22.04.3 LTS) / x86_64  OK    OK    OK  UNNEEDED, same version is already published
palomino4Windows Server 2022 Datacenter / x64  OK    OK    OK    OK  UNNEEDED, same version is already published
merida1macOS 12.7.1 Monterey / x86_64  OK    OK    OK    OK  UNNEEDED, same version is already published
kjohnson1macOS 13.6.1 Ventura / arm64see weekly results here
Package 48/241HostnameOS / ArchINSTALLBUILDCHECKBUILD BIN
csaw 1.36.1  (landing page)
Aaron Lun
git_last_commit: 25b51ba
git_last_commit_date: 2023-11-30 02:21:57 -0400
nebbiolo2Linux (Ubuntu 22.04.3 LTS) / x86_64  OK    OK    WARNINGS  UNNEEDED, same version is already published
palomino4Windows Server 2022 Datacenter / x64  OK    OK    WARNINGS    OK  UNNEEDED, same version is already published
merida1macOS 12.7.1 Monterey / x86_64  OK    OK    WARNINGS    OK  UNNEEDED, same version is already published
kjohnson1macOS 13.6.1 Ventura / arm64see weekly results here
Package 49/241HostnameOS / ArchINSTALLBUILDCHECKBUILD BIN
cTRAP 1.20.1  (landing page)
Nuno Saraiva-Agostinho
git_last_commit: 5b14821
git_last_commit_date: 2024-03-27 08:09:59 -0400
nebbiolo2Linux (Ubuntu 22.04.3 LTS) / x86_64  OK    OK    OK  YES
palomino4Windows Server 2022 Datacenter / x64  OK    OK    OK    OK  YES
merida1macOS 12.7.1 Monterey / x86_64  OK    OK    OK    OK  YES
kjohnson1macOS 13.6.1 Ventura / arm64see weekly results here
Package 50/241HostnameOS / ArchINSTALLBUILDCHECKBUILD BIN
ctsGE 1.28.0  (landing page)
Michal Sharabi-Schwager
git_last_commit: 18cd56e
git_last_commit_date: 2023-10-24 10:51:48 -0400
nebbiolo2Linux (Ubuntu 22.04.3 LTS) / x86_64  OK    OK    OK  UNNEEDED, same version is already published
palomino4Windows Server 2022 Datacenter / x64  OK    OK    OK    OK  UNNEEDED, same version is already published
merida1macOS 12.7.1 Monterey / x86_64  OK    OK    OK    OK  UNNEEDED, same version is already published
kjohnson1macOS 13.6.1 Ventura / arm64see weekly results here
Package 51/241HostnameOS / ArchINSTALLBUILDCHECKBUILD BIN
DAMEfinder 1.14.0  (landing page)
Stephany Orjuela
git_last_commit: 622c379
git_last_commit_date: 2023-10-24 11:19:04 -0400
nebbiolo2Linux (Ubuntu 22.04.3 LTS) / x86_64  OK    OK    OK  UNNEEDED, same version is already published
palomino4Windows Server 2022 Datacenter / x64  OK    OK    OK    OK  UNNEEDED, same version is already published
merida1macOS 12.7.1 Monterey / x86_64  OK    OK    OK    OK  UNNEEDED, same version is already published
kjohnson1macOS 13.6.1 Ventura / arm64see weekly results here
Package 52/241HostnameOS / ArchINSTALLBUILDCHECKBUILD BIN
DaMiRseq 2.14.0  (landing page)
Mattia Chiesa
git_last_commit: 18c499a
git_last_commit_date: 2023-10-24 10:56:05 -0400
nebbiolo2Linux (Ubuntu 22.04.3 LTS) / x86_64  OK    OK    OK  UNNEEDED, same version is already published
palomino4Windows Server 2022 Datacenter / x64  OK    OK    OK    OK  UNNEEDED, same version is already published
merida1macOS 12.7.1 Monterey / x86_64  OK    OK    OK    OK  UNNEEDED, same version is already published
kjohnson1macOS 13.6.1 Ventura / arm64see weekly results here
Package 53/241HostnameOS / ArchINSTALLBUILDCHECKBUILD BIN
DAPAR 1.34.6  (landing page)
Samuel Wieczorek
git_last_commit: 829b5ff
git_last_commit_date: 2024-02-15 01:08:59 -0400
nebbiolo2Linux (Ubuntu 22.04.3 LTS) / x86_64  OK    OK    OK  UNNEEDED, same version is already published
palomino4Windows Server 2022 Datacenter / x64  OK    OK    OK    OK  UNNEEDED, same version is already published
merida1macOS 12.7.1 Monterey / x86_64  OK    OK    OK    OK  UNNEEDED, same version is already published
kjohnson1macOS 13.6.1 Ventura / arm64see weekly results here
Package 54/241HostnameOS / ArchINSTALLBUILDCHECKBUILD BIN
debrowser 1.30.2  (landing page)
Alper Kucukural
git_last_commit: edf9f4c
git_last_commit_date: 2024-02-05 11:10:13 -0400
nebbiolo2Linux (Ubuntu 22.04.3 LTS) / x86_64  OK    OK    OK  UNNEEDED, same version is already published
palomino4Windows Server 2022 Datacenter / x64  OK    OK    OK    OK  UNNEEDED, same version is already published
merida1macOS 12.7.1 Monterey / x86_64  OK    OK    OK    OK  UNNEEDED, same version is already published
kjohnson1macOS 13.6.1 Ventura / arm64see weekly results here
Package 55/241HostnameOS / ArchINSTALLBUILDCHECKBUILD BIN
deco 1.18.0  (landing page)
Francisco Jose Campos Laborie
git_last_commit: e2f2dad
git_last_commit_date: 2023-10-24 11:10:03 -0400
nebbiolo2Linux (Ubuntu 22.04.3 LTS) / x86_64  OK    ERROR  skipped
palomino4Windows Server 2022 Datacenter / x64  OK    ERROR  skippedskipped
merida1macOS 12.7.1 Monterey / x86_64  OK    ERROR  skippedskipped
kjohnson1macOS 13.6.1 Ventura / arm64see weekly results here
Package 56/241HostnameOS / ArchINSTALLBUILDCHECKBUILD BIN
DELocal 1.2.1  (landing page)
Rishi Das Roy
git_last_commit: 063d523
git_last_commit_date: 2024-03-26 04:27:26 -0400
nebbiolo2Linux (Ubuntu 22.04.3 LTS) / x86_64  OK    OK    OK  YES
palomino4Windows Server 2022 Datacenter / x64  OK    OK    OK    OK  YES
merida1macOS 12.7.1 Monterey / x86_64  OK    OK    OK    OK  YES
kjohnson1macOS 13.6.1 Ventura / arm64see weekly results here
Package 57/241HostnameOS / ArchINSTALLBUILDCHECKBUILD BIN
DEP 1.24.0  (landing page)
Arne Smits
git_last_commit: 3eedbc9
git_last_commit_date: 2023-10-24 10:58:53 -0400
nebbiolo2Linux (Ubuntu 22.04.3 LTS) / x86_64  OK    OK    WARNINGS  UNNEEDED, same version is already published
palomino4Windows Server 2022 Datacenter / x64  OK    OK    WARNINGS    OK  UNNEEDED, same version is already published
merida1macOS 12.7.1 Monterey / x86_64  OK    OK    WARNINGS    OK  UNNEEDED, same version is already published
kjohnson1macOS 13.6.1 Ventura / arm64see weekly results here
Package 58/241HostnameOS / ArchINSTALLBUILDCHECKBUILD BIN
DEqMS 1.20.0  (landing page)
Yafeng Zhu
git_last_commit: 4050c40
git_last_commit_date: 2023-10-24 11:07:43 -0400
nebbiolo2Linux (Ubuntu 22.04.3 LTS) / x86_64  OK    OK    OK  UNNEEDED, same version is already published
palomino4Windows Server 2022 Datacenter / x64  OK    OK    OK    OK  UNNEEDED, same version is already published
merida1macOS 12.7.1 Monterey / x86_64  OK    OK    OK    OK  UNNEEDED, same version is already published
kjohnson1macOS 13.6.1 Ventura / arm64see weekly results here
Package 59/241HostnameOS / ArchINSTALLBUILDCHECKBUILD BIN
derfinderPlot 1.36.0  (landing page)
Leonardo Collado-Torres
git_last_commit: 23673da
git_last_commit_date: 2023-10-24 10:38:59 -0400
nebbiolo2Linux (Ubuntu 22.04.3 LTS) / x86_64  OK    OK    OK  UNNEEDED, same version is already published
palomino4Windows Server 2022 Datacenter / x64  OK    OK    OK    OK  UNNEEDED, same version is already published
merida1macOS 12.7.1 Monterey / x86_64  OK    OK    OK    OK  UNNEEDED, same version is already published
kjohnson1macOS 13.6.1 Ventura / arm64see weekly results here
Package 60/241HostnameOS / ArchINSTALLBUILDCHECKBUILD BIN
DESpace 1.2.1  (landing page)
Peiying Cai
git_last_commit: ad6d77d
git_last_commit_date: 2024-01-22 11:01:36 -0400
nebbiolo2Linux (Ubuntu 22.04.3 LTS) / x86_64  OK    OK    OK  UNNEEDED, same version is already published
palomino4Windows Server 2022 Datacenter / x64  OK    OK    OK    OK  UNNEEDED, same version is already published
merida1macOS 12.7.1 Monterey / x86_64  OK    OK    OK    OK  UNNEEDED, same version is already published
kjohnson1macOS 13.6.1 Ventura / arm64see weekly results here
Package 61/241HostnameOS / ArchINSTALLBUILDCHECKBUILD BIN
DEsubs 1.28.0  (landing page)
Aristidis G. Vrahatis , Panos Balomenos
git_last_commit: a59b0e4
git_last_commit_date: 2023-10-24 10:53:05 -0400
nebbiolo2Linux (Ubuntu 22.04.3 LTS) / x86_64  OK    OK    WARNINGS  UNNEEDED, same version is already published
palomino4Windows Server 2022 Datacenter / x64  OK    OK    WARNINGS    OK  UNNEEDED, same version is already published
merida1macOS 12.7.1 Monterey / x86_64  OK    OK    WARNINGS    OK  UNNEEDED, same version is already published
kjohnson1macOS 13.6.1 Ventura / arm64see weekly results here
Package 62/241HostnameOS / ArchINSTALLBUILDCHECKBUILD BIN
DExMA 1.10.7  (landing page)
Juan Antonio Villatoro-García
git_last_commit: dd6da1e
git_last_commit_date: 2023-12-05 03:55:46 -0400
nebbiolo2Linux (Ubuntu 22.04.3 LTS) / x86_64  OK    OK    OK  UNNEEDED, same version is already published
palomino4Windows Server 2022 Datacenter / x64  OK    OK    OK    OK  UNNEEDED, same version is already published
merida1macOS 12.7.1 Monterey / x86_64  OK    OK    OK    OK  UNNEEDED, same version is already published
kjohnson1macOS 13.6.1 Ventura / arm64see weekly results here
Package 63/241HostnameOS / ArchINSTALLBUILDCHECKBUILD BIN
DiffBind 3.12.0  (landing page)
Rory Stark
git_last_commit: 00284e8
git_last_commit_date: 2023-10-24 09:48:02 -0400
nebbiolo2Linux (Ubuntu 22.04.3 LTS) / x86_64  OK    OK    WARNINGS  UNNEEDED, same version is already published
palomino4Windows Server 2022 Datacenter / x64  OK    OK    OK    OK  UNNEEDED, same version is already published
merida1macOS 12.7.1 Monterey / x86_64  OK    OK    WARNINGS    OK  UNNEEDED, same version is already published
kjohnson1macOS 13.6.1 Ventura / arm64see weekly results here
Package 64/241HostnameOS / ArchINSTALLBUILDCHECKBUILD BIN
diffcyt 1.22.1  (landing page)
Lukas M. Weber
git_last_commit: 871da65
git_last_commit_date: 2024-03-17 14:26:13 -0400
nebbiolo2Linux (Ubuntu 22.04.3 LTS) / x86_64  OK    OK    OK  UNNEEDED, same version is already published
palomino4Windows Server 2022 Datacenter / x64  OK    OK    OK    OK  UNNEEDED, same version is already published
merida1macOS 12.7.1 Monterey / x86_64  OK    OK    OK    OK  UNNEEDED, same version is already published
kjohnson1macOS 13.6.1 Ventura / arm64see weekly results here
Package 65/241HostnameOS / ArchINSTALLBUILDCHECKBUILD BIN
diffHic 1.34.0  (landing page)
Aaron Lun
git_last_commit: d7d9f66
git_last_commit_date: 2023-10-24 10:43:16 -0400
nebbiolo2Linux (Ubuntu 22.04.3 LTS) / x86_64  OK    OK    WARNINGS  UNNEEDED, same version is already published
palomino4Windows Server 2022 Datacenter / x64  OK    OK    WARNINGS    OK  UNNEEDED, same version is already published
merida1macOS 12.7.1 Monterey / x86_64  OK    OK    WARNINGS    OK  UNNEEDED, same version is already published
kjohnson1macOS 13.6.1 Ventura / arm64see weekly results here
Package 66/241HostnameOS / ArchINSTALLBUILDCHECKBUILD BIN
diffUTR 1.10.0  (landing page)
Pierre-Luc Germain
git_last_commit: 90e9a90
git_last_commit_date: 2023-10-24 11:33:18 -0400
nebbiolo2Linux (Ubuntu 22.04.3 LTS) / x86_64  OK    OK    OK  UNNEEDED, same version is already published
palomino4Windows Server 2022 Datacenter / x64  OK    OK    OK    OK  UNNEEDED, same version is already published
merida1macOS 12.7.1 Monterey / x86_64  OK    OK    OK    OK  UNNEEDED, same version is already published
kjohnson1macOS 13.6.1 Ventura / arm64see weekly results here
Package 67/241HostnameOS / ArchINSTALLBUILDCHECKBUILD BIN
distinct 1.14.5  (landing page)
Simone Tiberi
git_last_commit: 31c7174
git_last_commit_date: 2023-12-04 09:29:02 -0400
nebbiolo2Linux (Ubuntu 22.04.3 LTS) / x86_64  OK    OK    OK  UNNEEDED, same version is already published
palomino4Windows Server 2022 Datacenter / x64  OK    OK    OK    OK  UNNEEDED, same version is already published
merida1macOS 12.7.1 Monterey / x86_64  OK    OK    OK    OK  UNNEEDED, same version is already published
kjohnson1macOS 13.6.1 Ventura / arm64see weekly results here
Package 68/241HostnameOS / ArchINSTALLBUILDCHECKBUILD BIN
DMRcate 2.16.1  (landing page)
Tim Peters
git_last_commit: 4cd2397
git_last_commit_date: 2023-12-04 22:28:28 -0400
nebbiolo2Linux (Ubuntu 22.04.3 LTS) / x86_64  OK    OK    OK  UNNEEDED, same version is already published
palomino4Windows Server 2022 Datacenter / x64  OK    OK    OK    OK  UNNEEDED, same version is already published
merida1macOS 12.7.1 Monterey / x86_64  OK    OK    TIMEOUT    OK  
kjohnson1macOS 13.6.1 Ventura / arm64see weekly results here
Package 69/241HostnameOS / ArchINSTALLBUILDCHECKBUILD BIN
Doscheda 1.24.0  (landing page)
Bruno Contrino
git_last_commit: a15eefb
git_last_commit_date: 2023-10-24 10:59:06 -0400
nebbiolo2Linux (Ubuntu 22.04.3 LTS) / x86_64  OK    OK    OK  UNNEEDED, same version is already published
palomino4Windows Server 2022 Datacenter / x64  OK    OK    OK    OK  UNNEEDED, same version is already published
merida1macOS 12.7.1 Monterey / x86_64  OK    OK    OK    OK  UNNEEDED, same version is already published
kjohnson1macOS 13.6.1 Ventura / arm64see weekly results here
Package 70/241HostnameOS / ArchINSTALLBUILDCHECKBUILD BIN
dreamlet 1.0.3  (landing page)
Gabriel Hoffman
git_last_commit: 0e59587
git_last_commit_date: 2024-02-27 14:51:44 -0400
nebbiolo2Linux (Ubuntu 22.04.3 LTS) / x86_64  OK    OK    OK  UNNEEDED, same version is already published
palomino4Windows Server 2022 Datacenter / x64  OK    OK    OK    OK  UNNEEDED, same version is already published
merida1macOS 12.7.1 Monterey / x86_64  OK    OK    OK    OK  UNNEEDED, same version is already published
kjohnson1macOS 13.6.1 Ventura / arm64see weekly results here
Package 71/241HostnameOS / ArchINSTALLBUILDCHECKBUILD BIN
DRIMSeq 1.30.0  (landing page)
Malgorzata Nowicka
git_last_commit: dca4fea
git_last_commit_date: 2023-10-24 10:48:39 -0400
nebbiolo2Linux (Ubuntu 22.04.3 LTS) / x86_64  OK    OK    WARNINGS  UNNEEDED, same version is already published
palomino4Windows Server 2022 Datacenter / x64  OK    OK    WARNINGS    OK  UNNEEDED, same version is already published
merida1macOS 12.7.1 Monterey / x86_64  OK    OK    WARNINGS    OK  UNNEEDED, same version is already published
kjohnson1macOS 13.6.1 Ventura / arm64see weekly results here
Package 72/241HostnameOS / ArchINSTALLBUILDCHECKBUILD BIN
DrugVsDisease 2.44.0  (landing page)
j. Saez-Rodriguez
git_last_commit: 65afd54
git_last_commit_date: 2023-10-24 09:52:37 -0400
nebbiolo2Linux (Ubuntu 22.04.3 LTS) / x86_64  OK    OK    OK  UNNEEDED, same version is already published
palomino4Windows Server 2022 Datacenter / x64  OK    OK    OK    OK  UNNEEDED, same version is already published
merida1macOS 12.7.1 Monterey / x86_64  OK    OK    OK    OK  UNNEEDED, same version is already published
kjohnson1macOS 13.6.1 Ventura / arm64see weekly results here
Package 73/241HostnameOS / ArchINSTALLBUILDCHECKBUILD BIN
edgeR 4.0.16  (landing page)
Yunshun Chen , Gordon Smyth , Aaron Lun , Mark Robinson
git_last_commit: 1e37a9b
git_last_commit_date: 2024-02-18 03:12:21 -0400
nebbiolo2Linux (Ubuntu 22.04.3 LTS) / x86_64  OK    OK    OK  UNNEEDED, same version is already published
palomino4Windows Server 2022 Datacenter / x64  OK    OK    OK    OK  UNNEEDED, same version is already published
merida1macOS 12.7.1 Monterey / x86_64  OK    OK    OK    OK  UNNEEDED, same version is already published
kjohnson1macOS 13.6.1 Ventura / arm64see weekly results here
Package 74/241HostnameOS / ArchINSTALLBUILDCHECKBUILD BIN
eegc 1.28.0  (landing page)
Xiaoyuan Zhou
git_last_commit: 5fcfa13
git_last_commit_date: 2023-10-24 10:52:19 -0400
nebbiolo2Linux (Ubuntu 22.04.3 LTS) / x86_64  OK    OK    ERROR  
palomino4Windows Server 2022 Datacenter / x64  OK    OK    WARNINGS    OK  UNNEEDED, same version is already published
merida1macOS 12.7.1 Monterey / x86_64  OK    OK    WARNINGS    OK  UNNEEDED, same version is already published
kjohnson1macOS 13.6.1 Ventura / arm64see weekly results here
Package 75/241HostnameOS / ArchINSTALLBUILDCHECKBUILD BIN
EGAD 1.30.0  (landing page)
Sara Ballouz
git_last_commit: d529277
git_last_commit_date: 2023-10-24 10:50:17 -0400
nebbiolo2Linux (Ubuntu 22.04.3 LTS) / x86_64  OK    OK    WARNINGS  UNNEEDED, same version is already published
palomino4Windows Server 2022 Datacenter / x64  OK    OK    WARNINGS    OK  UNNEEDED, same version is already published
merida1macOS 12.7.1 Monterey / x86_64  OK    OK    WARNINGS    OK  UNNEEDED, same version is already published
kjohnson1macOS 13.6.1 Ventura / arm64see weekly results here
Package 76/241HostnameOS / ArchINSTALLBUILDCHECKBUILD BIN
EGSEA 1.30.1  (landing page)
Monther Alhamdoosh
git_last_commit: 8e57e03
git_last_commit_date: 2024-01-14 07:13:13 -0400
nebbiolo2Linux (Ubuntu 22.04.3 LTS) / x86_64  OK    OK    OK  UNNEEDED, same version is already published
palomino4Windows Server 2022 Datacenter / x64  OK    OK    OK    OK  UNNEEDED, same version is already published
merida1macOS 12.7.1 Monterey / x86_64  OK    OK    OK    OK  UNNEEDED, same version is already published
kjohnson1macOS 13.6.1 Ventura / arm64see weekly results here
Package 77/241HostnameOS / ArchINSTALLBUILDCHECKBUILD BIN
eisaR 1.14.1  (landing page)
Michael Stadler
git_last_commit: e4a470a
git_last_commit_date: 2024-01-15 08:05:34 -0400
nebbiolo2Linux (Ubuntu 22.04.3 LTS) / x86_64  OK    OK    OK  UNNEEDED, same version is already published
palomino4Windows Server 2022 Datacenter / x64  OK    OK    OK    OK  UNNEEDED, same version is already published
merida1macOS 12.7.1 Monterey / x86_64  OK    OK    OK    OK  UNNEEDED, same version is already published
kjohnson1macOS 13.6.1 Ventura / arm64see weekly results here
Package 78/241HostnameOS / ArchINSTALLBUILDCHECKBUILD BIN
EnrichmentBrowser 2.32.0  (landing page)
Ludwig Geistlinger
git_last_commit: a2bb60b
git_last_commit_date: 2023-10-24 10:38:31 -0400
nebbiolo2Linux (Ubuntu 22.04.3 LTS) / x86_64  OK    OK    OK  UNNEEDED, same version is already published
palomino4Windows Server 2022 Datacenter / x64  OK    OK    OK    OK  UNNEEDED, same version is already published
merida1macOS 12.7.1 Monterey / x86_64  OK    OK    OK    OK  UNNEEDED, same version is already published
kjohnson1macOS 13.6.1 Ventura / arm64see weekly results here
Package 79/241HostnameOS / ArchINSTALLBUILDCHECKBUILD BIN
epigraHMM 1.10.0  (landing page)
Pedro Baldoni
git_last_commit: 810c6f9
git_last_commit_date: 2023-10-24 11:33:52 -0400
nebbiolo2Linux (Ubuntu 22.04.3 LTS) / x86_64  OK    OK    WARNINGS  UNNEEDED, same version is already published
palomino4Windows Server 2022 Datacenter / x64  OK    OK    OK    OK  UNNEEDED, same version is already published
merida1macOS 12.7.1 Monterey / x86_64  OK    OK    WARNINGS    OK  UNNEEDED, same version is already published
kjohnson1macOS 13.6.1 Ventura / arm64see weekly results here
Package 80/241HostnameOS / ArchINSTALLBUILDCHECKBUILD BIN
EpiMix 1.4.0  (landing page)
Yuanning Zheng
git_last_commit: dd3578d
git_last_commit_date: 2023-10-24 11:43:01 -0400
nebbiolo2Linux (Ubuntu 22.04.3 LTS) / x86_64  OK    OK    OK  UNNEEDED, same version is already published
palomino4Windows Server 2022 Datacenter / x64  OK    OK    OK    OK  UNNEEDED, same version is already published
merida1macOS 12.7.1 Monterey / x86_64  OK    OK    OK    OK  UNNEEDED, same version is already published
kjohnson1macOS 13.6.1 Ventura / arm64see weekly results here
Package 81/241HostnameOS / ArchINSTALLBUILDCHECKBUILD BIN
erccdashboard 1.36.0  (landing page)
Sarah Munro
git_last_commit: ec57f0e
git_last_commit_date: 2023-10-24 10:00:47 -0400
nebbiolo2Linux (Ubuntu 22.04.3 LTS) / x86_64  OK    OK    OK  UNNEEDED, same version is already published
palomino4Windows Server 2022 Datacenter / x64  OK    OK    OK    OK  UNNEEDED, same version is already published
merida1macOS 12.7.1 Monterey / x86_64  OK    OK    OK    OK  UNNEEDED, same version is already published
kjohnson1macOS 13.6.1 Ventura / arm64see weekly results here
Package 82/241HostnameOS / ArchINSTALLBUILDCHECKBUILD BIN
EventPointer 3.10.0  (landing page)
Juan A. Ferrer-Bonsoms
git_last_commit: 3989887
git_last_commit_date: 2023-10-24 10:55:44 -0400
nebbiolo2Linux (Ubuntu 22.04.3 LTS) / x86_64  OK    OK    OK  UNNEEDED, same version is already published
palomino4Windows Server 2022 Datacenter / x64  OK    OK    OK    OK  UNNEEDED, same version is already published
merida1macOS 12.7.1 Monterey / x86_64  OK    OK    OK    OK  UNNEEDED, same version is already published
kjohnson1macOS 13.6.1 Ventura / arm64see weekly results here
Package 83/241HostnameOS / ArchINSTALLBUILDCHECKBUILD BIN
EWCE 1.10.2  (landing page)
Alan Murphy
git_last_commit: 0413c77
git_last_commit_date: 2023-10-31 11:15:34 -0400
nebbiolo2Linux (Ubuntu 22.04.3 LTS) / x86_64  OK    OK    OK  UNNEEDED, same version is already published
palomino4Windows Server 2022 Datacenter / x64  OK    OK    OK    OK  UNNEEDED, same version is already published
merida1macOS 12.7.1 Monterey / x86_64  OK    OK    OK    OK  UNNEEDED, same version is already published
kjohnson1macOS 13.6.1 Ventura / arm64see weekly results here
Package 84/241HostnameOS / ArchINSTALLBUILDCHECKBUILD BIN
ExiMiR 2.44.0  (landing page)
Sylvain Gubian
git_last_commit: 45c5a7f
git_last_commit_date: 2023-10-24 09:45:39 -0400
nebbiolo2Linux (Ubuntu 22.04.3 LTS) / x86_64  OK    OK    OK  UNNEEDED, same version is already published
palomino4Windows Server 2022 Datacenter / x64  OK    OK    OK    OK  UNNEEDED, same version is already published
merida1macOS 12.7.1 Monterey / x86_64  OK    OK    OK    OK  UNNEEDED, same version is already published
kjohnson1macOS 13.6.1 Ventura / arm64see weekly results here
Package 85/241HostnameOS / ArchINSTALLBUILDCHECKBUILD BIN
ExploreModelMatrix 1.14.0  (landing page)
Charlotte Soneson
git_last_commit: b412836
git_last_commit_date: 2023-10-24 11:20:59 -0400
nebbiolo2Linux (Ubuntu 22.04.3 LTS) / x86_64  OK    OK    OK  UNNEEDED, same version is already published
palomino4Windows Server 2022 Datacenter / x64  OK    OK    OK    OK  UNNEEDED, same version is already published
merida1macOS 12.7.1 Monterey / x86_64  OK    OK    OK    OK  UNNEEDED, same version is already published
kjohnson1macOS 13.6.1 Ventura / arm64see weekly results here
Package 86/241HostnameOS / ArchINSTALLBUILDCHECKBUILD BIN
ExpressionAtlas 1.30.0  (landing page)
Pedro Madrigal
git_last_commit: 62d01ee
git_last_commit_date: 2023-10-24 10:47:44 -0400
nebbiolo2Linux (Ubuntu 22.04.3 LTS) / x86_64  OK    OK    OK  UNNEEDED, same version is already published
palomino4Windows Server 2022 Datacenter / x64  OK    OK    OK    OK  UNNEEDED, same version is already published
merida1macOS 12.7.1 Monterey / x86_64  OK    OK    OK    OK  UNNEEDED, same version is already published
kjohnson1macOS 13.6.1 Ventura / arm64see weekly results here
Package 87/241HostnameOS / ArchINSTALLBUILDCHECKBUILD BIN
extraChIPs 1.6.1  (landing page)
Stephen Pederson
git_last_commit: fb27d0b
git_last_commit_date: 2024-02-27 06:23:59 -0400
nebbiolo2Linux (Ubuntu 22.04.3 LTS) / x86_64  OK    OK    OK  UNNEEDED, same version is already published
palomino4Windows Server 2022 Datacenter / x64  OK    OK    OK    OK  UNNEEDED, same version is already published
merida1macOS 12.7.1 Monterey / x86_64  OK    OK    OK    OK  UNNEEDED, same version is already published
kjohnson1macOS 13.6.1 Ventura / arm64see weekly results here
Package 88/241HostnameOS / ArchINSTALLBUILDCHECKBUILD BIN
flowBin 1.38.0  (landing page)
Kieran O'Neill
git_last_commit: 2b7343d
git_last_commit_date: 2023-10-24 09:57:04 -0400
nebbiolo2Linux (Ubuntu 22.04.3 LTS) / x86_64  OK    OK    OK  UNNEEDED, same version is already published
palomino4Windows Server 2022 Datacenter / x64  OK    OK    OK    OK  UNNEEDED, same version is already published
merida1macOS 12.7.1 Monterey / x86_64  OK    OK    OK    OK  UNNEEDED, same version is already published
kjohnson1macOS 13.6.1 Ventura / arm64see weekly results here
Package 89/241HostnameOS / ArchINSTALLBUILDCHECKBUILD BIN
gCrisprTools 2.8.0  (landing page)
Russell Bainer
git_last_commit: b31fbe6
git_last_commit_date: 2023-10-24 10:52:32 -0400
nebbiolo2Linux (Ubuntu 22.04.3 LTS) / x86_64  OK    OK    OK  UNNEEDED, same version is already published
palomino4Windows Server 2022 Datacenter / x64  OK    OK    OK    OK  UNNEEDED, same version is already published
merida1macOS 12.7.1 Monterey / x86_64  OK    OK    OK    OK  UNNEEDED, same version is already published
kjohnson1macOS 13.6.1 Ventura / arm64see weekly results here
Package 90/241HostnameOS / ArchINSTALLBUILDCHECKBUILD BIN
GDCRNATools 1.22.0  (landing page)
Ruidong Li
git_last_commit: 6d2fd31
git_last_commit_date: 2023-10-24 11:02:21 -0400
nebbiolo2Linux (Ubuntu 22.04.3 LTS) / x86_64  OK    OK    OK  UNNEEDED, same version is already published
palomino4Windows Server 2022 Datacenter / x64  OK    OK    OK    OK  UNNEEDED, same version is already published
merida1macOS 12.7.1 Monterey / x86_64  OK    OK    OK    OK  UNNEEDED, same version is already published
kjohnson1macOS 13.6.1 Ventura / arm64see weekly results here
Package 91/241HostnameOS / ArchINSTALLBUILDCHECKBUILD BIN
genefu 2.34.0  (landing page)
Benjamin Haibe-Kains
git_last_commit: 6911d3c
git_last_commit_date: 2023-10-24 09:46:18 -0400
nebbiolo2Linux (Ubuntu 22.04.3 LTS) / x86_64  OK    OK    WARNINGS  UNNEEDED, same version is already published
palomino4Windows Server 2022 Datacenter / x64  OK    OK    WARNINGS    OK  UNNEEDED, same version is already published
merida1macOS 12.7.1 Monterey / x86_64  OK    OK    WARNINGS    OK  UNNEEDED, same version is already published
kjohnson1macOS 13.6.1 Ventura / arm64see weekly results here
Package 92/241HostnameOS / ArchINSTALLBUILDCHECKBUILD BIN
GeneSelectMMD 2.46.0  (landing page)
Weiliang Qiu
git_last_commit: 1000d0f
git_last_commit_date: 2023-10-24 09:41:36 -0400
nebbiolo2Linux (Ubuntu 22.04.3 LTS) / x86_64  OK    OK    WARNINGS  UNNEEDED, same version is already published
palomino4Windows Server 2022 Datacenter / x64  OK    OK    OK    OK  UNNEEDED, same version is already published
merida1macOS 12.7.1 Monterey / x86_64  OK    OK    WARNINGS    OK  UNNEEDED, same version is already published
kjohnson1macOS 13.6.1 Ventura / arm64see weekly results here
Package 93/241HostnameOS / ArchINSTALLBUILDCHECKBUILD BIN
GEOexplorer 1.8.0  (landing page)
Guy Hunt
git_last_commit: b53ee6c
git_last_commit_date: 2023-10-24 11:35:27 -0400
nebbiolo2Linux (Ubuntu 22.04.3 LTS) / x86_64  OK    OK    WARNINGS  UNNEEDED, same version is already published
palomino4Windows Server 2022 Datacenter / x64  OK    OK    WARNINGS    OK  UNNEEDED, same version is already published
merida1macOS 12.7.1 Monterey / x86_64  OK    OK    WARNINGS    OK  UNNEEDED, same version is already published
kjohnson1macOS 13.6.1 Ventura / arm64see weekly results here
Package 94/241HostnameOS / ArchINSTALLBUILDCHECKBUILD BIN
GEOquery 2.70.0  (landing page)
Sean Davis
git_last_commit: 3f46879
git_last_commit_date: 2023-10-24 09:36:03 -0400
nebbiolo2Linux (Ubuntu 22.04.3 LTS) / x86_64  OK    OK    OK  UNNEEDED, same version is already published
palomino4Windows Server 2022 Datacenter / x64  OK    OK    OK    OK  UNNEEDED, same version is already published
merida1macOS 12.7.1 Monterey / x86_64  OK    OK    ERROR    OK  
kjohnson1macOS 13.6.1 Ventura / arm64see weekly results here
Package 95/241HostnameOS / ArchINSTALLBUILDCHECKBUILD BIN
gg4way 1.0.2  (landing page)
Benjamin I Laufer
git_last_commit: a882d4b
git_last_commit_date: 2024-01-31 12:34:53 -0400
nebbiolo2Linux (Ubuntu 22.04.3 LTS) / x86_64  OK    OK    OK  UNNEEDED, same version is already published
palomino4Windows Server 2022 Datacenter / x64  OK    OK    OK    OK  UNNEEDED, same version is already published
merida1macOS 12.7.1 Monterey / x86_64  OK    OK    OK    OK  UNNEEDED, same version is already published
kjohnson1macOS 13.6.1 Ventura / arm64see weekly results here
Package 96/241HostnameOS / ArchINSTALLBUILDCHECKBUILD BIN
Glimma 2.12.0  (landing page)
Shian Su
git_last_commit: 9ca869e
git_last_commit_date: 2023-10-24 10:49:23 -0400
nebbiolo2Linux (Ubuntu 22.04.3 LTS) / x86_64  OK    OK    OK  UNNEEDED, same version is already published
palomino4Windows Server 2022 Datacenter / x64  OK    OK    OK    OK  UNNEEDED, same version is already published
merida1macOS 12.7.1 Monterey / x86_64  OK    OK    OK    OK  UNNEEDED, same version is already published
kjohnson1macOS 13.6.1 Ventura / arm64see weekly results here
Package 97/241HostnameOS / ArchINSTALLBUILDCHECKBUILD BIN
GOsummaries 2.38.0  (landing page)
Raivo Kolde
git_last_commit: 305917d
git_last_commit_date: 2023-10-24 10:38:24 -0400
nebbiolo2Linux (Ubuntu 22.04.3 LTS) / x86_64  OK    ERROR  skipped
palomino4Windows Server 2022 Datacenter / x64  OK    ERROR  skippedskipped
merida1macOS 12.7.1 Monterey / x86_64  OK    ERROR  skippedskipped
kjohnson1macOS 13.6.1 Ventura / arm64see weekly results here
Package 98/241HostnameOS / ArchINSTALLBUILDCHECKBUILD BIN
GRaNIE 1.6.1  (landing page)
Christian Arnold
git_last_commit: 35f2aa9
git_last_commit_date: 2023-10-26 11:47:33 -0400
nebbiolo2Linux (Ubuntu 22.04.3 LTS) / x86_64  OK    ERROR  skipped
palomino4Windows Server 2022 Datacenter / x64  OK    ERROR  skippedskipped
merida1macOS 12.7.1 Monterey / x86_64  OK    ERROR  skippedskipped
kjohnson1macOS 13.6.1 Ventura / arm64see weekly results here
Package 99/241HostnameOS / ArchINSTALLBUILDCHECKBUILD BIN
GUIDEseq 1.32.0  (landing page)
Lihua Julie Zhu
git_last_commit: d675d44
git_last_commit_date: 2023-10-24 10:45:51 -0400
nebbiolo2Linux (Ubuntu 22.04.3 LTS) / x86_64  OK    OK    OK  UNNEEDED, same version is already published
palomino4Windows Server 2022 Datacenter / x64  OK    OK    OK    OK  UNNEEDED, same version is already published
merida1macOS 12.7.1 Monterey / x86_64  OK    OK    OK    OK  UNNEEDED, same version is already published
kjohnson1macOS 13.6.1 Ventura / arm64see weekly results here
Package 100/241HostnameOS / ArchINSTALLBUILDCHECKBUILD BIN
GWAS.BAYES 1.12.0  (landing page)
Jacob Williams
git_last_commit: eef3a9f
git_last_commit_date: 2023-10-24 11:27:48 -0400
nebbiolo2Linux (Ubuntu 22.04.3 LTS) / x86_64  OK    OK    OK  UNNEEDED, same version is already published
palomino4Windows Server 2022 Datacenter / x64  OK    OK    OK    OK  UNNEEDED, same version is already published
merida1macOS 12.7.1 Monterey / x86_64  OK    OK    OK    OK  UNNEEDED, same version is already published
kjohnson1macOS 13.6.1 Ventura / arm64see weekly results here
Package 101/241HostnameOS / ArchINSTALLBUILDCHECKBUILD BIN
HarmonizR 1.0.0  (landing page)
Simon Schlumbohm
git_last_commit: 6404f6c
git_last_commit_date: 2023-10-24 11:50:23 -0400
nebbiolo2Linux (Ubuntu 22.04.3 LTS) / x86_64  OK    OK    OK  UNNEEDED, same version is already published
palomino4Windows Server 2022 Datacenter / x64  OK    OK    OK    OK  UNNEEDED, same version is already published
merida1macOS 12.7.1 Monterey / x86_64  OK    OK    OK    OK  UNNEEDED, same version is already published
kjohnson1macOS 13.6.1 Ventura / arm64see weekly results here
Package 102/241HostnameOS / ArchINSTALLBUILDCHECKBUILD BIN
hermes 1.6.1  (landing page)
Daniel Sabanés Bové
git_last_commit: c301424
git_last_commit_date: 2024-03-15 04:30:37 -0400
nebbiolo2Linux (Ubuntu 22.04.3 LTS) / x86_64  OK    OK    OK  UNNEEDED, same version is already published
palomino4Windows Server 2022 Datacenter / x64  OK    OK    OK    OK  UNNEEDED, same version is already published
merida1macOS 12.7.1 Monterey / x86_64  OK    OK    OK    OK  UNNEEDED, same version is already published
kjohnson1macOS 13.6.1 Ventura / arm64see weekly results here
Package 103/241HostnameOS / ArchINSTALLBUILDCHECKBUILD BIN
HERON 1.0.0  (landing page)
Sean McIlwain
git_last_commit: 233a914
git_last_commit_date: 2023-10-24 11:50:30 -0400
nebbiolo2Linux (Ubuntu 22.04.3 LTS) / x86_64  OK    OK    OK  UNNEEDED, same version is already published
palomino4Windows Server 2022 Datacenter / x64  OK    OK    OK    OK  UNNEEDED, same version is already published
merida1macOS 12.7.1 Monterey / x86_64  OK    OK    OK    OK  UNNEEDED, same version is already published
kjohnson1macOS 13.6.1 Ventura / arm64see weekly results here
Package 104/241HostnameOS / ArchINSTALLBUILDCHECKBUILD BIN
hipathia 3.2.0  (landing page)
Marta R. Hidalgo
git_last_commit: 251de34
git_last_commit_date: 2023-10-24 11:04:44 -0400
nebbiolo2Linux (Ubuntu 22.04.3 LTS) / x86_64  OK    OK    OK  UNNEEDED, same version is already published
palomino4Windows Server 2022 Datacenter / x64  OK    OK    OK    OK  UNNEEDED, same version is already published
merida1macOS 12.7.1 Monterey / x86_64  OK    OK    OK    OK  UNNEEDED, same version is already published
kjohnson1macOS 13.6.1 Ventura / arm64see weekly results here
Package 105/241HostnameOS / ArchINSTALLBUILDCHECKBUILD BIN
HTqPCR 1.56.0  (landing page)
Heidi Dvinge
git_last_commit: cba77c7
git_last_commit_date: 2023-10-24 09:42:53 -0400
nebbiolo2Linux (Ubuntu 22.04.3 LTS) / x86_64  OK    OK    OK  UNNEEDED, same version is already published
palomino4Windows Server 2022 Datacenter / x64  OK    OK    OK    OK  UNNEEDED, same version is already published
merida1macOS 12.7.1 Monterey / x86_64  OK    OK    OK    OK  UNNEEDED, same version is already published
kjohnson1macOS 13.6.1 Ventura / arm64see weekly results here
Package 106/241HostnameOS / ArchINSTALLBUILDCHECKBUILD BIN
icetea 1.20.0  (landing page)
Vivek Bhardwaj
git_last_commit: 7b58dbe
git_last_commit_date: 2023-10-24 11:06:09 -0400
nebbiolo2Linux (Ubuntu 22.04.3 LTS) / x86_64  OK    OK    WARNINGS  UNNEEDED, same version is already published
palomino4Windows Server 2022 Datacenter / x64  OK    OK    WARNINGS    OK  UNNEEDED, same version is already published
merida1macOS 12.7.1 Monterey / x86_64  OK    OK    WARNINGS    OK  UNNEEDED, same version is already published
kjohnson1macOS 13.6.1 Ventura / arm64see weekly results here
Package 107/241HostnameOS / ArchINSTALLBUILDCHECKBUILD BIN
iCheck 1.32.0  (landing page)
Weiliang Qiu
git_last_commit: 17bf4a8
git_last_commit_date: 2023-10-24 10:45:34 -0400
nebbiolo2Linux (Ubuntu 22.04.3 LTS) / x86_64  OK    OK    OK  UNNEEDED, same version is already published
palomino4Windows Server 2022 Datacenter / x64  OK    OK    OK    OK  UNNEEDED, same version is already published
merida1macOS 12.7.1 Monterey / x86_64  OK    OK    OK    OK  UNNEEDED, same version is already published
kjohnson1macOS 13.6.1 Ventura / arm64see weekly results here
Package 108/241HostnameOS / ArchINSTALLBUILDCHECKBUILD BIN
iChip 1.56.0  (landing page)
Qianxing Mo
git_last_commit: fed08be
git_last_commit_date: 2023-10-24 09:43:17 -0400
nebbiolo2Linux (Ubuntu 22.04.3 LTS) / x86_64  OK    OK    WARNINGS  UNNEEDED, same version is already published
palomino4Windows Server 2022 Datacenter / x64  OK    OK    WARNINGS    OK  UNNEEDED, same version is already published
merida1macOS 12.7.1 Monterey / x86_64  OK    OK    WARNINGS    OK  UNNEEDED, same version is already published
kjohnson1macOS 13.6.1 Ventura / arm64see weekly results here
Package 109/241HostnameOS / ArchINSTALLBUILDCHECKBUILD BIN
iCOBRA 1.30.0  (landing page)
Charlotte Soneson
git_last_commit: e896266
git_last_commit_date: 2023-10-24 10:46:27 -0400
nebbiolo2Linux (Ubuntu 22.04.3 LTS) / x86_64  OK    OK    OK  UNNEEDED, same version is already published
palomino4Windows Server 2022 Datacenter / x64  OK    OK    OK    OK  UNNEEDED, same version is already published
merida1macOS 12.7.1 Monterey / x86_64  OK    OK    OK    OK  UNNEEDED, same version is already published
kjohnson1macOS 13.6.1 Ventura / arm64see weekly results here
Package 110/241HostnameOS / ArchINSTALLBUILDCHECKBUILD BIN
ideal 1.26.0  (landing page)
Federico Marini
git_last_commit: d045512
git_last_commit_date: 2023-10-24 10:57:10 -0400
nebbiolo2Linux (Ubuntu 22.04.3 LTS) / x86_64  OK    OK    OK  UNNEEDED, same version is already published
palomino4Windows Server 2022 Datacenter / x64  OK    OK    OK    OK  UNNEEDED, same version is already published
merida1macOS 12.7.1 Monterey / x86_64  OK    OK    OK    OK  UNNEEDED, same version is already published
kjohnson1macOS 13.6.1 Ventura / arm64see weekly results here
Package 111/241HostnameOS / ArchINSTALLBUILDCHECKBUILD BIN
InPAS 2.10.0  (landing page)
Jianhong Ou
git_last_commit: a2f3538
git_last_commit_date: 2023-10-24 10:42:15 -0400
nebbiolo2Linux (Ubuntu 22.04.3 LTS) / x86_64  OK    OK    OK  UNNEEDED, same version is already published
palomino4Windows Server 2022 Datacenter / x64  OK    OK    OK    OK  UNNEEDED, same version is already published
merida1macOS 12.7.1 Monterey / x86_64  OK    OK    OK    OK  UNNEEDED, same version is already published
kjohnson1macOS 13.6.1 Ventura / arm64see weekly results here
Package 112/241HostnameOS / ArchINSTALLBUILDCHECKBUILD BIN
IsoformSwitchAnalyzeR 2.2.0  (landing page)
Kristoffer Vitting-Seerup
git_last_commit: 172bcd1
git_last_commit_date: 2023-10-24 10:57:42 -0400
nebbiolo2Linux (Ubuntu 22.04.3 LTS) / x86_64  OK    OK    OK  UNNEEDED, same version is already published
palomino4Windows Server 2022 Datacenter / x64  OK    OK    OK    OK  UNNEEDED, same version is already published
merida1macOS 12.7.1 Monterey / x86_64  OK    OK    OK    OK  UNNEEDED, same version is already published
kjohnson1macOS 13.6.1 Ventura / arm64see weekly results here
Package 113/241HostnameOS / ArchINSTALLBUILDCHECKBUILD BIN
isomiRs 1.30.0  (landing page)
Lorena Pantano
git_last_commit: ac97130
git_last_commit_date: 2023-10-24 10:49:03 -0400
nebbiolo2Linux (Ubuntu 22.04.3 LTS) / x86_64  OK    OK    OK  UNNEEDED, same version is already published
palomino4Windows Server 2022 Datacenter / x64  OK    OK    OK    OK  UNNEEDED, same version is already published
merida1macOS 12.7.1 Monterey / x86_64  OK    OK    OK    OK  UNNEEDED, same version is already published
kjohnson1macOS 13.6.1 Ventura / arm64see weekly results here
Package 114/241HostnameOS / ArchINSTALLBUILDCHECKBUILD BIN
KnowSeq 1.16.0  (landing page)
Daniel Castillo-Secilla
git_last_commit: fedf990
git_last_commit_date: 2023-10-24 11:14:52 -0400
nebbiolo2Linux (Ubuntu 22.04.3 LTS) / x86_64  OK    OK    OK  UNNEEDED, same version is already published
palomino4Windows Server 2022 Datacenter / x64  OK    OK    OK    OK  UNNEEDED, same version is already published
merida1macOS 12.7.1 Monterey / x86_64  OK    OK    OK    OK  UNNEEDED, same version is already published
kjohnson1macOS 13.6.1 Ventura / arm64see weekly results here
Package 115/241HostnameOS / ArchINSTALLBUILDCHECKBUILD BIN
lemur 1.0.5  (landing page)
Constantin Ahlmann-Eltze
git_last_commit: 001ae9f
git_last_commit_date: 2023-12-06 10:01:44 -0400
nebbiolo2Linux (Ubuntu 22.04.3 LTS) / x86_64  OK    OK    OK  UNNEEDED, same version is already published
palomino4Windows Server 2022 Datacenter / x64  OK    OK    OK    OK  UNNEEDED, same version is already published
merida1macOS 12.7.1 Monterey / x86_64  OK    OK    OK    OK  UNNEEDED, same version is already published
kjohnson1macOS 13.6.1 Ventura / arm64see weekly results here
Package 116/241HostnameOS / ArchINSTALLBUILDCHECKBUILD BIN
limmaGUI 1.78.0  (landing page)
Gordon Smyth
git_last_commit: 76731c4
git_last_commit_date: 2023-10-24 09:33:24 -0400
nebbiolo2Linux (Ubuntu 22.04.3 LTS) / x86_64  OK    OK    OK  UNNEEDED, same version is already published
palomino4Windows Server 2022 Datacenter / x64  OK    OK    OK    OK  UNNEEDED, same version is already published
merida1macOS 12.7.1 Monterey / x86_64  OK    OK    OK    OK  UNNEEDED, same version is already published
kjohnson1macOS 13.6.1 Ventura / arm64see weekly results here
Package 117/241HostnameOS / ArchINSTALLBUILDCHECKBUILD BIN
Linnorm 2.26.0  (landing page)
Shun Hang Yip
git_last_commit: 20a223a
git_last_commit_date: 2023-10-24 10:49:16 -0400
nebbiolo2Linux (Ubuntu 22.04.3 LTS) / x86_64  OK    OK    OK  UNNEEDED, same version is already published
palomino4Windows Server 2022 Datacenter / x64  OK    OK    OK    OK  UNNEEDED, same version is already published
merida1macOS 12.7.1 Monterey / x86_64  OK    OK    OK    OK  UNNEEDED, same version is already published
kjohnson1macOS 13.6.1 Ventura / arm64see weekly results here
Package 118/241HostnameOS / ArchINSTALLBUILDCHECKBUILD BIN
lipidr 2.16.0  (landing page)
Ahmed Mohamed
git_last_commit: 247e39c
git_last_commit_date: 2023-10-24 11:13:19 -0400
nebbiolo2Linux (Ubuntu 22.04.3 LTS) / x86_64  OK    OK    OK  UNNEEDED, same version is already published
palomino4Windows Server 2022 Datacenter / x64  OK    OK    OK    OK  UNNEEDED, same version is already published
merida1macOS 12.7.1 Monterey / x86_64  OK    OK    OK    OK  UNNEEDED, same version is already published
kjohnson1macOS 13.6.1 Ventura / arm64see weekly results here
Package 119/241HostnameOS / ArchINSTALLBUILDCHECKBUILD BIN
lmdme 1.44.0  (landing page)
Cristobal Fresno
git_last_commit: 714faa2
git_last_commit_date: 2023-10-24 09:51:05 -0400
nebbiolo2Linux (Ubuntu 22.04.3 LTS) / x86_64  OK    OK    WARNINGS  UNNEEDED, same version is already published
palomino4Windows Server 2022 Datacenter / x64  OK    OK    WARNINGS    OK  UNNEEDED, same version is already published
merida1macOS 12.7.1 Monterey / x86_64  OK    OK    WARNINGS    OK  UNNEEDED, same version is already published
kjohnson1macOS 13.6.1 Ventura / arm64see weekly results here
Package 120/241HostnameOS / ArchINSTALLBUILDCHECKBUILD BIN
maigesPack 1.66.0  (landing page)
Gustavo H. Esteves
git_last_commit: 57de0bd
git_last_commit_date: 2023-10-24 09:39:04 -0400
nebbiolo2Linux (Ubuntu 22.04.3 LTS) / x86_64  OK    OK    ERROR  
palomino4Windows Server 2022 Datacenter / x64  OK    OK    OK    OK  UNNEEDED, same version is already published
merida1macOS 12.7.1 Monterey / x86_64  OK    OK    OK    OK  UNNEEDED, same version is already published
kjohnson1macOS 13.6.1 Ventura / arm64see weekly results here
Package 121/241HostnameOS / ArchINSTALLBUILDCHECKBUILD BIN
mAPKL 1.32.0  (landing page)
Argiris Sakellariou
git_last_commit: b2b6b36
git_last_commit_date: 2023-10-24 10:41:04 -0400
nebbiolo2Linux (Ubuntu 22.04.3 LTS) / x86_64  OK    ERROR  skipped
palomino4Windows Server 2022 Datacenter / x64  OK    ERROR  skippedskipped
merida1macOS 12.7.1 Monterey / x86_64  OK    ERROR  skippedskipped
kjohnson1macOS 13.6.1 Ventura / arm64see weekly results here
Package 122/241HostnameOS / ArchINSTALLBUILDCHECKBUILD BIN
maPredictDSC 1.40.0  (landing page)
Adi Laurentiu Tarca
git_last_commit: 20ea6c6
git_last_commit_date: 2023-10-24 09:54:43 -0400
nebbiolo2Linux (Ubuntu 22.04.3 LTS) / x86_64  OK    OK    OK  UNNEEDED, same version is already published
palomino4Windows Server 2022 Datacenter / x64  OK    OK    OK    OK  UNNEEDED, same version is already published
merida1macOS 12.7.1 Monterey / x86_64  OK    OK    OK    OK  UNNEEDED, same version is already published
kjohnson1macOS 13.6.1 Ventura / arm64see weekly results here
Package 123/241HostnameOS / ArchINSTALLBUILDCHECKBUILD BIN
marray 1.80.0  (landing page)
Yee Hwa (Jean) Yang
git_last_commit: fe0a90e
git_last_commit_date: 2023-10-24 09:33:27 -0400
nebbiolo2Linux (Ubuntu 22.04.3 LTS) / x86_64  OK    OK    OK  UNNEEDED, same version is already published
palomino4Windows Server 2022 Datacenter / x64  OK    OK    OK    OK  UNNEEDED, same version is already published
merida1macOS 12.7.1 Monterey / x86_64  OK    OK    OK    OK  UNNEEDED, same version is already published
kjohnson1macOS 13.6.1 Ventura / arm64see weekly results here
Package 124/241HostnameOS / ArchINSTALLBUILDCHECKBUILD BIN
mastR 1.2.3  (landing page)
Jinjin Chen
git_last_commit: 060276e
git_last_commit_date: 2024-01-09 04:03:13 -0400
nebbiolo2Linux (Ubuntu 22.04.3 LTS) / x86_64  OK    OK    OK  UNNEEDED, same version is already published
palomino4Windows Server 2022 Datacenter / x64  OK    OK    ERROR    OK  
merida1macOS 12.7.1 Monterey / x86_64  OK    OK    OK    OK  UNNEEDED, same version is already published
kjohnson1macOS 13.6.1 Ventura / arm64see weekly results here
Package 125/241HostnameOS / ArchINSTALLBUILDCHECKBUILD BIN
MatrixQCvis 1.10.0  (landing page)
Thomas Naake
git_last_commit: 9124112
git_last_commit_date: 2023-10-24 11:33:30 -0400
nebbiolo2Linux (Ubuntu 22.04.3 LTS) / x86_64  OK    OK    OK  UNNEEDED, same version is already published
palomino4Windows Server 2022 Datacenter / x64  OK    OK    OK    OK  UNNEEDED, same version is already published
merida1macOS 12.7.1 Monterey / x86_64  OK    OK    OK    OK  UNNEEDED, same version is already published
kjohnson1macOS 13.6.1 Ventura / arm64see weekly results here
Package 126/241HostnameOS / ArchINSTALLBUILDCHECKBUILD BIN
MBECS 1.6.0  (landing page)
Michael Olbrich
git_last_commit: e2b724f
git_last_commit_date: 2023-10-24 11:40:00 -0400
nebbiolo2Linux (Ubuntu 22.04.3 LTS) / x86_64  OK    OK    OK  UNNEEDED, same version is already published
palomino4Windows Server 2022 Datacenter / x64  OK    OK    OK    OK  UNNEEDED, same version is already published
merida1macOS 12.7.1 Monterey / x86_64  OK    OK    OK    OK  UNNEEDED, same version is already published
kjohnson1macOS 13.6.1 Ventura / arm64see weekly results here
Package 127/241HostnameOS / ArchINSTALLBUILDCHECKBUILD BIN
MBQN 2.14.0  (landing page)
Eva Brombacher
git_last_commit: 33f2515
git_last_commit_date: 2023-10-24 11:17:28 -0400
nebbiolo2Linux (Ubuntu 22.04.3 LTS) / x86_64  OK    OK    OK  UNNEEDED, same version is already published
palomino4Windows Server 2022 Datacenter / x64  OK    OK    OK    OK  UNNEEDED, same version is already published
merida1macOS 12.7.1 Monterey / x86_64  OK    OK    OK    OK  UNNEEDED, same version is already published
kjohnson1macOS 13.6.1 Ventura / arm64see weekly results here
Package 128/241HostnameOS / ArchINSTALLBUILDCHECKBUILD BIN
mCSEA 1.22.0  (landing page)
Jordi Martorell-Marugán
git_last_commit: d875693
git_last_commit_date: 2023-10-24 11:02:15 -0400
nebbiolo2Linux (Ubuntu 22.04.3 LTS) / x86_64  OK    OK    OK  UNNEEDED, same version is already published
palomino4Windows Server 2022 Datacenter / x64  OK    OK    OK    OK  UNNEEDED, same version is already published
merida1macOS 12.7.1 Monterey / x86_64  OK    OK    OK    OK  UNNEEDED, same version is already published
kjohnson1macOS 13.6.1 Ventura / arm64see weekly results here
Package 129/241HostnameOS / ArchINSTALLBUILDCHECKBUILD BIN
MEAL 1.32.0  (landing page)
Xavier Escribà Montagut
git_last_commit: 4d6f89b
git_last_commit_date: 2023-10-24 10:45:36 -0400
nebbiolo2Linux (Ubuntu 22.04.3 LTS) / x86_64  OK    OK    WARNINGS  UNNEEDED, same version is already published
palomino4Windows Server 2022 Datacenter / x64  OK    OK    WARNINGS    OK  UNNEEDED, same version is already published
merida1macOS 12.7.1 Monterey / x86_64  OK    OK    WARNINGS    OK  UNNEEDED, same version is already published
kjohnson1macOS 13.6.1 Ventura / arm64see weekly results here
Package 130/241HostnameOS / ArchINSTALLBUILDCHECKBUILD BIN
metagenomeSeq 1.44.0  (landing page)
Joseph N. Paulson
git_last_commit: c41f0b2
git_last_commit_date: 2023-10-24 09:53:37 -0400
nebbiolo2Linux (Ubuntu 22.04.3 LTS) / x86_64  OK    OK    ERROR  
palomino4Windows Server 2022 Datacenter / x64  OK    OK    ERROR    OK  
merida1macOS 12.7.1 Monterey / x86_64  OK    OK    ERROR    OK  
kjohnson1macOS 13.6.1 Ventura / arm64see weekly results here
Package 131/241HostnameOS / ArchINSTALLBUILDCHECKBUILD BIN
metaseqR2 1.14.0  (landing page)
Panagiotis Moulos
git_last_commit: c5496b0
git_last_commit_date: 2023-10-24 11:22:10 -0400
nebbiolo2Linux (Ubuntu 22.04.3 LTS) / x86_64  OK    OK    OK  UNNEEDED, same version is already published
palomino4Windows Server 2022 Datacenter / x64  OK    OK    OK    OK  UNNEEDED, same version is already published
merida1macOS 12.7.1 Monterey / x86_64  OK    OK    OK    OK  UNNEEDED, same version is already published
kjohnson1macOS 13.6.1 Ventura / arm64see weekly results here
Package 132/241HostnameOS / ArchINSTALLBUILDCHECKBUILD BIN
methylKit 1.28.0  (landing page)
Altuna Akalin , Alexander Blume
git_last_commit: 42a6cbf
git_last_commit_date: 2023-10-24 10:51:28 -0400
nebbiolo2Linux (Ubuntu 22.04.3 LTS) / x86_64  OK    OK    WARNINGS  UNNEEDED, same version is already published
palomino4Windows Server 2022 Datacenter / x64  OK    OK    OK    OK  UNNEEDED, same version is already published
merida1macOS 12.7.1 Monterey / x86_64  OK    OK    WARNINGS    OK  UNNEEDED, same version is already published
kjohnson1macOS 13.6.1 Ventura / arm64see weekly results here
Package 133/241HostnameOS / ArchINSTALLBUILDCHECKBUILD BIN
MethylMix 2.32.0  (landing page)
Olivier Gevaert
git_last_commit: 8bb440a
git_last_commit_date: 2023-10-24 10:00:58 -0400
nebbiolo2Linux (Ubuntu 22.04.3 LTS) / x86_64  OK    OK    OK  UNNEEDED, same version is already published
palomino4Windows Server 2022 Datacenter / x64  OK    OK    OK    OK  UNNEEDED, same version is already published
merida1macOS 12.7.1 Monterey / x86_64  OK    OK    OK    OK  UNNEEDED, same version is already published
kjohnson1macOS 13.6.1 Ventura / arm64see weekly results here
Package 134/241HostnameOS / ArchINSTALLBUILDCHECKBUILD BIN
microbiomeExplorer 1.12.0  (landing page)
Janina Reeder
git_last_commit: 83cb131
git_last_commit_date: 2023-10-24 11:26:35 -0400
nebbiolo2Linux (Ubuntu 22.04.3 LTS) / x86_64  OK    OK    OK  UNNEEDED, same version is already published
palomino4Windows Server 2022 Datacenter / x64  OK    OK    OK    OK  UNNEEDED, same version is already published
merida1macOS 12.7.1 Monterey / x86_64  OK    OK    OK    OK  UNNEEDED, same version is already published
kjohnson1macOS 13.6.1 Ventura / arm64see weekly results here
Package 135/241HostnameOS / ArchINSTALLBUILDCHECKBUILD BIN
microbiomeMarker 1.8.0  (landing page)
Yang Cao
git_last_commit: 577f9da
git_last_commit_date: 2023-11-04 04:39:30 -0400
nebbiolo2Linux (Ubuntu 22.04.3 LTS) / x86_64  OK    OK    OK  UNNEEDED, same version is already published
palomino4Windows Server 2022 Datacenter / x64  OK    OK    OK    OK  UNNEEDED, same version is already published
merida1macOS 12.7.1 Monterey / x86_64  OK    OK    OK    OK  UNNEEDED, same version is already published
kjohnson1macOS 13.6.1 Ventura / arm64see weekly results here
Package 136/241HostnameOS / ArchINSTALLBUILDCHECKBUILD BIN
miloR 1.10.0  (landing page)
Mike Morgan
git_last_commit: 7a29982
git_last_commit_date: 2023-10-24 11:32:53 -0400
nebbiolo2Linux (Ubuntu 22.04.3 LTS) / x86_64  OK    OK    OK  UNNEEDED, same version is already published
palomino4Windows Server 2022 Datacenter / x64  OK    OK    OK    OK  UNNEEDED, same version is already published
merida1macOS 12.7.1 Monterey / x86_64  OK    OK    OK    OK  UNNEEDED, same version is already published
kjohnson1macOS 13.6.1 Ventura / arm64see weekly results here
Package 137/241HostnameOS / ArchINSTALLBUILDCHECKBUILD BIN
minfi 1.48.0  (landing page)
Kasper Daniel Hansen
git_last_commit: aef0cde
git_last_commit_date: 2023-10-24 09:48:21 -0400
nebbiolo2Linux (Ubuntu 22.04.3 LTS) / x86_64  OK    OK    OK  UNNEEDED, same version is already published
palomino4Windows Server 2022 Datacenter / x64  OK    OK    OK    OK  UNNEEDED, same version is already published
merida1macOS 12.7.1 Monterey / x86_64  OK    OK    OK    OK  UNNEEDED, same version is already published
kjohnson1macOS 13.6.1 Ventura / arm64see weekly results here
Package 138/241HostnameOS / ArchINSTALLBUILDCHECKBUILD BIN
miRLAB 1.32.0  (landing page)
Thuc Duy Le
git_last_commit: 10514c4
git_last_commit_date: 2023-10-24 10:44:22 -0400
nebbiolo2Linux (Ubuntu 22.04.3 LTS) / x86_64  OK    OK    WARNINGS  UNNEEDED, same version is already published
palomino4Windows Server 2022 Datacenter / x64  OK    OK    WARNINGS    OK  UNNEEDED, same version is already published
merida1macOS 12.7.1 Monterey / x86_64  OK    OK    WARNINGS    OK  UNNEEDED, same version is already published
kjohnson1macOS 13.6.1 Ventura / arm64see weekly results here
Package 139/241HostnameOS / ArchINSTALLBUILDCHECKBUILD BIN
missMethyl 1.36.0  (landing page)
Belinda Phipson
git_last_commit: 7853a3c
git_last_commit_date: 2023-10-24 10:00:11 -0400
nebbiolo2Linux (Ubuntu 22.04.3 LTS) / x86_64  OK    OK    OK  UNNEEDED, same version is already published
palomino4Windows Server 2022 Datacenter / x64  OK    OK    OK    OK  UNNEEDED, same version is already published
merida1macOS 12.7.1 Monterey / x86_64  OK    OK    OK    OK  UNNEEDED, same version is already published
kjohnson1macOS 13.6.1 Ventura / arm64see weekly results here
Package 140/241HostnameOS / ArchINSTALLBUILDCHECKBUILD BIN
MLSeq 2.20.0  (landing page)
Gokmen Zararsiz
git_last_commit: d41d6a4
git_last_commit_date: 2023-10-24 09:57:54 -0400
nebbiolo2Linux (Ubuntu 22.04.3 LTS) / x86_64  OK    OK    OK  UNNEEDED, same version is already published
palomino4Windows Server 2022 Datacenter / x64  OK    OK    OK    OK  UNNEEDED, same version is already published
merida1macOS 12.7.1 Monterey / x86_64  OK    OK    OK    OK  UNNEEDED, same version is already published
kjohnson1macOS 13.6.1 Ventura / arm64see weekly results here
Package 141/241HostnameOS / ArchINSTALLBUILDCHECKBUILD BIN
moanin 1.10.0  (landing page)
Nelle Varoquaux
git_last_commit: 92c0bad
git_last_commit_date: 2023-10-24 11:28:06 -0400
nebbiolo2Linux (Ubuntu 22.04.3 LTS) / x86_64  OK    OK    OK  UNNEEDED, same version is already published
palomino4Windows Server 2022 Datacenter / x64  OK    OK    OK    OK  UNNEEDED, same version is already published
merida1macOS 12.7.1 Monterey / x86_64  OK    OK    OK    OK  UNNEEDED, same version is already published
kjohnson1macOS 13.6.1 Ventura / arm64see weekly results here
Package 142/241HostnameOS / ArchINSTALLBUILDCHECKBUILD BIN
monocle 2.30.0  (landing page)
Cole Trapnell
git_last_commit: 92ad7db
git_last_commit_date: 2023-10-24 09:59:09 -0400
nebbiolo2Linux (Ubuntu 22.04.3 LTS) / x86_64  ERROR    ERROR  skipped
palomino4Windows Server 2022 Datacenter / x64  ERROR    ERROR  skippedskipped
merida1macOS 12.7.1 Monterey / x86_64  ERROR    ERROR  skippedskipped
kjohnson1macOS 13.6.1 Ventura / arm64see weekly results here
Package 143/241HostnameOS / ArchINSTALLBUILDCHECKBUILD BIN
MoonlightR 1.28.0  (landing page)
Matteo Tiberti
git_last_commit: 7dada82
git_last_commit_date: 2023-10-24 10:53:29 -0400
nebbiolo2Linux (Ubuntu 22.04.3 LTS) / x86_64  OK    OK    OK  UNNEEDED, same version is already published
palomino4Windows Server 2022 Datacenter / x64  OK    OK    OK    OK  UNNEEDED, same version is already published
merida1macOS 12.7.1 Monterey / x86_64  OK    OK    OK    OK  UNNEEDED, same version is already published
kjohnson1macOS 13.6.1 Ventura / arm64see weekly results here
Package 144/241HostnameOS / ArchINSTALLBUILDCHECKBUILD BIN
mpra 1.24.0  (landing page)
Leslie Myint
git_last_commit: 3d39300
git_last_commit_date: 2023-10-24 11:01:16 -0400
nebbiolo2Linux (Ubuntu 22.04.3 LTS) / x86_64  OK    OK    OK  UNNEEDED, same version is already published
palomino4Windows Server 2022 Datacenter / x64  OK    OK    OK    OK  UNNEEDED, same version is already published
merida1macOS 12.7.1 Monterey / x86_64  OK    OK    OK    OK  UNNEEDED, same version is already published
kjohnson1macOS 13.6.1 Ventura / arm64see weekly results here
Package 145/241HostnameOS / ArchINSTALLBUILDCHECKBUILD BIN
msImpute 1.12.0  (landing page)
Soroor Hediyeh-zadeh
git_last_commit: 01032d5
git_last_commit_date: 2023-10-24 11:25:52 -0400
nebbiolo2Linux (Ubuntu 22.04.3 LTS) / x86_64  OK    OK    OK  UNNEEDED, same version is already published
palomino4Windows Server 2022 Datacenter / x64  OK    OK    OK    OK  UNNEEDED, same version is already published
merida1macOS 12.7.1 Monterey / x86_64  OK    OK    OK    OK  UNNEEDED, same version is already published
kjohnson1macOS 13.6.1 Ventura / arm64see weekly results here
Package 146/241HostnameOS / ArchINSTALLBUILDCHECKBUILD BIN
msqrob2 1.10.0  (landing page)
Lieven Clement
git_last_commit: 6bf2b78
git_last_commit_date: 2023-10-24 11:33:44 -0400
nebbiolo2Linux (Ubuntu 22.04.3 LTS) / x86_64  OK    OK    OK  UNNEEDED, same version is already published
palomino4Windows Server 2022 Datacenter / x64  OK    OK    OK    OK  UNNEEDED, same version is already published
merida1macOS 12.7.1 Monterey / x86_64  OK    OK    OK    OK  UNNEEDED, same version is already published
kjohnson1macOS 13.6.1 Ventura / arm64see weekly results here
Package 147/241HostnameOS / ArchINSTALLBUILDCHECKBUILD BIN
MSstats 4.10.1  (landing page)
Meena Choi
git_last_commit: c4264fc
git_last_commit_date: 2024-02-28 16:17:00 -0400
nebbiolo2Linux (Ubuntu 22.04.3 LTS) / x86_64  OK    OK    WARNINGS  UNNEEDED, same version is already published
palomino4Windows Server 2022 Datacenter / x64  OK    OK    WARNINGS    OK  UNNEEDED, same version is already published
merida1macOS 12.7.1 Monterey / x86_64  OK    OK    WARNINGS    OK  UNNEEDED, same version is already published
kjohnson1macOS 13.6.1 Ventura / arm64see weekly results here
Package 148/241HostnameOS / ArchINSTALLBUILDCHECKBUILD BIN
MSstatsTMT 2.10.0  (landing page)
Ting Huang
git_last_commit: 0d6344a
git_last_commit_date: 2023-10-24 11:08:30 -0400
nebbiolo2Linux (Ubuntu 22.04.3 LTS) / x86_64  OK    OK    OK  UNNEEDED, same version is already published
palomino4Windows Server 2022 Datacenter / x64  OK    OK    OK    OK  UNNEEDED, same version is already published
merida1macOS 12.7.1 Monterey / x86_64  OK    OK    OK    OK  UNNEEDED, same version is already published
kjohnson1macOS 13.6.1 Ventura / arm64see weekly results here
Package 149/241HostnameOS / ArchINSTALLBUILDCHECKBUILD BIN
MultiDataSet 1.30.0  (landing page)
Xavier Escribà Montagut
git_last_commit: 862a4bc
git_last_commit_date: 2023-10-24 10:49:56 -0400
nebbiolo2Linux (Ubuntu 22.04.3 LTS) / x86_64  OK    OK    WARNINGS  UNNEEDED, same version is already published
palomino4Windows Server 2022 Datacenter / x64  OK    OK    WARNINGS    OK  UNNEEDED, same version is already published
merida1macOS 12.7.1 Monterey / x86_64  OK    OK    WARNINGS    OK  UNNEEDED, same version is already published
kjohnson1macOS 13.6.1 Ventura / arm64see weekly results here
Package 150/241HostnameOS / ArchINSTALLBUILDCHECKBUILD BIN
muscat 1.16.0  (landing page)
Helena L. Crowell
git_last_commit: 448b1e8
git_last_commit_date: 2023-10-24 11:16:01 -0400
nebbiolo2Linux (Ubuntu 22.04.3 LTS) / x86_64  OK    OK    OK  UNNEEDED, same version is already published
palomino4Windows Server 2022 Datacenter / x64  OK    OK    OK    OK  UNNEEDED, same version is already published
merida1macOS 12.7.1 Monterey / x86_64  OK    OK    OK    OK  UNNEEDED, same version is already published
kjohnson1macOS 13.6.1 Ventura / arm64see weekly results here
Package 151/241HostnameOS / ArchINSTALLBUILDCHECKBUILD BIN
NADfinder 1.26.0  (landing page)
Jianhong Ou
git_last_commit: d34108b
git_last_commit_date: 2023-10-24 10:56:31 -0400
nebbiolo2Linux (Ubuntu 22.04.3 LTS) / x86_64  OK    OK    OK  UNNEEDED, same version is already published
palomino4Windows Server 2022 Datacenter / x64  OK    OK    OK    OK  UNNEEDED, same version is already published
merida1macOS 12.7.1 Monterey / x86_64  OK    OK    OK    OK  UNNEEDED, same version is already published
kjohnson1macOS 13.6.1 Ventura / arm64see weekly results here
Package 152/241HostnameOS / ArchINSTALLBUILDCHECKBUILD BIN
NanoMethViz 2.8.1  (landing page)
Shian Su
git_last_commit: 1d8a149
git_last_commit_date: 2023-11-07 20:56:11 -0400
nebbiolo2Linux (Ubuntu 22.04.3 LTS) / x86_64  OK    OK    OK  UNNEEDED, same version is already published
palomino4Windows Server 2022 Datacenter / x64  OK    OK    OK    OK  UNNEEDED, same version is already published
merida1macOS 12.7.1 Monterey / x86_64  OK    OK    OK    OK  UNNEEDED, same version is already published
kjohnson1macOS 13.6.1 Ventura / arm64see weekly results here
Package 153/241HostnameOS / ArchINSTALLBUILDCHECKBUILD BIN
NanoTube 1.8.0  (landing page)
Caleb Class
git_last_commit: 61097e4
git_last_commit_date: 2023-10-24 11:34:25 -0400
nebbiolo2Linux (Ubuntu 22.04.3 LTS) / x86_64  OK    OK    OK  UNNEEDED, same version is already published
palomino4Windows Server 2022 Datacenter / x64  OK    OK    OK    OK  UNNEEDED, same version is already published
merida1macOS 12.7.1 Monterey / x86_64  OK    OK    OK    OK  UNNEEDED, same version is already published
kjohnson1macOS 13.6.1 Ventura / arm64see weekly results here
Package 154/241HostnameOS / ArchINSTALLBUILDCHECKBUILD BIN
nethet 1.34.0  (landing page)
Nicolas Staedler
git_last_commit: e771f90
git_last_commit_date: 2023-10-24 10:40:40 -0400
nebbiolo2Linux (Ubuntu 22.04.3 LTS) / x86_64  OK    OK    WARNINGS  UNNEEDED, same version is already published
palomino4Windows Server 2022 Datacenter / x64  OK    OK    WARNINGS    OK  UNNEEDED, same version is already published
merida1macOS 12.7.1 Monterey / x86_64  OK    OK    WARNINGS    OK  UNNEEDED, same version is already published
kjohnson1macOS 13.6.1 Ventura / arm64see weekly results here
Package 155/241HostnameOS / ArchINSTALLBUILDCHECKBUILD BIN
NeuCA 1.8.1  (landing page)
Hao Feng
git_last_commit: 4eb0e42
git_last_commit_date: 2024-03-08 13:58:04 -0400
nebbiolo2Linux (Ubuntu 22.04.3 LTS) / x86_64  OK    OK    OK  UNNEEDED, same version is already published
palomino4Windows Server 2022 Datacenter / x64  OK    OK    OK    OK  UNNEEDED, same version is already published
merida1macOS 12.7.1 Monterey / x86_64  OK    OK    OK    OK  UNNEEDED, same version is already published
kjohnson1macOS 13.6.1 Ventura / arm64see weekly results here
Package 156/241HostnameOS / ArchINSTALLBUILDCHECKBUILD BIN
nondetects 2.32.0  (landing page)
Valeriia Sherina
git_last_commit: 326a610
git_last_commit_date: 2023-10-24 09:58:12 -0400
nebbiolo2Linux (Ubuntu 22.04.3 LTS) / x86_64  OK    OK    OK  UNNEEDED, same version is already published
palomino4Windows Server 2022 Datacenter / x64  OK    OK    OK    OK  UNNEEDED, same version is already published
merida1macOS 12.7.1 Monterey / x86_64  OK    OK    OK    OK  UNNEEDED, same version is already published
kjohnson1macOS 13.6.1 Ventura / arm64see weekly results here
Package 157/241HostnameOS / ArchINSTALLBUILDCHECKBUILD BIN
NormalyzerDE 1.20.0  (landing page)
Jakob Willforss
git_last_commit: 663e7cd
git_last_commit_date: 2023-10-24 11:07:40 -0400
nebbiolo2Linux (Ubuntu 22.04.3 LTS) / x86_64  OK    OK    OK  UNNEEDED, same version is already published
palomino4Windows Server 2022 Datacenter / x64  OK    OK    OK    OK  UNNEEDED, same version is already published
merida1macOS 12.7.1 Monterey / x86_64  OK    OK    OK    OK  UNNEEDED, same version is already published
kjohnson1macOS 13.6.1 Ventura / arm64see weekly results here
Package 158/241HostnameOS / ArchINSTALLBUILDCHECKBUILD BIN
octad 1.4.0  (landing page)
E. Chekalin
git_last_commit: 4fe9b79
git_last_commit_date: 2023-10-24 11:45:19 -0400
nebbiolo2Linux (Ubuntu 22.04.3 LTS) / x86_64  OK    OK    OK  UNNEEDED, same version is already published
palomino4Windows Server 2022 Datacenter / x64  OK    OK    OK    OK  UNNEEDED, same version is already published
merida1macOS 12.7.1 Monterey / x86_64  OK    OK    OK    OK  UNNEEDED, same version is already published
kjohnson1macOS 13.6.1 Ventura / arm64see weekly results here
Package 159/241HostnameOS / ArchINSTALLBUILDCHECKBUILD BIN
OLIN 1.80.0  (landing page)
Matthias Futschik
git_last_commit: aafe32f
git_last_commit_date: 2023-10-24 09:33:51 -0400
nebbiolo2Linux (Ubuntu 22.04.3 LTS) / x86_64  OK    OK    OK  UNNEEDED, same version is already published
palomino4Windows Server 2022 Datacenter / x64  OK    OK    OK    OK  UNNEEDED, same version is already published
merida1macOS 12.7.1 Monterey / x86_64  OK    OK    OK    OK  UNNEEDED, same version is already published
kjohnson1macOS 13.6.1 Ventura / arm64see weekly results here
Package 160/241HostnameOS / ArchINSTALLBUILDCHECKBUILD BIN
omicRexposome 1.24.3  (landing page)
Xavier Escribà Montagut
git_last_commit: 7937bee
git_last_commit_date: 2024-02-12 19:05:37 -0400
nebbiolo2Linux (Ubuntu 22.04.3 LTS) / x86_64  OK    OK    OK  UNNEEDED, same version is already published
palomino4Windows Server 2022 Datacenter / x64  OK    OK    OK    OK  UNNEEDED, same version is already published
merida1macOS 12.7.1 Monterey / x86_64  OK    OK    OK    OK  UNNEEDED, same version is already published
kjohnson1macOS 13.6.1 Ventura / arm64see weekly results here
Package 161/241HostnameOS / ArchINSTALLBUILDCHECKBUILD BIN
oppti 1.16.0  (landing page)
Abdulkadir Elmas
git_last_commit: 7684319
git_last_commit_date: 2023-10-24 11:17:45 -0400
nebbiolo2Linux (Ubuntu 22.04.3 LTS) / x86_64  OK    OK    WARNINGS  UNNEEDED, same version is already published
palomino4Windows Server 2022 Datacenter / x64  OK    OK    WARNINGS    OK  UNNEEDED, same version is already published
merida1macOS 12.7.1 Monterey / x86_64  OK    OK    WARNINGS    OK  UNNEEDED, same version is already published
kjohnson1macOS 13.6.1 Ventura / arm64see weekly results here
Package 162/241HostnameOS / ArchINSTALLBUILDCHECKBUILD BIN
OVESEG 1.18.0  (landing page)
Lulu Chen
git_last_commit: f01b152
git_last_commit_date: 2023-10-24 11:10:21 -0400
nebbiolo2Linux (Ubuntu 22.04.3 LTS) / x86_64  OK    OK    OK  UNNEEDED, same version is already published
palomino4Windows Server 2022 Datacenter / x64  OK    OK    OK    OK  UNNEEDED, same version is already published
merida1macOS 12.7.1 Monterey / x86_64  OK    OK    OK    OK  UNNEEDED, same version is already published
kjohnson1macOS 13.6.1 Ventura / arm64see weekly results here
Package 163/241HostnameOS / ArchINSTALLBUILDCHECKBUILD BIN
PAA 1.36.0  (landing page)
Michael Turewicz , Martin Eisenacher
git_last_commit: a526b6a
git_last_commit_date: 2023-10-24 10:39:15 -0400
nebbiolo2Linux (Ubuntu 22.04.3 LTS) / x86_64  OK    OK    OK  UNNEEDED, same version is already published
palomino4Windows Server 2022 Datacenter / x64  OK    OK    OK    OK  UNNEEDED, same version is already published
merida1macOS 12.7.1 Monterey / x86_64  OK    OK    OK    OK  UNNEEDED, same version is already published
kjohnson1macOS 13.6.1 Ventura / arm64see weekly results here
Package 164/241HostnameOS / ArchINSTALLBUILDCHECKBUILD BIN
PADOG 1.44.0  (landing page)
Adi L. Tarca
git_last_commit: da280c7
git_last_commit_date: 2023-10-24 09:50:47 -0400
nebbiolo2Linux (Ubuntu 22.04.3 LTS) / x86_64  OK    OK    OK  UNNEEDED, same version is already published
palomino4Windows Server 2022 Datacenter / x64  OK    OK    OK    OK  UNNEEDED, same version is already published
merida1macOS 12.7.1 Monterey / x86_64  OK    OK    OK    OK  UNNEEDED, same version is already published
kjohnson1macOS 13.6.1 Ventura / arm64see weekly results here
Package 165/241HostnameOS / ArchINSTALLBUILDCHECKBUILD BIN
pairedGSEA 1.2.0  (landing page)
Søren Helweg Dam
git_last_commit: f15ecbd
git_last_commit_date: 2023-10-24 11:48:40 -0400
nebbiolo2Linux (Ubuntu 22.04.3 LTS) / x86_64  OK    OK    OK  UNNEEDED, same version is already published
palomino4Windows Server 2022 Datacenter / x64  OK    OK    OK    OK  UNNEEDED, same version is already published
merida1macOS 12.7.1 Monterey / x86_64  OK    OK    OK    OK  UNNEEDED, same version is already published
kjohnson1macOS 13.6.1 Ventura / arm64see weekly results here
Package 166/241HostnameOS / ArchINSTALLBUILDCHECKBUILD BIN
PanomiR 1.6.0  (landing page)
Pourya Naderi
git_last_commit: dc6f6e3
git_last_commit_date: 2023-10-24 11:39:24 -0400
nebbiolo2Linux (Ubuntu 22.04.3 LTS) / x86_64  OK    OK    OK  UNNEEDED, same version is already published
palomino4Windows Server 2022 Datacenter / x64  OK    OK    OK    OK  UNNEEDED, same version is already published
merida1macOS 12.7.1 Monterey / x86_64  OK    OK    OK    OK  UNNEEDED, same version is already published
kjohnson1macOS 13.6.1 Ventura / arm64see weekly results here
Package 167/241HostnameOS / ArchINSTALLBUILDCHECKBUILD BIN
PathoStat 1.28.0  (landing page)
Solaiappan Manimaran
git_last_commit: e517c5e
git_last_commit_date: 2023-10-24 10:53:23 -0400
nebbiolo2Linux (Ubuntu 22.04.3 LTS) / x86_64  OK    OK    OK  UNNEEDED, same version is already published
palomino4Windows Server 2022 Datacenter / x64  OK    OK    OK    OK  UNNEEDED, same version is already published
merida1macOS 12.7.1 Monterey / x86_64  OK    OK    OK    OK  UNNEEDED, same version is already published
kjohnson1macOS 13.6.1 Ventura / arm64see weekly results here
Package 168/241HostnameOS / ArchINSTALLBUILDCHECKBUILD BIN
pcaExplorer 2.28.0  (landing page)
Federico Marini
git_last_commit: bc5fa86
git_last_commit_date: 2023-10-24 10:49:32 -0400
nebbiolo2Linux (Ubuntu 22.04.3 LTS) / x86_64  OK    OK    OK  UNNEEDED, same version is already published
palomino4Windows Server 2022 Datacenter / x64  OK    OK    OK    OK  UNNEEDED, same version is already published
merida1macOS 12.7.1 Monterey / x86_64  OK    OK    OK    OK  UNNEEDED, same version is already published
kjohnson1macOS 13.6.1 Ventura / arm64see weekly results here
Package 169/241HostnameOS / ArchINSTALLBUILDCHECKBUILD BIN
PECA 1.38.0  (landing page)
Tomi Suomi
git_last_commit: 5fa3be4
git_last_commit_date: 2023-10-24 09:56:52 -0400
nebbiolo2Linux (Ubuntu 22.04.3 LTS) / x86_64  OK    OK    OK  UNNEEDED, same version is already published
palomino4Windows Server 2022 Datacenter / x64  OK    OK    OK    OK  UNNEEDED, same version is already published
merida1macOS 12.7.1 Monterey / x86_64  OK    OK    OK    OK  UNNEEDED, same version is already published
kjohnson1macOS 13.6.1 Ventura / arm64see weekly results here
Package 170/241HostnameOS / ArchINSTALLBUILDCHECKBUILD BIN
pepStat 1.36.0  (landing page)
Gregory C Imholte
git_last_commit: d5c36a6
git_last_commit_date: 2023-10-24 09:59:46 -0400
nebbiolo2Linux (Ubuntu 22.04.3 LTS) / x86_64  OK    OK    OK  UNNEEDED, same version is already published
palomino4Windows Server 2022 Datacenter / x64  OK    OK    OK    OK  UNNEEDED, same version is already published
merida1macOS 12.7.1 Monterey / x86_64  OK    OK    OK    OK  UNNEEDED, same version is already published
kjohnson1macOS 13.6.1 Ventura / arm64see weekly results here
Package 171/241HostnameOS / ArchINSTALLBUILDCHECKBUILD BIN
phantasus 1.22.2  (landing page)
Alexey Sergushichev
git_last_commit: 64188e7
git_last_commit_date: 2023-11-15 12:34:18 -0400
nebbiolo2Linux (Ubuntu 22.04.3 LTS) / x86_64  OK    OK    ERROR  
palomino4Windows Server 2022 Datacenter / x64  OK    OK    OK    OK  UNNEEDED, same version is already published
merida1macOS 12.7.1 Monterey / x86_64  OK    OK    OK    OK  UNNEEDED, same version is already published
kjohnson1macOS 13.6.1 Ventura / arm64see weekly results here
Package 172/241HostnameOS / ArchINSTALLBUILDCHECKBUILD BIN
phenomis 1.4.0  (landing page)
Etienne A. Thevenot
git_last_commit: 94d5929
git_last_commit_date: 2023-10-24 11:43:52 -0400
nebbiolo2Linux (Ubuntu 22.04.3 LTS) / x86_64  OK    OK    OK  UNNEEDED, same version is already published
palomino4Windows Server 2022 Datacenter / x64  OK    OK    OK    OK  UNNEEDED, same version is already published
merida1macOS 12.7.1 Monterey / x86_64  OK    OK    OK    OK  UNNEEDED, same version is already published
kjohnson1macOS 13.6.1 Ventura / arm64see weekly results here
Package 173/241HostnameOS / ArchINSTALLBUILDCHECKBUILD BIN
phenoTest 1.50.0  (landing page)
Evarist Planet
git_last_commit: b499bc2
git_last_commit_date: 2023-10-24 09:45:37 -0400
nebbiolo2Linux (Ubuntu 22.04.3 LTS) / x86_64  OK    OK    WARNINGS  UNNEEDED, same version is already published
palomino4Windows Server 2022 Datacenter / x64  OK    OK    WARNINGS    OK  UNNEEDED, same version is already published
merida1macOS 12.7.1 Monterey / x86_64  OK    OK    WARNINGS    OK  UNNEEDED, same version is already published
kjohnson1macOS 13.6.1 Ventura / arm64see weekly results here
Package 174/241HostnameOS / ArchINSTALLBUILDCHECKBUILD BIN
PhosR 1.12.0  (landing page)
Taiyun Kim
git_last_commit: dfab942
git_last_commit_date: 2023-10-24 11:25:54 -0400
nebbiolo2Linux (Ubuntu 22.04.3 LTS) / x86_64  OK    OK    OK  UNNEEDED, same version is already published
palomino4Windows Server 2022 Datacenter / x64  OK    OK    OK    OK  UNNEEDED, same version is already published
merida1macOS 12.7.1 Monterey / x86_64  OK    OK    OK    OK  UNNEEDED, same version is already published
kjohnson1macOS 13.6.1 Ventura / arm64see weekly results here
Package 175/241HostnameOS / ArchINSTALLBUILDCHECKBUILD BIN
polyester 1.38.0  (landing page)
Jack Fu , Jeff Leek
git_last_commit: d768346
git_last_commit_date: 2023-10-24 10:38:53 -0400
nebbiolo2Linux (Ubuntu 22.04.3 LTS) / x86_64  OK    OK    OK  UNNEEDED, same version is already published
palomino4Windows Server 2022 Datacenter / x64  OK    OK    OK    OK  UNNEEDED, same version is already published
merida1macOS 12.7.1 Monterey / x86_64  OK    OK    OK    OK  UNNEEDED, same version is already published
kjohnson1macOS 13.6.1 Ventura / arm64see weekly results here
Package 176/241HostnameOS / ArchINSTALLBUILDCHECKBUILD BIN
POMA 1.12.0  (landing page)
Pol Castellano-Escuder
git_last_commit: 6e2f5bc
git_last_commit_date: 2024-02-10 21:44:51 -0400
nebbiolo2Linux (Ubuntu 22.04.3 LTS) / x86_64  OK    OK    OK  UNNEEDED, same version is already published
palomino4Windows Server 2022 Datacenter / x64  OK    OK    OK    OK  UNNEEDED, same version is already published
merida1macOS 12.7.1 Monterey / x86_64  OK    OK    OK    OK  UNNEEDED, same version is already published
kjohnson1macOS 13.6.1 Ventura / arm64see weekly results here
Package 177/241HostnameOS / ArchINSTALLBUILDCHECKBUILD BIN
POWSC 1.10.0  (landing page)
Kenong Su
git_last_commit: 128061c
git_last_commit_date: 2023-10-24 11:33:15 -0400
nebbiolo2Linux (Ubuntu 22.04.3 LTS) / x86_64  OK    OK    OK  UNNEEDED, same version is already published
palomino4Windows Server 2022 Datacenter / x64  OK    OK    OK    OK  UNNEEDED, same version is already published
merida1macOS 12.7.1 Monterey / x86_64  OK    OK    OK    OK  UNNEEDED, same version is already published
kjohnson1macOS 13.6.1 Ventura / arm64see weekly results here
Package 178/241HostnameOS / ArchINSTALLBUILDCHECKBUILD BIN
projectR 1.18.0  (landing page)
Genevieve Stein-O'Brien
git_last_commit: 91ca9bd
git_last_commit_date: 2023-10-24 11:12:08 -0400
nebbiolo2Linux (Ubuntu 22.04.3 LTS) / x86_64  OK    OK    OK  UNNEEDED, same version is already published
palomino4Windows Server 2022 Datacenter / x64  OK    OK    OK    OK  UNNEEDED, same version is already published
merida1macOS 12.7.1 Monterey / x86_64  OK    OK    OK    OK  UNNEEDED, same version is already published
kjohnson1macOS 13.6.1 Ventura / arm64see weekly results here
Package 179/241HostnameOS / ArchINSTALLBUILDCHECKBUILD BIN
protGear 1.6.0  (landing page)
Kennedy Mwai
git_last_commit: b98ee36
git_last_commit_date: 2023-10-24 11:40:55 -0400
nebbiolo2Linux (Ubuntu 22.04.3 LTS) / x86_64  OK    OK    OK  UNNEEDED, same version is already published
palomino4Windows Server 2022 Datacenter / x64  OK    OK    OK    OK  UNNEEDED, same version is already published
merida1macOS 12.7.1 Monterey / x86_64  OK    OK    OK    OK  UNNEEDED, same version is already published
kjohnson1macOS 13.6.1 Ventura / arm64see weekly results here
Package 180/241HostnameOS / ArchINSTALLBUILDCHECKBUILD BIN
psichomics 1.28.1  (landing page)
Nuno Saraiva-Agostinho
git_last_commit: 444a86a
git_last_commit_date: 2024-02-04 17:55:30 -0400
nebbiolo2Linux (Ubuntu 22.04.3 LTS) / x86_64  OK    OK    OK  UNNEEDED, same version is already published
palomino4Windows Server 2022 Datacenter / x64  OK    OK    OK    OK  UNNEEDED, same version is already published
merida1macOS 12.7.1 Monterey / x86_64  OK    OK    OK    OK  UNNEEDED, same version is already published
kjohnson1macOS 13.6.1 Ventura / arm64see weekly results here
Package 181/241HostnameOS / ArchINSTALLBUILDCHECKBUILD BIN
pwrEWAS 1.16.0  (landing page)
Stefan Graw
git_last_commit: d28a7ab
git_last_commit_date: 2023-10-24 11:16:30 -0400
nebbiolo2Linux (Ubuntu 22.04.3 LTS) / x86_64  OK    OK    ERROR  
palomino4Windows Server 2022 Datacenter / x64  ERROR    ERROR  skippedskipped
merida1macOS 12.7.1 Monterey / x86_64  ERROR    ERROR  skippedskipped
kjohnson1macOS 13.6.1 Ventura / arm64see weekly results here
Package 182/241HostnameOS / ArchINSTALLBUILDCHECKBUILD BIN
qmtools 1.6.0  (landing page)
Jaehyun Joo
git_last_commit: 48d7be4
git_last_commit_date: 2023-10-24 11:41:06 -0400
nebbiolo2Linux (Ubuntu 22.04.3 LTS) / x86_64  OK    OK    OK  UNNEEDED, same version is already published
palomino4Windows Server 2022 Datacenter / x64  OK    OK    OK    OK  UNNEEDED, same version is already published
merida1macOS 12.7.1 Monterey / x86_64  OK    OK    OK    OK  UNNEEDED, same version is already published
kjohnson1macOS 13.6.1 Ventura / arm64see weekly results here
Package 183/241HostnameOS / ArchINSTALLBUILDCHECKBUILD BIN
qpcrNorm 1.60.0  (landing page)
Jessica Mar
git_last_commit: 93f1931
git_last_commit_date: 2023-10-24 09:41:44 -0400
nebbiolo2Linux (Ubuntu 22.04.3 LTS) / x86_64  OK    OK    OK  UNNEEDED, same version is already published
palomino4Windows Server 2022 Datacenter / x64  OK    OK    OK    OK  UNNEEDED, same version is already published
merida1macOS 12.7.1 Monterey / x86_64  OK    OK    OK    OK  UNNEEDED, same version is already published
kjohnson1macOS 13.6.1 Ventura / arm64see weekly results here
Package 184/241HostnameOS / ArchINSTALLBUILDCHECKBUILD BIN
qPLEXanalyzer 1.20.0  (landing page)
Ashley Sawle
git_last_commit: 18ccb64
git_last_commit_date: 2023-10-24 11:06:20 -0400
nebbiolo2Linux (Ubuntu 22.04.3 LTS) / x86_64  OK    OK    OK  UNNEEDED, same version is already published
palomino4Windows Server 2022 Datacenter / x64  OK    OK    OK    OK  UNNEEDED, same version is already published
merida1macOS 12.7.1 Monterey / x86_64  OK    OK    OK    OK  UNNEEDED, same version is already published
kjohnson1macOS 13.6.1 Ventura / arm64see weekly results here
Package 185/241HostnameOS / ArchINSTALLBUILDCHECKBUILD BIN
qsea 1.28.0  (landing page)
Matthias Lienhard
git_last_commit: f1623a1
git_last_commit_date: 2023-10-24 10:51:07 -0400
nebbiolo2Linux (Ubuntu 22.04.3 LTS) / x86_64  OK    OK    OK  UNNEEDED, same version is already published
palomino4Windows Server 2022 Datacenter / x64  OK    OK    OK    OK  UNNEEDED, same version is already published
merida1macOS 12.7.1 Monterey / x86_64  OK    OK    OK    OK  UNNEEDED, same version is already published
kjohnson1macOS 13.6.1 Ventura / arm64see weekly results here
Package 186/241HostnameOS / ArchINSTALLBUILDCHECKBUILD BIN
qusage 2.36.0  (landing page)
Christopher Bolen
git_last_commit: c1eeb57
git_last_commit_date: 2023-10-24 09:55:35 -0400
nebbiolo2Linux (Ubuntu 22.04.3 LTS) / x86_64  OK    OK    OK  UNNEEDED, same version is already published
palomino4Windows Server 2022 Datacenter / x64  OK    OK    OK    OK  UNNEEDED, same version is already published
merida1macOS 12.7.1 Monterey / x86_64  OK    OK    OK    OK  UNNEEDED, same version is already published
kjohnson1macOS 13.6.1 Ventura / arm64see weekly results here
Package 187/241HostnameOS / ArchINSTALLBUILDCHECKBUILD BIN
RBM 1.34.0  (landing page)
Dongmei Li
git_last_commit: 3913399
git_last_commit_date: 2023-10-24 10:42:33 -0400
nebbiolo2Linux (Ubuntu 22.04.3 LTS) / x86_64  OK    OK    OK  UNNEEDED, same version is already published
palomino4Windows Server 2022 Datacenter / x64  OK    OK    OK    OK  UNNEEDED, same version is already published
merida1macOS 12.7.1 Monterey / x86_64  OK    OK    OK    OK  UNNEEDED, same version is already published
kjohnson1macOS 13.6.1 Ventura / arm64see weekly results here
Package 188/241HostnameOS / ArchINSTALLBUILDCHECKBUILD BIN
rCGH 1.32.0  (landing page)
Frederic Commo
git_last_commit: f44b331
git_last_commit_date: 2023-10-24 10:44:17 -0400
nebbiolo2Linux (Ubuntu 22.04.3 LTS) / x86_64  OK    OK    OK  UNNEEDED, same version is already published
palomino4Windows Server 2022 Datacenter / x64  OK    OK    OK    OK  UNNEEDED, same version is already published
merida1macOS 12.7.1 Monterey / x86_64  OK    OK    OK    OK  UNNEEDED, same version is already published
kjohnson1macOS 13.6.1 Ventura / arm64see weekly results here
Package 189/241HostnameOS / ArchINSTALLBUILDCHECKBUILD BIN
RegEnrich 1.12.0  (landing page)
Weiyang Tao
git_last_commit: 0524ae6
git_last_commit_date: 2023-10-24 11:23:04 -0400
nebbiolo2Linux (Ubuntu 22.04.3 LTS) / x86_64  OK    OK    ERROR  
palomino4Windows Server 2022 Datacenter / x64  OK    OK    OK    OK  UNNEEDED, same version is already published
merida1macOS 12.7.1 Monterey / x86_64  OK    OK    OK    OK  UNNEEDED, same version is already published
kjohnson1macOS 13.6.1 Ventura / arm64see weekly results here
Package 190/241HostnameOS / ArchINSTALLBUILDCHECKBUILD BIN
regsplice 1.28.1  (landing page)
Lukas M. Weber
git_last_commit: f1c2b5c
git_last_commit_date: 2024-03-17 14:39:00 -0400
nebbiolo2Linux (Ubuntu 22.04.3 LTS) / x86_64  OK    OK    OK  UNNEEDED, same version is already published
palomino4Windows Server 2022 Datacenter / x64  OK    OK    OK    OK  UNNEEDED, same version is already published
merida1macOS 12.7.1 Monterey / x86_64  OK    OK    OK    OK