Back to Multiple platform build/check report for BioC 3.19:   simplified   long
ABCDEFGHIJK[L]MNOPQRSTUVWXYZ

This page was generated on 2024-06-07 20:25 -0400 (Fri, 07 Jun 2024).

HostnameOSArch (*)R versionInstalled pkgs
nebbiolo1Linux (Ubuntu 22.04.3 LTS)x86_644.4.0 (2024-04-24) -- "Puppy Cup" 4755
palomino3Windows Server 2022 Datacenterx644.4.0 (2024-04-24 ucrt) -- "Puppy Cup" 4489
lconwaymacOS 12.7.1 Montereyx86_644.4.0 (2024-04-24) -- "Puppy Cup" 4520
kjohnson3macOS 13.6.5 Venturaarm644.4.0 (2024-04-24) -- "Puppy Cup" 4466
Click on any hostname to see more info about the system (e.g. compilers)      (*) as reported by 'uname -p', except on Windows and Mac OS X

Package 1109/2300HostnameOS / ArchINSTALLBUILDCHECKBUILD BIN
lfa 2.4.0  (landing page)
Alejandro Ochoa
Snapshot Date: 2024-06-05 14:00:26 -0400 (Wed, 05 Jun 2024)
git_url: https://git.bioconductor.org/packages/lfa
git_branch: RELEASE_3_19
git_last_commit: b08bc44
git_last_commit_date: 2024-04-30 11:49:49 -0400 (Tue, 30 Apr 2024)
nebbiolo1Linux (Ubuntu 22.04.3 LTS) / x86_64  OK    OK    OK  UNNEEDED, same version is already published
palomino3Windows Server 2022 Datacenter / x64  OK    OK    OK    OK  UNNEEDED, same version is already published
lconwaymacOS 12.7.1 Monterey / x86_64  OK    OK    OK    OK  UNNEEDED, same version is already published
kjohnson3macOS 13.6.5 Ventura / arm64  OK    OK    OK    OK  UNNEEDED, same version is already published


BUILD BIN results for lfa on palomino3

To the developers/maintainers of the lfa package:
- Allow up to 24 hours (and sometimes 48 hours) for your latest push to git@git.bioconductor.org:packages/lfa.git to reflect on this report. See Troubleshooting Build Report for more information.
- Use the following Renviron settings to reproduce errors and warnings.
- If 'R CMD check' started to fail recently on the Linux builder(s) over a missing dependency, add the missing dependency to 'Suggests:' in your DESCRIPTION file. See Renviron.bioc for more information.

raw results


Summary

Package: lfa
Version: 2.4.0
Command: rm -rf lfa.buildbin-libdir && mkdir lfa.buildbin-libdir && F:\biocbuild\bbs-3.19-bioc\R\bin\R.exe CMD INSTALL --build --library=lfa.buildbin-libdir lfa_2.4.0.tar.gz
StartedAt: 2024-06-06 15:56:14 -0400 (Thu, 06 Jun 2024)
EndedAt: 2024-06-06 15:57:09 -0400 (Thu, 06 Jun 2024)
EllapsedTime: 54.8 seconds
RetCode: 0
Status:   OK  
PackageFile: lfa_2.4.0.zip
PackageFileSize: 521.7 KiB

Command output

##############################################################################
##############################################################################
###
### Running command:
###
###   rm -rf lfa.buildbin-libdir && mkdir lfa.buildbin-libdir && F:\biocbuild\bbs-3.19-bioc\R\bin\R.exe CMD INSTALL --build --library=lfa.buildbin-libdir lfa_2.4.0.tar.gz
###
##############################################################################
##############################################################################


* installing *source* package 'lfa' ...
** using staged installation
** libs
using C compiler: 'gcc.exe (GCC) 13.2.0'
gcc  -I"F:/biocbuild/bbs-3.19-bioc/R/include" -DNDEBUG     -I"C:/rtools44/x86_64-w64-mingw32.static.posix/include"     -O2 -Wall  -mfpmath=sse -msse2 -mstackrealign  -c fastmat.c -o fastmat.o
gcc  -I"F:/biocbuild/bbs-3.19-bioc/R/include" -DNDEBUG     -I"C:/rtools44/x86_64-w64-mingw32.static.posix/include"     -O2 -Wall  -mfpmath=sse -msse2 -mstackrealign  -c lfa-init.c -o lfa-init.o
gcc  -I"F:/biocbuild/bbs-3.19-bioc/R/include" -DNDEBUG     -I"C:/rtools44/x86_64-w64-mingw32.static.posix/include"     -O2 -Wall  -mfpmath=sse -msse2 -mstackrealign  -c lfa.c -o lfa.o
gcc  -I"F:/biocbuild/bbs-3.19-bioc/R/include" -DNDEBUG     -I"C:/rtools44/x86_64-w64-mingw32.static.posix/include"     -O2 -Wall  -mfpmath=sse -msse2 -mstackrealign  -c lreg.c -o lreg.o
gcc -shared -s -static-libgcc -o lfa.dll tmp.def fastmat.o lfa-init.o lfa.o lreg.o -LF:/biocbuild/bbs-3.19-bioc/R/bin/x64 -lRlapack -LF:/biocbuild/bbs-3.19-bioc/R/bin/x64 -lRblas -lgfortran -lm -lquadmath -LC:/rtools44/x86_64-w64-mingw32.static.posix/lib/x64 -LC:/rtools44/x86_64-w64-mingw32.static.posix/lib -LF:/biocbuild/bbs-3.19-bioc/R/bin/x64 -lR
installing to F:/biocbuild/bbs-3.19-bioc/meat/lfa.buildbin-libdir/00LOCK-lfa/00new/lfa/libs/x64
** R
** data
*** moving datasets to lazyload DB
** inst
** byte-compile and prepare package for lazy loading
** help
*** installing help indices
** building package indices
** installing vignettes
** testing if installed package can be loaded from temporary location
** testing if installed package can be loaded from final location
** testing if installed package keeps a record of temporary installation path
* MD5 sums
packaged installation of 'lfa' as lfa_2.4.0.zip
* DONE (lfa)