Back to Multiple platform build/check report for BioC 3.13
ABCDEFGHIJK[L]MNOPQRSTUVWXYZ

This page was generated on 2021-09-17 15:06:10 -0400 (Fri, 17 Sep 2021).

INSTALL results for ldblock on tokay2

To the developers/maintainers of the ldblock package:
- Please allow up to 24 hours (and sometimes 48 hours) for your latest push to git@git.bioconductor.org:packages/ldblock.git to
reflect on this report. See How and When does the builder pull? When will my changes propagate? here for more information.
- Make sure to use the following settings in order to reproduce any error or warning you see on this page.

raw results

Package 978/2041HostnameOS / ArchINSTALLBUILDCHECKBUILD BIN
ldblock 1.22.1  (landing page)
VJ Carey
Snapshot Date: 2021-09-16 04:50:11 -0400 (Thu, 16 Sep 2021)
git_url: https://git.bioconductor.org/packages/ldblock
git_branch: RELEASE_3_13
git_last_commit: 6c98ba3
git_last_commit_date: 2021-07-28 17:02:28 -0400 (Wed, 28 Jul 2021)
nebbiolo1Linux (Ubuntu 20.04.2 LTS) / x86_64  OK    OK    OK  UNNEEDED, same version is already published
tokay2Windows Server 2012 R2 Standard / x64  OK    OK    OK    OK  UNNEEDED, same version is already published
machv2macOS 10.14.6 Mojave / x86_64  OK    OK    OK    OK  UNNEEDED, same version is already published

Summary

Package: ldblock
Version: 1.22.1
Command: C:\cygwin\bin\curl.exe -O http://155.52.207.165/BBS/3.13/bioc/src/contrib/ldblock_1.22.1.tar.gz && rm -rf ldblock.buildbin-libdir && mkdir ldblock.buildbin-libdir && C:\Users\biocbuild\bbs-3.13-bioc\R\bin\R.exe CMD INSTALL --merge-multiarch --build --library=ldblock.buildbin-libdir ldblock_1.22.1.tar.gz && C:\Users\biocbuild\bbs-3.13-bioc\R\bin\R.exe CMD INSTALL ldblock_1.22.1.zip && rm ldblock_1.22.1.tar.gz ldblock_1.22.1.zip
StartedAt: 2021-09-16 10:24:22 -0400 (Thu, 16 Sep 2021)
EndedAt: 2021-09-16 10:26:13 -0400 (Thu, 16 Sep 2021)
EllapsedTime: 111.7 seconds
RetCode: 0
Status:   OK  

Command output

##############################################################################
##############################################################################
###
### Running command:
###
###   C:\cygwin\bin\curl.exe -O http://155.52.207.165/BBS/3.13/bioc/src/contrib/ldblock_1.22.1.tar.gz && rm -rf ldblock.buildbin-libdir && mkdir ldblock.buildbin-libdir && C:\Users\biocbuild\bbs-3.13-bioc\R\bin\R.exe CMD INSTALL --merge-multiarch --build --library=ldblock.buildbin-libdir ldblock_1.22.1.tar.gz && C:\Users\biocbuild\bbs-3.13-bioc\R\bin\R.exe CMD INSTALL ldblock_1.22.1.zip && rm ldblock_1.22.1.tar.gz ldblock_1.22.1.zip
###
##############################################################################
##############################################################################


  % Total    % Received % Xferd  Average Speed   Time    Time     Time  Current
                                 Dload  Upload   Total   Spent    Left  Speed

  0     0    0     0    0     0      0      0 --:--:-- --:--:-- --:--:--     0
  0 39.7M    0 16223    0     0   135k      0  0:04:59 --:--:--  0:04:59  136k
  7 39.7M    7 3045k    0     0  2710k      0  0:00:15  0:00:01  0:00:14 2711k
 16 39.7M   16 6829k    0     0  3218k      0  0:00:12  0:00:02  0:00:10 3218k
 28 39.7M   28 11.1M    0     0  3654k      0  0:00:11  0:00:03  0:00:08 3654k
 42 39.7M   42 16.8M    0     0  4191k      0  0:00:09  0:00:04  0:00:05 4191k
 58 39.7M   58 23.4M    0     0  4693k      0  0:00:08  0:00:05  0:00:03 4799k
 76 39.7M   76 30.5M    0     0  5106k      0  0:00:07  0:00:06  0:00:01 5644k
 95 39.7M   95 37.9M    0     0  5458k      0  0:00:07  0:00:07 --:--:-- 6409k
100 39.7M  100 39.7M    0     0  5553k      0  0:00:07  0:00:07 --:--:-- 6966k

install for i386

* installing *source* package 'ldblock' ...
** using staged installation
** R
** data
*** moving datasets to lazyload DB
** inst
** byte-compile and prepare package for lazy loading
** help
*** installing help indices
  converting help for package 'ldblock'
    finding HTML links ... done
    EUR_singletons                          html  
    downloadPopByChr                        html  
    expandSnpSet                            html  
    hmld                                    html  
    ldByGene                                html  
    finding level-2 HTML links ... done

    ldblock-package                         html  
    ldmat-ldstruct-method                   html  
    ldmat                                   html  
    ldstruct-class                          html  
    s3_1kg                                  html  
    sampinf_1kg                             html  
    stack1kg                                html  
** building package indices
** installing vignettes
** testing if installed package can be loaded from temporary location
** testing if installed package can be loaded from final location
** testing if installed package keeps a record of temporary installation path

install for x64

* installing *source* package 'ldblock' ...
** testing if installed package can be loaded
* MD5 sums
packaged installation of 'ldblock' as ldblock_1.22.1.zip
* DONE (ldblock)
* installing to library 'C:/Users/biocbuild/bbs-3.13-bioc/R/library'
package 'ldblock' successfully unpacked and MD5 sums checked