Back to Multiple platform build/check report for BioC 3.13
ABCDEFGHIJK[L]MNOPQRSTUVWXYZ

This page was generated on 2021-09-17 15:06:10 -0400 (Fri, 17 Sep 2021).

BUILD BIN results for ldblock on tokay2

To the developers/maintainers of the ldblock package:
- Please allow up to 24 hours (and sometimes 48 hours) for your latest push to git@git.bioconductor.org:packages/ldblock.git to
reflect on this report. See How and When does the builder pull? When will my changes propagate? here for more information.
- Make sure to use the following settings in order to reproduce any error or warning you see on this page.

raw results

Package 978/2041HostnameOS / ArchINSTALLBUILDCHECKBUILD BIN
ldblock 1.22.1  (landing page)
VJ Carey
Snapshot Date: 2021-09-16 04:50:11 -0400 (Thu, 16 Sep 2021)
git_url: https://git.bioconductor.org/packages/ldblock
git_branch: RELEASE_3_13
git_last_commit: 6c98ba3
git_last_commit_date: 2021-07-28 17:02:28 -0400 (Wed, 28 Jul 2021)
nebbiolo1Linux (Ubuntu 20.04.2 LTS) / x86_64  OK    OK    OK  UNNEEDED, same version is already published
tokay2Windows Server 2012 R2 Standard / x64  OK    OK    OK    OK  UNNEEDED, same version is already published
machv2macOS 10.14.6 Mojave / x86_64  OK    OK    OK    OK  UNNEEDED, same version is already published

Summary

Package: ldblock
Version: 1.22.1
Command: rm -rf ldblock.buildbin-libdir && mkdir ldblock.buildbin-libdir && C:\Users\biocbuild\bbs-3.13-bioc\R\bin\R.exe CMD INSTALL --merge-multiarch --build --library=ldblock.buildbin-libdir ldblock_1.22.1.tar.gz
StartedAt: 2021-09-17 10:12:24 -0400 (Fri, 17 Sep 2021)
EndedAt: 2021-09-17 10:13:49 -0400 (Fri, 17 Sep 2021)
EllapsedTime: 84.6 seconds
RetCode: 0
Status:   OK  
PackageFile: ldblock_1.22.1.zip
PackageFileSize: 40.36 MiB

Command output

##############################################################################
##############################################################################
###
### Running command:
###
###   rm -rf ldblock.buildbin-libdir && mkdir ldblock.buildbin-libdir && C:\Users\biocbuild\bbs-3.13-bioc\R\bin\R.exe CMD INSTALL --merge-multiarch --build --library=ldblock.buildbin-libdir ldblock_1.22.1.tar.gz
###
##############################################################################
##############################################################################



install for i386

* installing *source* package 'ldblock' ...
** using staged installation
** R
** data
*** moving datasets to lazyload DB
** inst
** byte-compile and prepare package for lazy loading
** help
*** installing help indices
  converting help for package 'ldblock'
    finding HTML links ... done
    EUR_singletons                          html  
    downloadPopByChr                        html  
    expandSnpSet                            html  
    hmld                                    html  
    ldByGene                                html  
    finding level-2 HTML links ... done

    ldblock-package                         html  
    ldmat-ldstruct-method                   html  
    ldmat                                   html  
    ldstruct-class                          html  
    s3_1kg                                  html  
    sampinf_1kg                             html  
    stack1kg                                html  
** building package indices
** installing vignettes
** testing if installed package can be loaded from temporary location
** testing if installed package can be loaded from final location
** testing if installed package keeps a record of temporary installation path

install for x64

* installing *source* package 'ldblock' ...
** testing if installed package can be loaded
* MD5 sums
packaged installation of 'ldblock' as ldblock_1.22.1.zip
* DONE (ldblock)